| Back to Multiple platform build/check report for BioC 3.8 |
|
This page was generated on 2019-04-13 11:24:55 -0400 (Sat, 13 Apr 2019).
| Package 1302/1649 | Hostname | OS / Arch | INSTALL | BUILD | CHECK | BUILD BIN | ||||||
| rGREAT 1.14.0 Zuguang Gu
| malbec1 | Linux (Ubuntu 16.04.6 LTS) / x86_64 | OK | OK | OK | |||||||
| tokay1 | Windows Server 2012 R2 Standard / x64 | OK | OK | WARNINGS | [ OK ] | |||||||
| merida1 | OS X 10.11.6 El Capitan / x86_64 | OK | OK | OK | OK |
| Package: rGREAT |
| Version: 1.14.0 |
| Command: rm -rf rGREAT.buildbin-libdir && mkdir rGREAT.buildbin-libdir && C:\Users\biocbuild\bbs-3.8-bioc\R\bin\R.exe CMD INSTALL --merge-multiarch --build --library=rGREAT.buildbin-libdir rGREAT_1.14.0.tar.gz |
| StartedAt: 2019-04-13 07:51:51 -0400 (Sat, 13 Apr 2019) |
| EndedAt: 2019-04-13 07:52:02 -0400 (Sat, 13 Apr 2019) |
| EllapsedTime: 11.6 seconds |
| RetCode: 0 |
| Status: OK |
| PackageFile: rGREAT_1.14.0.zip |
| PackageFileSize: 905.4 KiB |
##############################################################################
##############################################################################
###
### Running command:
###
### rm -rf rGREAT.buildbin-libdir && mkdir rGREAT.buildbin-libdir && C:\Users\biocbuild\bbs-3.8-bioc\R\bin\R.exe CMD INSTALL --merge-multiarch --build --library=rGREAT.buildbin-libdir rGREAT_1.14.0.tar.gz
###
##############################################################################
##############################################################################
install for i386
* installing *source* package 'rGREAT' ...
** R
** inst
** byte-compile and prepare package for lazy loading
** help
*** installing help indices
converting help for package 'rGREAT'
finding HTML links ... done
GreatJob-class html
availableCategories-GreatJob-method html
availableOntologies-GreatJob-method html
getEnrichmentTables-GreatJob-method html
plotRegionGeneAssociationGraphs-GreatJob-method
html
Rd warning: C:/Users/biocbuild/bbs-3.8-bioc/tmpdir/RtmpAvgFc8/R.INSTALL1f305f73174d/rGREAT/man/plotRegionGeneAssociationGraphs-GreatJob-method.rd:39: file link 'GRanges' in package 'GenomicRanges' does not exist and so has been treated as a topic
submitGreatJob html
Rd warning: C:/Users/biocbuild/bbs-3.8-bioc/tmpdir/RtmpAvgFc8/R.INSTALL1f305f73174d/rGREAT/man/submitGreatJob.rd:26: file link 'GRanges' in package 'GenomicRanges' does not exist and so has been treated as a topic
Rd warning: C:/Users/biocbuild/bbs-3.8-bioc/tmpdir/RtmpAvgFc8/R.INSTALL1f305f73174d/rGREAT/man/submitGreatJob.rd:27: file link 'GRanges' in package 'GenomicRanges' does not exist and so has been treated as a topic
** building package indices
** installing vignettes
** testing if installed package can be loaded
In R CMD INSTALL
install for x64
* installing *source* package 'rGREAT' ...
** testing if installed package can be loaded
* MD5 sums
packaged installation of 'rGREAT' as rGREAT_1.14.0.zip
* DONE (rGREAT)
In R CMD INSTALL
In R CMD INSTALL