| Back to Multiple platform build/check report for BioC 3.8 | 
  | 
This page was generated on 2019-04-16 11:56:08 -0400 (Tue, 16 Apr 2019).
| Package 1239/1649 | Hostname | OS / Arch | INSTALL | BUILD | CHECK | BUILD BIN | ||||||
| r3Cseq 1.28.0 Supat Thongjuea 
  | malbec1 | Linux (Ubuntu 16.04.6 LTS) / x86_64 | OK | OK | OK | |||||||
| merida1 | OS X 10.11.6 El Capitan / x86_64 | OK | OK | OK | [ OK ] | 
| Package: r3Cseq | 
| Version: 1.28.0 | 
| Command: rm -rf r3Cseq.buildbin-libdir && mkdir r3Cseq.buildbin-libdir && /Users/biocbuild/BBS/utils/build-universal.sh r3Cseq_1.28.0.tar.gz /Library/Frameworks/R.framework/Versions/Current/Resources/bin/R r3Cseq.buildbin-libdir | 
| StartedAt: 2019-04-16 04:35:39 -0400 (Tue, 16 Apr 2019) | 
| EndedAt: 2019-04-16 04:36:23 -0400 (Tue, 16 Apr 2019) | 
| EllapsedTime: 43.9 seconds | 
| RetCode: 0 | 
| Status: OK | 
| PackageFile: r3Cseq_1.28.0.tgz | 
| PackageFileSize: 2.585 MiB | 
############################################################################## ############################################################################## ### ### Running command: ### ### rm -rf r3Cseq.buildbin-libdir && mkdir r3Cseq.buildbin-libdir && /Users/biocbuild/BBS/utils/build-universal.sh r3Cseq_1.28.0.tar.gz /Library/Frameworks/R.framework/Versions/Current/Resources/bin/R r3Cseq.buildbin-libdir ### ############################################################################## ############################################################################## >>>>>>> >>>>>>> INSTALLATION WITH 'R CMD INSTALL --preclean --no-multiarch --library=r3Cseq.buildbin-libdir r3Cseq_1.28.0.tar.gz' >>>>>>> * installing *source* package ‘r3Cseq’ ... ** R ** data ** inst ** byte-compile and prepare package for lazy loading No methods found in package ‘Biostrings’ for request: ‘DNAString’ when loading ‘r3Cseq’ ** help *** installing help indices ** building package indices ** installing vignettes ** testing if installed package can be loaded No methods found in package ‘Biostrings’ for request: ‘DNAString’ when loading ‘r3Cseq’ * DONE (r3Cseq)