| Back to Multiple platform build/check report for BioC 3.8 | 
 | 
This page was generated on 2019-04-16 11:54:06 -0400 (Tue, 16 Apr 2019).
| Package 1237/1649 | Hostname | OS / Arch | INSTALL | BUILD | CHECK | BUILD BIN | ||||||
| qvalue 2.14.1 John D. Storey 
 | malbec1 | Linux (Ubuntu 16.04.6 LTS) / x86_64 | OK | OK | OK |  | ||||||
| merida1 | OS X 10.11.6 El Capitan / x86_64 | OK | OK | OK | [ OK ] |  | 
| Package: qvalue | 
| Version: 2.14.1 | 
| Command: rm -rf qvalue.buildbin-libdir && mkdir qvalue.buildbin-libdir && /Users/biocbuild/BBS/utils/build-universal.sh qvalue_2.14.1.tar.gz /Library/Frameworks/R.framework/Versions/Current/Resources/bin/R qvalue.buildbin-libdir | 
| StartedAt: 2019-04-16 04:35:34 -0400 (Tue, 16 Apr 2019) | 
| EndedAt: 2019-04-16 04:36:20 -0400 (Tue, 16 Apr 2019) | 
| EllapsedTime: 46.5 seconds | 
| RetCode: 0 | 
| Status: OK | 
| PackageFile: qvalue_2.14.1.tgz | 
| PackageFileSize: 2.666 MiB | 
############################################################################## ############################################################################## ### ### Running command: ### ### rm -rf qvalue.buildbin-libdir && mkdir qvalue.buildbin-libdir && /Users/biocbuild/BBS/utils/build-universal.sh qvalue_2.14.1.tar.gz /Library/Frameworks/R.framework/Versions/Current/Resources/bin/R qvalue.buildbin-libdir ### ############################################################################## ############################################################################## >>>>>>> >>>>>>> INSTALLATION WITH 'R CMD INSTALL --preclean --no-multiarch --library=qvalue.buildbin-libdir qvalue_2.14.1.tar.gz' >>>>>>> * installing *source* package ‘qvalue’ ... ** R ** data ** inst ** byte-compile and prepare package for lazy loading ** help *** installing help indices ** building package indices ** installing vignettes ** testing if installed package can be loaded * DONE (qvalue)