| Back to Multiple platform build/check report for BioC 3.8 |
|
This page was generated on 2019-04-13 11:29:28 -0400 (Sat, 13 Apr 2019).
| Package 1225/1649 | Hostname | OS / Arch | INSTALL | BUILD | CHECK | BUILD BIN | ||||||
| qPLEXanalyzer 1.0.4 Ashley Sawle
| malbec1 | Linux (Ubuntu 16.04.6 LTS) / x86_64 | OK | OK | OK | |||||||
| tokay1 | Windows Server 2012 R2 Standard / x64 | OK | OK | OK | [ OK ] | |||||||
| merida1 | OS X 10.11.6 El Capitan / x86_64 | OK | OK | OK | OK |
| Package: qPLEXanalyzer |
| Version: 1.0.4 |
| Command: rm -rf qPLEXanalyzer.buildbin-libdir && mkdir qPLEXanalyzer.buildbin-libdir && C:\Users\biocbuild\bbs-3.8-bioc\R\bin\R.exe CMD INSTALL --merge-multiarch --build --library=qPLEXanalyzer.buildbin-libdir qPLEXanalyzer_1.0.4.tar.gz |
| StartedAt: 2019-04-13 07:48:33 -0400 (Sat, 13 Apr 2019) |
| EndedAt: 2019-04-13 07:48:56 -0400 (Sat, 13 Apr 2019) |
| EllapsedTime: 23.3 seconds |
| RetCode: 0 |
| Status: OK |
| PackageFile: qPLEXanalyzer_1.0.4.zip |
| PackageFileSize: 1.945 MiB |
##############################################################################
##############################################################################
###
### Running command:
###
### rm -rf qPLEXanalyzer.buildbin-libdir && mkdir qPLEXanalyzer.buildbin-libdir && C:\Users\biocbuild\bbs-3.8-bioc\R\bin\R.exe CMD INSTALL --merge-multiarch --build --library=qPLEXanalyzer.buildbin-libdir qPLEXanalyzer_1.0.4.tar.gz
###
##############################################################################
##############################################################################
install for i386
* installing *source* package 'qPLEXanalyzer' ...
** R
** data
** inst
** byte-compile and prepare package for lazy loading
** help
*** installing help indices
converting help for package 'qPLEXanalyzer'
finding HTML links ... done
assignColours html
computeDiffStats html
finding level-2 HTML links ... done
convertToMSnset html
corrPlot html
coveragePlot html
exp2_Xlink html
exp3_OHT_ESR1 html
getContrastResults html
groupScaling html
hierarchicalPlot html
human_anno html
intensityBoxplot html
intensityPlot html
maVolPlot html
normalizeQuantiles html
normalizeScaling html
pcaPlot html
peptideIntensityPlot html
plotMeanVar html
qPLEXanalyzer-package html
regressIntensity html
rliPlot html
rowScaling html
summarizeIntensities html
** building package indices
** installing vignettes
** testing if installed package can be loaded
In R CMD INSTALL
install for x64
* installing *source* package 'qPLEXanalyzer' ...
** testing if installed package can be loaded
* MD5 sums
packaged installation of 'qPLEXanalyzer' as qPLEXanalyzer_1.0.4.zip
* DONE (qPLEXanalyzer)
In R CMD INSTALL
In R CMD INSTALL