| Back to Multiple platform build/check report for BioC 3.8 |
|
This page was generated on 2019-04-13 11:25:22 -0400 (Sat, 13 Apr 2019).
| Package 1220/1649 | Hostname | OS / Arch | INSTALL | BUILD | CHECK | BUILD BIN | ||||||
| pwOmics 1.14.0 Maren Sitte
| malbec1 | Linux (Ubuntu 16.04.6 LTS) / x86_64 | OK | OK | OK | |||||||
| tokay1 | Windows Server 2012 R2 Standard / x64 | OK | OK | OK | [ OK ] | |||||||
| merida1 | OS X 10.11.6 El Capitan / x86_64 | OK | OK | OK | OK |
| Package: pwOmics |
| Version: 1.14.0 |
| Command: rm -rf pwOmics.buildbin-libdir && mkdir pwOmics.buildbin-libdir && C:\Users\biocbuild\bbs-3.8-bioc\R\bin\R.exe CMD INSTALL --merge-multiarch --build --library=pwOmics.buildbin-libdir pwOmics_1.14.0.tar.gz |
| StartedAt: 2019-04-13 07:48:13 -0400 (Sat, 13 Apr 2019) |
| EndedAt: 2019-04-13 07:48:46 -0400 (Sat, 13 Apr 2019) |
| EllapsedTime: 32.1 seconds |
| RetCode: 0 |
| Status: OK |
| PackageFile: pwOmics_1.14.0.zip |
| PackageFileSize: 1.194 MiB |
##############################################################################
##############################################################################
###
### Running command:
###
### rm -rf pwOmics.buildbin-libdir && mkdir pwOmics.buildbin-libdir && C:\Users\biocbuild\bbs-3.8-bioc\R\bin\R.exe CMD INSTALL --merge-multiarch --build --library=pwOmics.buildbin-libdir pwOmics_1.14.0.tar.gz
###
##############################################################################
##############################################################################
install for i386
* installing *source* package 'pwOmics' ...
** R
** data
** inst
** byte-compile and prepare package for lazy loading
** help
*** installing help indices
converting help for package 'pwOmics'
finding HTML links ... done
OmicsExampleData html
PWidentallprots html
PWidentallprotssub html
PWidenttps html
SteinerTree_cons html
TFidentallgenes html
TFidenttps html
addFeedbackLoops html
clusterTimeProfiles html
consDynamicNet html
createBiopaxnew html
createIntIDs html
findSignalingAxes html
findxneighborsoverlap html
findxnextneighbors html
genGenelists html
genGenelistssub html
genIntIDs html
generate_DSSignalingBase html
genfullConsensusGraph html
getAlias_Ensemble html
getAliasfromSTRINGIDs html
getBiopaxModel html
getConsensusSTRINGIDs html
getDS_PWs html
getDS_TFs html
getDS_TGs html
getFCsplines html
getGenesIntersection html
getOmicsDataset html
getOmicsTimepoints html
getOmicsallGeneIDs html
getOmicsallProteinIDs html
getProteinIntersection html
getSTRING_graph html
getTFIntersection html
getUS_PWs html
getUS_TFs html
getUS_regulators html
get_matching_transcripts html
getbipartitegraphInfo html
gettpIntersection html
identPWsofTFs html
identRegulators html
identTFTGsinPWs html
identTFs html
identifyPR html
identifyPWTFTGs html
identifyPWs html
identifyRsofTFs html
identifyTFs html
infoConsensusGraph html
loadGenelists html
loadPWs html
plotConsDynNet html
plotConsensusGraph html
plotConsensusProfiles html
plotTimeProfileClusters html
predictFCvals html
preparePWinfo html
print.OmicsData html
pwIntOmics-package html
readOmics html
readPWdata html
readPhosphodata html
readTFdata html
readTFtargets html
selectPWsofTFs html
staticConsensusNet html
temp_correlations html
** building package indices
** testing if installed package can be loaded
In R CMD INSTALL
install for x64
* installing *source* package 'pwOmics' ...
** testing if installed package can be loaded
* MD5 sums
packaged installation of 'pwOmics' as pwOmics_1.14.0.zip
* DONE (pwOmics)
In R CMD INSTALL
In R CMD INSTALL