| Back to Multiple platform build/check report for BioC 3.8 |
|
This page was generated on 2019-04-13 11:21:33 -0400 (Sat, 13 Apr 2019).
| Package 1193/1649 | Hostname | OS / Arch | INSTALL | BUILD | CHECK | BUILD BIN | ||||||
| procoil 2.10.0 Ulrich Bodenhofer
| malbec1 | Linux (Ubuntu 16.04.6 LTS) / x86_64 | OK | OK | OK | |||||||
| tokay1 | Windows Server 2012 R2 Standard / x64 | OK | OK | OK | [ OK ] | |||||||
| merida1 | OS X 10.11.6 El Capitan / x86_64 | OK | OK | OK | OK |
| Package: procoil |
| Version: 2.10.0 |
| Command: rm -rf procoil.buildbin-libdir && mkdir procoil.buildbin-libdir && C:\Users\biocbuild\bbs-3.8-bioc\R\bin\R.exe CMD INSTALL --merge-multiarch --build --library=procoil.buildbin-libdir procoil_2.10.0.tar.gz |
| StartedAt: 2019-04-13 07:47:12 -0400 (Sat, 13 Apr 2019) |
| EndedAt: 2019-04-13 07:47:41 -0400 (Sat, 13 Apr 2019) |
| EllapsedTime: 28.7 seconds |
| RetCode: 0 |
| Status: OK |
| PackageFile: procoil_2.10.0.zip |
| PackageFileSize: 1.703 MiB |
##############################################################################
##############################################################################
###
### Running command:
###
### rm -rf procoil.buildbin-libdir && mkdir procoil.buildbin-libdir && C:\Users\biocbuild\bbs-3.8-bioc\R\bin\R.exe CMD INSTALL --merge-multiarch --build --library=procoil.buildbin-libdir procoil_2.10.0.tar.gz
###
##############################################################################
##############################################################################
install for i386
* installing *source* package 'procoil' ...
** R
** data
*** moving datasets to lazyload DB
** inst
** byte-compile and prepare package for lazy loading
** help
*** installing help indices
converting help for package 'procoil'
finding HTML links ... done
CCModel-FileOps html
CCModel-class html
CCProfile-class html
finding level-2 HTML links ... done
plot-methods html
predict-methods html
procoil-package html
** building package indices
** installing vignettes
** testing if installed package can be loaded
In R CMD INSTALL
install for x64
* installing *source* package 'procoil' ...
** testing if installed package can be loaded
* MD5 sums
packaged installation of 'procoil' as procoil_2.10.0.zip
* DONE (procoil)
In R CMD INSTALL
In R CMD INSTALL