| Back to Multiple platform build/check report for BioC 3.8 |
|
This page was generated on 2019-04-16 11:54:33 -0400 (Tue, 16 Apr 2019).
| Package 1182/1649 | Hostname | OS / Arch | INSTALL | BUILD | CHECK | BUILD BIN | ||||||
| ppiStats 1.48.0 Bioconductor Package Maintainer
| malbec1 | Linux (Ubuntu 16.04.6 LTS) / x86_64 | OK | OK | OK | |||||||
| merida1 | OS X 10.11.6 El Capitan / x86_64 | OK | OK | OK | [ OK ] |
| Package: ppiStats |
| Version: 1.48.0 |
| Command: rm -rf ppiStats.buildbin-libdir && mkdir ppiStats.buildbin-libdir && /Users/biocbuild/BBS/utils/build-universal.sh ppiStats_1.48.0.tar.gz /Library/Frameworks/R.framework/Versions/Current/Resources/bin/R ppiStats.buildbin-libdir |
| StartedAt: 2019-04-16 04:33:05 -0400 (Tue, 16 Apr 2019) |
| EndedAt: 2019-04-16 04:33:45 -0400 (Tue, 16 Apr 2019) |
| EllapsedTime: 40.6 seconds |
| RetCode: 0 |
| Status: OK |
| PackageFile: ppiStats_1.48.0.tgz |
| PackageFileSize: 1.244 MiB |
############################################################################## ############################################################################## ### ### Running command: ### ### rm -rf ppiStats.buildbin-libdir && mkdir ppiStats.buildbin-libdir && /Users/biocbuild/BBS/utils/build-universal.sh ppiStats_1.48.0.tar.gz /Library/Frameworks/R.framework/Versions/Current/Resources/bin/R ppiStats.buildbin-libdir ### ############################################################################## ############################################################################## >>>>>>> >>>>>>> INSTALLATION WITH 'R CMD INSTALL --preclean --no-multiarch --library=ppiStats.buildbin-libdir ppiStats_1.48.0.tar.gz' >>>>>>> * installing *source* package ‘ppiStats’ ... ** R ** inst ** byte-compile and prepare package for lazy loading No methods found in package ‘Biobase’ for request: ‘listlen’ when loading ‘RpsiXML’ No methods found in package ‘annotate’ for requests: ‘pubmed’, ‘buildPubMedAbst’ when loading ‘RpsiXML’ ** help *** installing help indices ** building package indices ** installing vignettes ** testing if installed package can be loaded No methods found in package ‘Biobase’ for request: ‘listlen’ when loading ‘RpsiXML’ No methods found in package ‘annotate’ for requests: ‘pubmed’, ‘buildPubMedAbst’ when loading ‘RpsiXML’ * DONE (ppiStats)