| Back to Multiple platform build/check report for BioC 3.8 |
|
This page was generated on 2019-04-16 11:53:17 -0400 (Tue, 16 Apr 2019).
| Package 1180/1649 | Hostname | OS / Arch | INSTALL | BUILD | CHECK | BUILD BIN | ||||||
| powerTCR 1.2.0 Hillary Koch
| malbec1 | Linux (Ubuntu 16.04.6 LTS) / x86_64 | OK | OK | [ OK ] | |||||||
| merida1 | OS X 10.11.6 El Capitan / x86_64 | ERROR | ERROR | skipped | skipped |
| Package: powerTCR |
| Version: 1.2.0 |
| Command: /home/biocbuild/bbs-3.8-bioc/R/bin/R CMD check --install=check:powerTCR.install-out.txt --library=/home/biocbuild/bbs-3.8-bioc/R/library --no-vignettes --timings powerTCR_1.2.0.tar.gz |
| StartedAt: 2019-04-16 02:10:37 -0400 (Tue, 16 Apr 2019) |
| EndedAt: 2019-04-16 02:12:24 -0400 (Tue, 16 Apr 2019) |
| EllapsedTime: 107.1 seconds |
| RetCode: 0 |
| Status: OK |
| CheckDir: powerTCR.Rcheck |
| Warnings: 0 |
##############################################################################
##############################################################################
###
### Running command:
###
### /home/biocbuild/bbs-3.8-bioc/R/bin/R CMD check --install=check:powerTCR.install-out.txt --library=/home/biocbuild/bbs-3.8-bioc/R/library --no-vignettes --timings powerTCR_1.2.0.tar.gz
###
##############################################################################
##############################################################################
* using log directory ‘/home/biocbuild/bbs-3.8-bioc/meat/powerTCR.Rcheck’
* using R version 3.5.3 (2019-03-11)
* using platform: x86_64-pc-linux-gnu (64-bit)
* using session charset: UTF-8
* using option ‘--no-vignettes’
* checking for file ‘powerTCR/DESCRIPTION’ ... OK
* checking extension type ... Package
* this is package ‘powerTCR’ version ‘1.2.0’
* package encoding: UTF-8
* checking package namespace information ... OK
* checking package dependencies ... OK
* checking if this is a source package ... OK
* checking if there is a namespace ... OK
* checking for hidden files and directories ... OK
* checking for portable file names ... OK
* checking for sufficient/correct file permissions ... OK
* checking whether package ‘powerTCR’ can be installed ... OK
* checking installed package size ... OK
* checking package directory ... OK
* checking ‘build’ directory ... OK
* checking DESCRIPTION meta-information ... OK
* checking top-level files ... OK
* checking for left-over files ... OK
* checking index information ... OK
* checking package subdirectories ... OK
* checking R files for non-ASCII characters ... OK
* checking R files for syntax errors ... OK
* checking whether the package can be loaded ... OK
* checking whether the package can be loaded with stated dependencies ... OK
* checking whether the package can be unloaded cleanly ... OK
* checking whether the namespace can be loaded with stated dependencies ... OK
* checking whether the namespace can be unloaded cleanly ... OK
* checking dependencies in R code ... OK
* checking S3 generic/method consistency ... OK
* checking replacement functions ... OK
* checking foreign function calls ... OK
* checking R code for possible problems ... OK
* checking Rd files ... OK
* checking Rd metadata ... OK
* checking Rd cross-references ... OK
* checking for missing documentation entries ... OK
* checking for code/documentation mismatches ... OK
* checking Rd \usage sections ... OK
* checking Rd contents ... OK
* checking for unstated dependencies in examples ... OK
* checking contents of ‘data’ directory ... OK
* checking data for non-ASCII characters ... OK
* checking data for ASCII and uncompressed saves ... OK
* checking files in ‘vignettes’ ... OK
* checking examples ... OK
Examples with CPU or elapsed time > 5s
user system elapsed
get_bootstraps 25.804 0.008 25.861
* checking for unstated dependencies in ‘tests’ ... OK
* checking tests ...
Running ‘runTests.R’
OK
* checking for unstated dependencies in vignettes ... OK
* checking package vignettes in ‘inst/doc’ ... OK
* checking running R code from vignettes ... SKIPPED
* checking re-building of vignette outputs ... SKIPPED
* checking PDF version of manual ... OK
* DONE
Status: OK
powerTCR.Rcheck/00install.out
############################################################################## ############################################################################## ### ### Running command: ### ### /home/biocbuild/bbs-3.8-bioc/R/bin/R CMD INSTALL powerTCR ### ############################################################################## ############################################################################## * installing to library ‘/home/biocbuild/bbs-3.8-bioc/R/library’ * installing *source* package ‘powerTCR’ ... ** R ** data *** moving datasets to lazyload DB ** inst ** byte-compile and prepare package for lazy loading ** help *** installing help indices ** building package indices ** installing vignettes ** testing if installed package can be loaded * DONE (powerTCR)
powerTCR.Rcheck/tests/runTests.Rout
R version 3.5.3 (2019-03-11) -- "Great Truth"
Copyright (C) 2019 The R Foundation for Statistical Computing
Platform: x86_64-pc-linux-gnu (64-bit)
R is free software and comes with ABSOLUTELY NO WARRANTY.
You are welcome to redistribute it under certain conditions.
Type 'license()' or 'licence()' for distribution details.
R is a collaborative project with many contributors.
Type 'contributors()' for more information and
'citation()' on how to cite R or R packages in publications.
Type 'demo()' for some demos, 'help()' for on-line help, or
'help.start()' for an HTML browser interface to help.
Type 'q()' to quit R.
> BiocGenerics:::testPackage("powerTCR")
RUNIT TEST PROTOCOL -- Tue Apr 16 02:12:21 2019
***********************************************
Number of test functions: 4
Number of errors: 0
Number of failures: 0
1 Test Suite :
powerTCR RUnit Tests - 4 test functions, 0 errors, 0 failures
Number of test functions: 4
Number of errors: 0
Number of failures: 0
Warning message:
In c("min.KS", "Cmin", "powerlaw.exponent", "pareto.alpha") == names(fit1) :
longer object length is not a multiple of shorter object length
>
> proc.time()
user system elapsed
4.856 0.192 5.073
powerTCR.Rcheck/powerTCR-Ex.timings
| name | user | system | elapsed | |
| Accessors | 2.572 | 0.044 | 2.618 | |
| JS_desponds | 0.612 | 0.000 | 0.613 | |
| JS_dist | 1.436 | 0.000 | 1.445 | |
| JS_spliced | 1.216 | 0.000 | 1.218 | |
| clusterPlot | 1.492 | 0.000 | 1.495 | |
| discgammagpd | 1.120 | 0.000 | 1.119 | |
| fdesponds | 0.480 | 0.000 | 0.479 | |
| fdiscgammagpd | 2.808 | 0.004 | 2.817 | |
| get_bootstraps | 25.804 | 0.008 | 25.861 | |
| get_distances | 1.588 | 0.000 | 1.591 | |
| repertoires | 0.004 | 0.004 | 0.006 | |