| Back to Multiple platform build/check report for BioC 3.8 | 
 | 
This page was generated on 2019-04-16 11:58:30 -0400 (Tue, 16 Apr 2019).
| Package 1173/1649 | Hostname | OS / Arch | INSTALL | BUILD | CHECK | BUILD BIN | ||||||
| pmm 1.14.0 Anna Drewek 
 | malbec1 | Linux (Ubuntu 16.04.6 LTS) / x86_64 | OK | OK | OK |  | ||||||
| merida1 | OS X 10.11.6 El Capitan / x86_64 | OK | OK | OK | [ OK ] |  | 
| Package: pmm | 
| Version: 1.14.0 | 
| Command: rm -rf pmm.buildbin-libdir && mkdir pmm.buildbin-libdir && /Users/biocbuild/BBS/utils/build-universal.sh pmm_1.14.0.tar.gz /Library/Frameworks/R.framework/Versions/Current/Resources/bin/R pmm.buildbin-libdir | 
| StartedAt: 2019-04-16 04:32:42 -0400 (Tue, 16 Apr 2019) | 
| EndedAt: 2019-04-16 04:33:26 -0400 (Tue, 16 Apr 2019) | 
| EllapsedTime: 43.7 seconds | 
| RetCode: 0 | 
| Status: OK | 
| PackageFile: pmm_1.14.0.tgz | 
| PackageFileSize: 723.4 KiB | 
############################################################################## ############################################################################## ### ### Running command: ### ### rm -rf pmm.buildbin-libdir && mkdir pmm.buildbin-libdir && /Users/biocbuild/BBS/utils/build-universal.sh pmm_1.14.0.tar.gz /Library/Frameworks/R.framework/Versions/Current/Resources/bin/R pmm.buildbin-libdir ### ############################################################################## ############################################################################## >>>>>>> >>>>>>> INSTALLATION WITH 'R CMD INSTALL --preclean --no-multiarch --library=pmm.buildbin-libdir pmm_1.14.0.tar.gz' >>>>>>> * installing *source* package ‘pmm’ ... ** R ** data ** inst ** byte-compile and prepare package for lazy loading ** help *** installing help indices ** building package indices ** installing vignettes ** testing if installed package can be loaded * DONE (pmm)