Back to Multiple platform build/check report for BioC 3.8 |
|
This page was generated on 2019-04-16 11:56:52 -0400 (Tue, 16 Apr 2019).
Package 1157/1649 | Hostname | OS / Arch | INSTALL | BUILD | CHECK | BUILD BIN | ||||||
piano 1.22.0 Leif Varemo
| malbec1 | Linux (Ubuntu 16.04.6 LTS) / x86_64 | OK | OK | OK | ![]() | ||||||
merida1 | OS X 10.11.6 El Capitan / x86_64 | OK | OK | OK | [ OK ] | ![]() |
Package: piano |
Version: 1.22.0 |
Command: rm -rf piano.buildbin-libdir && mkdir piano.buildbin-libdir && /Users/biocbuild/BBS/utils/build-universal.sh piano_1.22.0.tar.gz /Library/Frameworks/R.framework/Versions/Current/Resources/bin/R piano.buildbin-libdir |
StartedAt: 2019-04-16 04:31:57 -0400 (Tue, 16 Apr 2019) |
EndedAt: 2019-04-16 04:32:42 -0400 (Tue, 16 Apr 2019) |
EllapsedTime: 45.3 seconds |
RetCode: 0 |
Status: OK |
PackageFile: piano_1.22.0.tgz |
PackageFileSize: 1.315 MiB |
############################################################################## ############################################################################## ### ### Running command: ### ### rm -rf piano.buildbin-libdir && mkdir piano.buildbin-libdir && /Users/biocbuild/BBS/utils/build-universal.sh piano_1.22.0.tar.gz /Library/Frameworks/R.framework/Versions/Current/Resources/bin/R piano.buildbin-libdir ### ############################################################################## ############################################################################## >>>>>>> >>>>>>> INSTALLATION WITH 'R CMD INSTALL --preclean --no-multiarch --library=piano.buildbin-libdir piano_1.22.0.tar.gz' >>>>>>> * installing *source* package ‘piano’ ... ** R ** data ** inst ** byte-compile and prepare package for lazy loading ** help *** installing help indices ** building package indices ** installing vignettes ** testing if installed package can be loaded * DONE (piano)