| Back to Multiple platform build/check report for BioC 3.8 |
|
This page was generated on 2019-04-16 11:54:23 -0400 (Tue, 16 Apr 2019).
| Package 1125/1649 | Hostname | OS / Arch | INSTALL | BUILD | CHECK | BUILD BIN | ||||||
| pathRender 1.50.0 Vince Carey
| malbec1 | Linux (Ubuntu 16.04.6 LTS) / x86_64 | OK | OK | OK | |||||||
| merida1 | OS X 10.11.6 El Capitan / x86_64 | OK | OK | [ OK ] | OK |
| Package: pathRender |
| Version: 1.50.0 |
| Command: /Library/Frameworks/R.framework/Versions/Current/Resources/bin/R CMD check --install=check:pathRender.install-out.txt --library=/Library/Frameworks/R.framework/Versions/Current/Resources/library --no-vignettes --timings pathRender_1.50.0.tar.gz |
| StartedAt: 2019-04-16 01:47:22 -0400 (Tue, 16 Apr 2019) |
| EndedAt: 2019-04-16 01:49:04 -0400 (Tue, 16 Apr 2019) |
| EllapsedTime: 101.9 seconds |
| RetCode: 0 |
| Status: OK |
| CheckDir: pathRender.Rcheck |
| Warnings: 0 |
##############################################################################
##############################################################################
###
### Running command:
###
### /Library/Frameworks/R.framework/Versions/Current/Resources/bin/R CMD check --install=check:pathRender.install-out.txt --library=/Library/Frameworks/R.framework/Versions/Current/Resources/library --no-vignettes --timings pathRender_1.50.0.tar.gz
###
##############################################################################
##############################################################################
* using log directory ‘/Users/biocbuild/bbs-3.8-bioc/meat/pathRender.Rcheck’
* using R version 3.5.3 (2019-03-11)
* using platform: x86_64-apple-darwin15.6.0 (64-bit)
* using session charset: UTF-8
* using option ‘--no-vignettes’
* checking for file ‘pathRender/DESCRIPTION’ ... OK
* this is package ‘pathRender’ version ‘1.50.0’
* checking package namespace information ... OK
* checking package dependencies ... NOTE
Depends: includes the non-default packages:
‘graph’ ‘Rgraphviz’ ‘RColorBrewer’ ‘cMAP’ ‘AnnotationDbi’ ‘stats4’
Adding so many packages to the search path is excessive and importing
selectively is preferable.
* checking if this is a source package ... OK
* checking if there is a namespace ... OK
* checking for hidden files and directories ... OK
* checking for portable file names ... OK
* checking for sufficient/correct file permissions ... OK
* checking whether package ‘pathRender’ can be installed ... OK
* checking installed package size ... OK
* checking package directory ... OK
* checking ‘build’ directory ... OK
* checking DESCRIPTION meta-information ... OK
* checking top-level files ... OK
* checking for left-over files ... OK
* checking index information ... OK
* checking package subdirectories ... OK
* checking R files for non-ASCII characters ... OK
* checking R files for syntax errors ... OK
* checking whether the package can be loaded ... OK
* checking whether the package can be loaded with stated dependencies ... OK
* checking whether the package can be unloaded cleanly ... OK
* checking whether the namespace can be loaded with stated dependencies ... OK
* checking whether the namespace can be unloaded cleanly ... OK
* checking dependencies in R code ... OK
* checking S3 generic/method consistency ... OK
* checking replacement functions ... OK
* checking foreign function calls ... OK
* checking R code for possible problems ... NOTE
graphcMAP: no visible binding for global variable ‘cMAPKEGGPATHWAY’
graphcMAP: no visible binding for global variable ‘cMAPCARTAPATHWAY’
graphcMAP: no visible binding for global variable ‘cMAPKEGGINTERACTION’
graphcMAP: no visible binding for global variable ‘cMAPKEGGMOLECULE’
graphcMAP: no visible binding for global variable
‘cMAPCARTAINTERACTION’
graphcMAP: no visible binding for global variable ‘cMAPCARTAMOLECULE’
plotExGraph: no visible global function definition for
‘colorRampPalette’
plotExGraph: no visible global function definition for ‘exprs’
quantizeByRow : <anonymous>: no visible global function definition for
‘quantile’
quantizeByRow: no visible global function definition for ‘featureNames’
quantizeByRow: no visible global function definition for ‘exprs<-’
quantizeByRow: no visible global function definition for ‘exprs’
quantizeByRow: no visible global function definition for
‘featureNames<-’
reduceES: no visible global function definition for ‘na.omit’
reduceES: no visible global function definition for ‘featureData<-’
reduceES: no visible global function definition for ‘exprs’
reduceES: no visible global function definition for ‘phenoData’
rendercMAPPathway: no visible binding for global variable
‘cMAPKEGGPATHWAY’
rendercMAPPathway: no visible binding for global variable
‘cMAPCARTAPATHWAY’
rendercMAPPathway: no visible binding for global variable
‘cMAPKEGGINTERACTION’
rendercMAPPathway: no visible binding for global variable
‘cMAPKEGGMOLECULE’
rendercMAPPathway: no visible binding for global variable
‘cMAPCARTAINTERACTION’
rendercMAPPathway: no visible binding for global variable
‘cMAPCARTAMOLECULE’
plot,coloredGraph-ANY: no visible global function definition for
‘palette’
Undefined global functions or variables:
cMAPCARTAINTERACTION cMAPCARTAMOLECULE cMAPCARTAPATHWAY
cMAPKEGGINTERACTION cMAPKEGGMOLECULE cMAPKEGGPATHWAY colorRampPalette
exprs exprs<- featureData<- featureNames featureNames<- na.omit
palette phenoData quantile
Consider adding
importFrom("grDevices", "colorRampPalette", "palette")
importFrom("stats", "na.omit", "quantile")
to your NAMESPACE file.
* checking Rd files ... OK
* checking Rd metadata ... OK
* checking Rd cross-references ... OK
* checking for missing documentation entries ... OK
* checking for code/documentation mismatches ... OK
* checking Rd \usage sections ... OK
* checking Rd contents ... OK
* checking for unstated dependencies in examples ... OK
* checking sizes of PDF files under ‘inst/doc’ ... OK
* checking files in ‘vignettes’ ... OK
* checking examples ... OK
* checking for unstated dependencies in vignettes ... OK
* checking package vignettes in ‘inst/doc’ ... OK
* checking running R code from vignettes ... SKIPPED
* checking re-building of vignette outputs ... SKIPPED
* checking PDF version of manual ... OK
* DONE
Status: 2 NOTEs
See
‘/Users/biocbuild/bbs-3.8-bioc/meat/pathRender.Rcheck/00check.log’
for details.
pathRender.Rcheck/00install.out
############################################################################## ############################################################################## ### ### Running command: ### ### /Library/Frameworks/R.framework/Versions/Current/Resources/bin/R CMD INSTALL pathRender ### ############################################################################## ############################################################################## * installing to library ‘/Library/Frameworks/R.framework/Versions/3.5/Resources/library’ * installing *source* package ‘pathRender’ ... ** R ** inst ** byte-compile and prepare package for lazy loading ** help *** installing help indices ** building package indices ** installing vignettes ** testing if installed package can be loaded * DONE (pathRender)
pathRender.Rcheck/pathRender-Ex.timings
| name | user | system | elapsed | |
| colorNodes | 0.156 | 0.020 | 0.179 | |
| coloredGraph-class | 0.161 | 0.019 | 0.191 | |
| graphcMAP | 0.390 | 0.044 | 0.443 | |
| plotExGraph | 2.550 | 0.095 | 2.692 | |
| pwayGraph-class | 0.060 | 0.003 | 0.065 | |
| reduceES | 1.414 | 0.052 | 1.513 | |
| rendercMAP | 0.709 | 0.018 | 0.746 | |