| Back to Multiple platform build/check report for BioC 3.8 |
|
This page was generated on 2019-04-13 11:28:30 -0400 (Sat, 13 Apr 2019).
| Package 1093/1649 | Hostname | OS / Arch | INSTALL | BUILD | CHECK | BUILD BIN | ||||||
| ontoProc 1.4.0 VJ Carey
| malbec1 | Linux (Ubuntu 16.04.6 LTS) / x86_64 | OK | OK | OK | |||||||
| tokay1 | Windows Server 2012 R2 Standard / x64 | OK | OK | OK | [ OK ] | |||||||
| merida1 | OS X 10.11.6 El Capitan / x86_64 | OK | OK | OK | OK |
| Package: ontoProc |
| Version: 1.4.0 |
| Command: rm -rf ontoProc.buildbin-libdir && mkdir ontoProc.buildbin-libdir && C:\Users\biocbuild\bbs-3.8-bioc\R\bin\R.exe CMD INSTALL --merge-multiarch --build --library=ontoProc.buildbin-libdir ontoProc_1.4.0.tar.gz |
| StartedAt: 2019-04-13 07:43:57 -0400 (Sat, 13 Apr 2019) |
| EndedAt: 2019-04-13 07:44:16 -0400 (Sat, 13 Apr 2019) |
| EllapsedTime: 18.9 seconds |
| RetCode: 0 |
| Status: OK |
| PackageFile: ontoProc_1.4.0.zip |
| PackageFileSize: 26.32 MiB |
##############################################################################
##############################################################################
###
### Running command:
###
### rm -rf ontoProc.buildbin-libdir && mkdir ontoProc.buildbin-libdir && C:\Users\biocbuild\bbs-3.8-bioc\R\bin\R.exe CMD INSTALL --merge-multiarch --build --library=ontoProc.buildbin-libdir ontoProc_1.4.0.tar.gz
###
##############################################################################
##############################################################################
install for i386
* installing *source* package 'ontoProc' ...
** R
** data
*** moving datasets to lazyload DB
** inst
** byte-compile and prepare package for lazy loading
** help
*** installing help indices
converting help for package 'ontoProc'
finding HTML links ... done
TermSet-class html
allGOterms html
c-TermSet-method html
cellTypeToGO html
cleanCLOnames html
demoApp html
dropStop html
fastGrep html
getCellOnto html
humrna html
liberalMap html
makeSelectInput html
mapOneNaive html
minicorpus html
nomenCheckup html
secLevGen html
selectFromMap html
siblings_TAG html
stopWords html
** building package indices
** installing vignettes
** testing if installed package can be loaded
In R CMD INSTALL
install for x64
* installing *source* package 'ontoProc' ...
** testing if installed package can be loaded
* MD5 sums
packaged installation of 'ontoProc' as ontoProc_1.4.0.zip
* DONE (ontoProc)
In R CMD INSTALL
In R CMD INSTALL