| Back to Multiple platform build/check report for BioC 3.8 |
|
This page was generated on 2018-06-06 10:27:22 -0400 (Wed, 06 Jun 2018).
| Package 1007/1562 | Hostname | OS / Arch | INSTALL | BUILD | CHECK | BUILD BIN | ||||||
| nudge 1.47.0 N. Dean
| malbec1 | Linux (Ubuntu 16.04.1 LTS) / x86_64 | OK | OK | OK | |||||||
| tokay1 | Windows Server 2012 R2 Standard / x64 | OK | OK | OK | OK | |||||||
| merida1 | OS X 10.11.6 El Capitan / x86_64 | OK | OK | OK | [ OK ] |
| Package: nudge |
| Version: 1.47.0 |
| Command: rm -rf nudge.buildbin-libdir && mkdir nudge.buildbin-libdir && /Users/biocbuild/BBS/utils/build-universal.sh nudge_1.47.0.tar.gz /Library/Frameworks/R.framework/Versions/Current/Resources/bin/R nudge.buildbin-libdir |
| StartedAt: 2018-06-06 03:50:48 -0400 (Wed, 06 Jun 2018) |
| EndedAt: 2018-06-06 03:51:14 -0400 (Wed, 06 Jun 2018) |
| EllapsedTime: 25.8 seconds |
| RetCode: 0 |
| Status: OK |
| PackageFile: nudge_1.47.0.tgz |
| PackageFileSize: 959.1 KiB |
############################################################################## ############################################################################## ### ### Running command: ### ### rm -rf nudge.buildbin-libdir && mkdir nudge.buildbin-libdir && /Users/biocbuild/BBS/utils/build-universal.sh nudge_1.47.0.tar.gz /Library/Frameworks/R.framework/Versions/Current/Resources/bin/R nudge.buildbin-libdir ### ############################################################################## ############################################################################## >>>>>>> >>>>>>> INSTALLATION WITH 'R CMD INSTALL --preclean --no-multiarch --library=nudge.buildbin-libdir nudge_1.47.0.tar.gz' >>>>>>> * installing *source* package ‘nudge’ ... ** R ** data ** inst ** byte-compile and prepare package for lazy loading ** help *** installing help indices ** building package indices ** installing vignettes ** testing if installed package can be loaded * DONE (nudge)