| Back to Multiple platform build/check report for BioC 3.8 |
|
This page was generated on 2019-04-13 11:26:25 -0400 (Sat, 13 Apr 2019).
| Package 1066/1649 | Hostname | OS / Arch | INSTALL | BUILD | CHECK | BUILD BIN | ||||||
| nucleoSim 1.10.0 Astrid Deschenes
| malbec1 | Linux (Ubuntu 16.04.6 LTS) / x86_64 | OK | OK | OK | |||||||
| tokay1 | Windows Server 2012 R2 Standard / x64 | OK | OK | OK | [ OK ] | |||||||
| merida1 | OS X 10.11.6 El Capitan / x86_64 | OK | OK | OK | OK |
| Package: nucleoSim |
| Version: 1.10.0 |
| Command: rm -rf nucleoSim.buildbin-libdir && mkdir nucleoSim.buildbin-libdir && C:\Users\biocbuild\bbs-3.8-bioc\R\bin\R.exe CMD INSTALL --merge-multiarch --build --library=nucleoSim.buildbin-libdir nucleoSim_1.10.0.tar.gz |
| StartedAt: 2019-04-13 07:42:48 -0400 (Sat, 13 Apr 2019) |
| EndedAt: 2019-04-13 07:42:59 -0400 (Sat, 13 Apr 2019) |
| EllapsedTime: 10.6 seconds |
| RetCode: 0 |
| Status: OK |
| PackageFile: nucleoSim_1.10.0.zip |
| PackageFileSize: 353.2 KiB |
##############################################################################
##############################################################################
###
### Running command:
###
### rm -rf nucleoSim.buildbin-libdir && mkdir nucleoSim.buildbin-libdir && C:\Users\biocbuild\bbs-3.8-bioc\R\bin\R.exe CMD INSTALL --merge-multiarch --build --library=nucleoSim.buildbin-libdir nucleoSim_1.10.0.tar.gz
###
##############################################################################
##############################################################################
install for i386
* installing *source* package 'nucleoSim' ...
** R
** inst
** byte-compile and prepare package for lazy loading
** help
*** installing help indices
converting help for package 'nucleoSim'
finding HTML links ... done
createNucReadsFromNucMap html
nucleoSim-package html
plot.syntheticNucMap html
plot.syntheticNucReads html
syntheticNucMapFromDist html
syntheticNucMapFromDistValidation html
syntheticNucReadsFromDist html
syntheticNucReadsFromMap html
syntheticNucReadsValidation html
** building package indices
** installing vignettes
** testing if installed package can be loaded
In R CMD INSTALL
install for x64
* installing *source* package 'nucleoSim' ...
** testing if installed package can be loaded
* MD5 sums
packaged installation of 'nucleoSim' as nucleoSim_1.10.0.zip
* DONE (nucleoSim)
In R CMD INSTALL
In R CMD INSTALL