| Back to Multiple platform build/check report for BioC 3.8 |
|
This page was generated on 2019-04-16 11:57:35 -0400 (Tue, 16 Apr 2019).
| Package 1064/1649 | Hostname | OS / Arch | INSTALL | BUILD | CHECK | BUILD BIN | ||||||
| npGSEA 1.18.0 Jessica Larson
| malbec1 | Linux (Ubuntu 16.04.6 LTS) / x86_64 | OK | OK | OK | |||||||
| merida1 | OS X 10.11.6 El Capitan / x86_64 | OK | OK | OK | [ OK ] |
| Package: npGSEA |
| Version: 1.18.0 |
| Command: rm -rf npGSEA.buildbin-libdir && mkdir npGSEA.buildbin-libdir && /Users/biocbuild/BBS/utils/build-universal.sh npGSEA_1.18.0.tar.gz /Library/Frameworks/R.framework/Versions/Current/Resources/bin/R npGSEA.buildbin-libdir |
| StartedAt: 2019-04-16 04:27:37 -0400 (Tue, 16 Apr 2019) |
| EndedAt: 2019-04-16 04:28:13 -0400 (Tue, 16 Apr 2019) |
| EllapsedTime: 36.1 seconds |
| RetCode: 0 |
| Status: OK |
| PackageFile: npGSEA_1.18.0.tgz |
| PackageFileSize: 576.7 KiB |
############################################################################## ############################################################################## ### ### Running command: ### ### rm -rf npGSEA.buildbin-libdir && mkdir npGSEA.buildbin-libdir && /Users/biocbuild/BBS/utils/build-universal.sh npGSEA_1.18.0.tar.gz /Library/Frameworks/R.framework/Versions/Current/Resources/bin/R npGSEA.buildbin-libdir ### ############################################################################## ############################################################################## >>>>>>> >>>>>>> INSTALLATION WITH 'R CMD INSTALL --preclean --no-multiarch --library=npGSEA.buildbin-libdir npGSEA_1.18.0.tar.gz' >>>>>>> * installing *source* package ‘npGSEA’ ... ** R ** inst ** byte-compile and prepare package for lazy loading No methods found in package ‘BiocGenerics’ for request: ‘unlist’ when loading ‘npGSEA’ ** help *** installing help indices ** building package indices ** installing vignettes ** testing if installed package can be loaded No methods found in package ‘BiocGenerics’ for request: ‘unlist’ when loading ‘npGSEA’ * DONE (npGSEA)