| Back to Multiple platform build/check report for BioC 3.8 |
|
This page was generated on 2019-04-16 12:00:41 -0400 (Tue, 16 Apr 2019).
| Package 1043/1649 | Hostname | OS / Arch | INSTALL | BUILD | CHECK | BUILD BIN | ||||||
| ndexr 1.4.1 Florian Auer
| malbec1 | Linux (Ubuntu 16.04.6 LTS) / x86_64 | OK | OK | OK | |||||||
| merida1 | OS X 10.11.6 El Capitan / x86_64 | OK | OK | [ OK ] | OK |
| Package: ndexr |
| Version: 1.4.1 |
| Command: /Library/Frameworks/R.framework/Versions/Current/Resources/bin/R CMD check --install=check:ndexr.install-out.txt --library=/Library/Frameworks/R.framework/Versions/Current/Resources/library --no-vignettes --timings ndexr_1.4.1.tar.gz |
| StartedAt: 2019-04-16 01:33:33 -0400 (Tue, 16 Apr 2019) |
| EndedAt: 2019-04-16 01:34:39 -0400 (Tue, 16 Apr 2019) |
| EllapsedTime: 66.2 seconds |
| RetCode: 0 |
| Status: OK |
| CheckDir: ndexr.Rcheck |
| Warnings: 0 |
##############################################################################
##############################################################################
###
### Running command:
###
### /Library/Frameworks/R.framework/Versions/Current/Resources/bin/R CMD check --install=check:ndexr.install-out.txt --library=/Library/Frameworks/R.framework/Versions/Current/Resources/library --no-vignettes --timings ndexr_1.4.1.tar.gz
###
##############################################################################
##############################################################################
* using log directory ‘/Users/biocbuild/bbs-3.8-bioc/meat/ndexr.Rcheck’
* using R version 3.5.3 (2019-03-11)
* using platform: x86_64-apple-darwin15.6.0 (64-bit)
* using session charset: UTF-8
* using option ‘--no-vignettes’
* checking for file ‘ndexr/DESCRIPTION’ ... OK
* checking extension type ... Package
* this is package ‘ndexr’ version ‘1.4.1’
* package encoding: UTF-8
* checking package namespace information ... OK
* checking package dependencies ... OK
* checking if this is a source package ... OK
* checking if there is a namespace ... OK
* checking for hidden files and directories ... OK
* checking for portable file names ... OK
* checking for sufficient/correct file permissions ... OK
* checking whether package ‘ndexr’ can be installed ... OK
* checking installed package size ... OK
* checking package directory ... OK
* checking ‘build’ directory ... OK
* checking DESCRIPTION meta-information ... NOTE
Deprecated license: BSD
* checking top-level files ... OK
* checking for left-over files ... OK
* checking index information ... OK
* checking package subdirectories ... OK
* checking R files for non-ASCII characters ... OK
* checking R files for syntax errors ... OK
* checking whether the package can be loaded ... OK
* checking whether the package can be loaded with stated dependencies ... OK
* checking whether the package can be unloaded cleanly ... OK
* checking whether the namespace can be loaded with stated dependencies ... OK
* checking whether the namespace can be unloaded cleanly ... OK
* checking dependencies in R code ... NOTE
Package in Depends field not imported from: ‘igraph’
These packages need to be imported from (in the NAMESPACE file)
for when this namespace is loaded but not attached.
Unexported object imported by a ':::' call: ‘httr:::default_ua’
See the note in ?`:::` about the use of this operator.
* checking S3 generic/method consistency ... OK
* checking replacement functions ... OK
* checking foreign function calls ... OK
* checking R code for possible problems ... NOTE
ndex_create_network: no visible global function definition for ‘tail’
ndex_rest_DELETE: no visible global function definition for
‘packageVersion’
ndex_rest_GET: no visible global function definition for
‘packageVersion’
ndex_rest_POST: no visible global function definition for
‘packageVersion’
ndex_rest_PUT: no visible global function definition for
‘packageVersion’
rcx_fromRCXgraph: no visible binding for global variable ‘po’
rcx_toRCXgraph: no visible global function definition for ‘V’
rcx_toRCXgraph: no visible global function definition for ‘V<-’
rcx_toRCXgraph: no visible global function definition for ‘E’
rcx_toRCXgraph: no visible global function definition for ‘E<-’
rcxgraph_fromRCX: no visible global function definition for ‘V’
rcxgraph_fromRCX: no visible global function definition for ‘V<-’
rcxgraph_fromRCX: no visible global function definition for ‘E’
rcxgraph_fromRCX: no visible global function definition for ‘E<-’
rcxgraph_toRCX: no visible binding for global variable ‘po’
Undefined global functions or variables:
E E<- V V<- packageVersion po tail
Consider adding
importFrom("utils", "packageVersion", "tail")
to your NAMESPACE file.
* checking Rd files ... OK
* checking Rd metadata ... OK
* checking Rd cross-references ... OK
* checking for missing documentation entries ... OK
* checking for code/documentation mismatches ... OK
* checking Rd \usage sections ... OK
* checking Rd contents ... OK
* checking for unstated dependencies in examples ... OK
* checking files in ‘vignettes’ ... OK
* checking examples ... OK
* checking for unstated dependencies in ‘tests’ ... OK
* checking tests ...
Running ‘testthat.R’
OK
* checking for unstated dependencies in vignettes ... OK
* checking package vignettes in ‘inst/doc’ ... OK
* checking running R code from vignettes ... SKIPPED
* checking re-building of vignette outputs ... SKIPPED
* checking PDF version of manual ... OK
* DONE
Status: 3 NOTEs
See
‘/Users/biocbuild/bbs-3.8-bioc/meat/ndexr.Rcheck/00check.log’
for details.
ndexr.Rcheck/00install.out
############################################################################## ############################################################################## ### ### Running command: ### ### /Library/Frameworks/R.framework/Versions/Current/Resources/bin/R CMD INSTALL ndexr ### ############################################################################## ############################################################################## * installing to library ‘/Library/Frameworks/R.framework/Versions/3.5/Resources/library’ * installing *source* package ‘ndexr’ ... ** R ** byte-compile and prepare package for lazy loading ** help *** installing help indices ** building package indices ** installing vignettes ** testing if installed package can be loaded * DONE (ndexr)
ndexr.Rcheck/tests/testthat.Rout
R version 3.5.3 (2019-03-11) -- "Great Truth"
Copyright (C) 2019 The R Foundation for Statistical Computing
Platform: x86_64-apple-darwin15.6.0 (64-bit)
R is free software and comes with ABSOLUTELY NO WARRANTY.
You are welcome to redistribute it under certain conditions.
Type 'license()' or 'licence()' for distribution details.
R is a collaborative project with many contributors.
Type 'contributors()' for more information and
'citation()' on how to cite R or R packages in publications.
Type 'demo()' for some demos, 'help()' for on-line help, or
'help.start()' for an HTML browser interface to help.
Type 'q()' to quit R.
> library(testthat)
> library(ndexr)
Loading required package: igraph
Attaching package: 'igraph'
The following object is masked from 'package:testthat':
compare
The following objects are masked from 'package:stats':
decompose, spectrum
The following object is masked from 'package:base':
union
>
> test_check("ndexr")
══ testthat results ═══════════════════════════════════════════════════════════
OK: 140 SKIPPED: 0 FAILED: 0
>
> proc.time()
user system elapsed
18.331 0.683 27.716
ndexr.Rcheck/ndexr-Ex.timings
| name | user | system | elapsed | |
| listToRCode | 0.000 | 0.001 | 0.001 | |
| ndex_conf_header | 0 | 0 | 0 | |
| ndex_config | 0.002 | 0.000 | 0.002 | |
| ndex_connect | 0.905 | 0.011 | 1.167 | |
| ndex_create_group | 0.001 | 0.000 | 0.000 | |
| ndex_create_network | 0.000 | 0.000 | 0.001 | |
| ndex_create_user | 0 | 0 | 0 | |
| ndex_delete_group | 0.000 | 0.000 | 0.001 | |
| ndex_delete_network | 0 | 0 | 0 | |
| ndex_delete_user | 0.000 | 0.000 | 0.001 | |
| ndex_find_groups | 0.045 | 0.003 | 0.216 | |
| ndex_find_networks | 0.071 | 0.003 | 0.424 | |
| ndex_find_user_byId | 0.026 | 0.001 | 0.268 | |
| ndex_find_user_byName | 0.017 | 0.001 | 0.178 | |
| ndex_find_users | 0.019 | 0.001 | 0.180 | |
| ndex_get_group | 0.026 | 0.001 | 0.273 | |
| ndex_get_network | 0.339 | 0.009 | 0.699 | |
| ndex_group_delete_membership | 0.000 | 0.000 | 0.001 | |
| ndex_group_list_networks | 0.044 | 0.001 | 0.372 | |
| ndex_group_list_users | 0.024 | 0.001 | 0.189 | |
| ndex_group_network_get_permission | 0.031 | 0.001 | 0.277 | |
| ndex_group_set_membership | 0.000 | 0.000 | 0.001 | |
| ndex_helper_encodeParams | 0.004 | 0.000 | 0.005 | |
| ndex_helper_getApi | 0.006 | 0.000 | 0.086 | |
| ndex_helper_httpResponseHandler | 0.017 | 0.001 | 0.099 | |
| ndex_internal_addAspects | 0.000 | 0.001 | 0.000 | |
| ndex_network_aspect_get_metadata | 0.138 | 0.003 | 0.421 | |
| ndex_network_delete_permission | 0 | 0 | 0 | |
| ndex_network_get_aspect | 0.141 | 0.013 | 0.591 | |
| ndex_network_get_metadata | 0.090 | 0.010 | 0.377 | |
| ndex_network_get_permission | 0.001 | 0.000 | 0.000 | |
| ndex_network_get_provenance | 0.082 | 0.005 | 0.362 | |
| ndex_network_get_summary | 0.082 | 0.002 | 0.361 | |
| ndex_network_set_systemProperties | 0.000 | 0.000 | 0.001 | |
| ndex_network_update_aspect | 0 | 0 | 0 | |
| ndex_network_update_permission | 0.000 | 0.001 | 0.001 | |
| ndex_network_update_profile | 0.001 | 0.000 | 0.001 | |
| ndex_rest_DELETE | 0.005 | 0.001 | 0.086 | |
| ndex_rest_GET | 0.006 | 0.000 | 0.086 | |
| ndex_rest_POST | 0.006 | 0.000 | 0.086 | |
| ndex_rest_PUT | 0.006 | 0.000 | 0.087 | |
| ndex_update_group | 0.000 | 0.000 | 0.001 | |
| ndex_update_network | 0 | 0 | 0 | |
| ndex_update_user | 0.001 | 0.000 | 0.000 | |
| ndex_user_change_password | 0.001 | 0.000 | 0.000 | |
| ndex_user_forgot_password | 0.001 | 0.000 | 0.001 | |
| ndex_user_get_networksummary | 0.000 | 0.001 | 0.000 | |
| ndex_user_get_showcase | 0.024 | 0.001 | 0.267 | |
| ndex_user_list_groups | 0.001 | 0.000 | 0.000 | |
| ndex_user_list_permissions | 0 | 0 | 0 | |
| ndex_user_mail_password | 0 | 0 | 0 | |
| ndex_user_show_group | 0.000 | 0.000 | 0.001 | |
| ndex_user_show_permission | 0 | 0 | 0 | |
| ndex_verify_user | 0.000 | 0.000 | 0.001 | |
| ndexr-package | 0.001 | 0.000 | 0.000 | |
| ngraph_toRCX | 0.004 | 0.001 | 0.005 | |
| print.NDExConnection | 0.012 | 0.001 | 0.173 | |
| print.RCX | 0.009 | 0.000 | 0.009 | |
| rcx_asNewNetwork | 0.001 | 0.000 | 0.002 | |
| rcx_aspect_toJSON | 0.002 | 0.000 | 0.003 | |
| rcx_fromJSON | 0.095 | 0.001 | 0.096 | |
| rcx_new | 0.022 | 0.001 | 0.023 | |
| rcx_toJSON | 0.006 | 0.000 | 0.007 | |
| rcx_toNGraph | 0.003 | 0.000 | 0.004 | |
| rcx_toRCXgraph | 0.014 | 0.001 | 0.014 | |
| rcx_updateMetaData | 0.005 | 0.001 | 0.005 | |
| rcxgraph_toRCX | 0.008 | 0.000 | 0.008 | |