| Back to Multiple platform build/check report for BioC 3.8 | 
 | 
This page was generated on 2019-04-16 11:58:55 -0400 (Tue, 16 Apr 2019).
| Package 1033/1649 | Hostname | OS / Arch | INSTALL | BUILD | CHECK | BUILD BIN | ||||||
| myvariant 1.12.0 Adam Mark, Chunlei Wu 
 | malbec1 | Linux (Ubuntu 16.04.6 LTS) / x86_64 | OK | OK | OK |  | ||||||
| merida1 | OS X 10.11.6 El Capitan / x86_64 | OK | OK | OK | [ OK ] |  | 
| Package: myvariant | 
| Version: 1.12.0 | 
| Command: rm -rf myvariant.buildbin-libdir && mkdir myvariant.buildbin-libdir && /Users/biocbuild/BBS/utils/build-universal.sh myvariant_1.12.0.tar.gz /Library/Frameworks/R.framework/Versions/Current/Resources/bin/R myvariant.buildbin-libdir | 
| StartedAt: 2019-04-16 04:26:19 -0400 (Tue, 16 Apr 2019) | 
| EndedAt: 2019-04-16 04:27:04 -0400 (Tue, 16 Apr 2019) | 
| EllapsedTime: 45.1 seconds | 
| RetCode: 0 | 
| Status: OK | 
| PackageFile: myvariant_1.12.0.tgz | 
| PackageFileSize: 209.7 KiB | 
############################################################################## ############################################################################## ### ### Running command: ### ### rm -rf myvariant.buildbin-libdir && mkdir myvariant.buildbin-libdir && /Users/biocbuild/BBS/utils/build-universal.sh myvariant_1.12.0.tar.gz /Library/Frameworks/R.framework/Versions/Current/Resources/bin/R myvariant.buildbin-libdir ### ############################################################################## ############################################################################## >>>>>>> >>>>>>> INSTALLATION WITH 'R CMD INSTALL --preclean --no-multiarch --library=myvariant.buildbin-libdir myvariant_1.12.0.tar.gz' >>>>>>> * installing *source* package ‘myvariant’ ... ** R ** inst ** byte-compile and prepare package for lazy loading ** help *** installing help indices ** building package indices ** installing vignettes ** testing if installed package can be loaded * DONE (myvariant)