| Back to Multiple platform build/check report for BioC 3.8 |
|
This page was generated on 2019-04-16 11:47:45 -0400 (Tue, 16 Apr 2019).
| Package 1027/1649 | Hostname | OS / Arch | INSTALL | BUILD | CHECK | BUILD BIN | ||||||
| multtest 2.38.0 Katherine S. Pollard
| malbec1 | Linux (Ubuntu 16.04.6 LTS) / x86_64 | [ OK ] | OK | WARNINGS | |||||||
| merida1 | OS X 10.11.6 El Capitan / x86_64 | OK | OK | WARNINGS | OK |
| Package: multtest |
| Version: 2.38.0 |
| Command: /home/biocbuild/bbs-3.8-bioc/R/bin/R CMD INSTALL multtest |
| StartedAt: 2019-04-15 18:00:54 -0400 (Mon, 15 Apr 2019) |
| EndedAt: 2019-04-15 18:01:07 -0400 (Mon, 15 Apr 2019) |
| EllapsedTime: 12.7 seconds |
| RetCode: 0 |
| Status: OK |
##############################################################################
##############################################################################
###
### Running command:
###
### /home/biocbuild/bbs-3.8-bioc/R/bin/R CMD INSTALL multtest
###
##############################################################################
##############################################################################
* installing to library ‘/home/biocbuild/bbs-3.8-bioc/R/library’
* installing *source* package ‘multtest’ ...
** libs
gcc -I"/home/biocbuild/bbs-3.8-bioc/R/include" -DNDEBUG -I/usr/local/include -DUSEDOUBLE -fpic -g -O2 -Wall -c Rpack.c -o Rpack.o
gcc -I"/home/biocbuild/bbs-3.8-bioc/R/include" -DNDEBUG -I/usr/local/include -DUSEDOUBLE -fpic -g -O2 -Wall -c VScount.c -o VScount.o
gcc -I"/home/biocbuild/bbs-3.8-bioc/R/include" -DNDEBUG -I/usr/local/include -DUSEDOUBLE -fpic -g -O2 -Wall -c block_sampling_fixed.c -o block_sampling_fixed.o
gcc -I"/home/biocbuild/bbs-3.8-bioc/R/include" -DNDEBUG -I/usr/local/include -DUSEDOUBLE -fpic -g -O2 -Wall -c bootloop.c -o bootloop.o
gcc -I"/home/biocbuild/bbs-3.8-bioc/R/include" -DNDEBUG -I/usr/local/include -DUSEDOUBLE -fpic -g -O2 -Wall -c mt.c -o mt.o
gcc -I"/home/biocbuild/bbs-3.8-bioc/R/include" -DNDEBUG -I/usr/local/include -DUSEDOUBLE -fpic -g -O2 -Wall -c pairt_sampling.c -o pairt_sampling.o
gcc -I"/home/biocbuild/bbs-3.8-bioc/R/include" -DNDEBUG -I/usr/local/include -DUSEDOUBLE -fpic -g -O2 -Wall -c pairt_sampling_fixed.c -o pairt_sampling_fixed.o
gcc -I"/home/biocbuild/bbs-3.8-bioc/R/include" -DNDEBUG -I/usr/local/include -DUSEDOUBLE -fpic -g -O2 -Wall -c random.c -o random.o
gcc -I"/home/biocbuild/bbs-3.8-bioc/R/include" -DNDEBUG -I/usr/local/include -DUSEDOUBLE -fpic -g -O2 -Wall -c sampling.c -o sampling.o
gcc -I"/home/biocbuild/bbs-3.8-bioc/R/include" -DNDEBUG -I/usr/local/include -DUSEDOUBLE -fpic -g -O2 -Wall -c sampling_fixed.c -o sampling_fixed.o
gcc -I"/home/biocbuild/bbs-3.8-bioc/R/include" -DNDEBUG -I/usr/local/include -DUSEDOUBLE -fpic -g -O2 -Wall -c stat_func.c -o stat_func.o
stat_func.c: In function ‘read_infile’:
stat_func.c:703:3: warning: ignoring return value of ‘fscanf’, declared with attribute warn_unused_result [-Wunused-result]
fscanf(fh, "%s", pdata->name);
^
stat_func.c:705:5: warning: ignoring return value of ‘fscanf’, declared with attribute warn_unused_result [-Wunused-result]
fscanf(fh, "%d", pdata->L+j);
^
stat_func.c:710:5: warning: ignoring return value of ‘fscanf’, declared with attribute warn_unused_result [-Wunused-result]
fscanf(fh, "%s", pdata->id[i]);
^
stat_func.c:714:7: warning: ignoring return value of ‘fscanf’, declared with attribute warn_unused_result [-Wunused-result]
fscanf(fh, "%lg",&ftemp);
^
gcc -I"/home/biocbuild/bbs-3.8-bioc/R/include" -DNDEBUG -I/usr/local/include -DUSEDOUBLE -fpic -g -O2 -Wall -c stat_order.c -o stat_order.o
gcc -shared -L/home/biocbuild/bbs-3.8-bioc/R/lib -L/usr/local/lib -o multtest.so Rpack.o VScount.o block_sampling_fixed.o bootloop.o mt.o pairt_sampling.o pairt_sampling_fixed.o random.o sampling.o sampling_fixed.o stat_func.o stat_order.o -lm -L/home/biocbuild/bbs-3.8-bioc/R/lib -lR
installing to /home/biocbuild/bbs-3.8-bioc/R/library/multtest/libs
** R
** data
** inst
** byte-compile and prepare package for lazy loading
** help
*** installing help indices
** building package indices
** installing vignettes
** testing if installed package can be loaded
* DONE (multtest)