| Back to Multiple platform build/check report for BioC 3.8 |
|
This page was generated on 2019-04-13 11:22:56 -0400 (Sat, 13 Apr 2019).
| Package 979/1649 | Hostname | OS / Arch | INSTALL | BUILD | CHECK | BUILD BIN | ||||||
| mitoODE 1.20.1 Gregoire Pau
| malbec1 | Linux (Ubuntu 16.04.6 LTS) / x86_64 | OK | OK | OK | |||||||
| tokay1 | Windows Server 2012 R2 Standard / x64 | OK | OK | OK | [ OK ] | |||||||
| merida1 | OS X 10.11.6 El Capitan / x86_64 | OK | OK | OK | OK |
| Package: mitoODE |
| Version: 1.20.1 |
| Command: rm -rf mitoODE.buildbin-libdir && mkdir mitoODE.buildbin-libdir && C:\Users\biocbuild\bbs-3.8-bioc\R\bin\R.exe CMD INSTALL --merge-multiarch --build --library=mitoODE.buildbin-libdir mitoODE_1.20.1.tar.gz |
| StartedAt: 2019-04-13 07:39:49 -0400 (Sat, 13 Apr 2019) |
| EndedAt: 2019-04-13 07:40:01 -0400 (Sat, 13 Apr 2019) |
| EllapsedTime: 12.8 seconds |
| RetCode: 0 |
| Status: OK |
| PackageFile: mitoODE_1.20.1.zip |
| PackageFileSize: 467.9 KiB |
##############################################################################
##############################################################################
###
### Running command:
###
### rm -rf mitoODE.buildbin-libdir && mkdir mitoODE.buildbin-libdir && C:\Users\biocbuild\bbs-3.8-bioc\R\bin\R.exe CMD INSTALL --merge-multiarch --build --library=mitoODE.buildbin-libdir mitoODE_1.20.1.tar.gz
###
##############################################################################
##############################################################################
install for i386
* installing *source* package 'mitoODE' ...
** libs
C:/Rtools/mingw_32/bin/gcc -I"C:/Users/BIOCBU˜1/BBS-3˜1.8-B/R/include" -DNDEBUG -I"C:/extsoft/include" -O3 -Wall -std=gnu99 -mtune=generic -c rksolve.c -o rksolve.o
C:/Rtools/mingw_32/bin/gcc -shared -s -static-libgcc -o mitoODE.dll tmp.def rksolve.o -LC:/extsoft/lib/i386 -LC:/extsoft/lib -LC:/Users/BIOCBU˜1/BBS-3˜1.8-B/R/bin/i386 -lR
installing to C:/Users/biocbuild/bbs-3.8-bioc/meat/mitoODE.buildbin-libdir/mitoODE/libs/i386
** R
** inst
** byte-compile and prepare package for lazy loading
** help
*** installing help indices
converting help for package 'mitoODE'
finding HTML links ... done
figures html
mitoODE html
plotfit html
** building package indices
** installing vignettes
** testing if installed package can be loaded
In R CMD INSTALL
install for x64
* installing *source* package 'mitoODE' ...
** libs
C:/Rtools/mingw_64/bin/gcc -I"C:/Users/BIOCBU˜1/BBS-3˜1.8-B/R/include" -DNDEBUG -I"C:/extsoft/include" -O2 -Wall -std=gnu99 -mtune=generic -c rksolve.c -o rksolve.o
C:/Rtools/mingw_64/bin/gcc -shared -s -static-libgcc -o mitoODE.dll tmp.def rksolve.o -LC:/extsoft/lib/x64 -LC:/extsoft/lib -LC:/Users/BIOCBU˜1/BBS-3˜1.8-B/R/bin/x64 -lR
installing to C:/Users/biocbuild/bbs-3.8-bioc/meat/mitoODE.buildbin-libdir/mitoODE/libs/x64
** testing if installed package can be loaded
* MD5 sums
packaged installation of 'mitoODE' as mitoODE_1.20.1.zip
* DONE (mitoODE)
In R CMD INSTALL
In R CMD INSTALL