| Back to Multiple platform build/check report for BioC 3.8 | 
 | 
This page was generated on 2019-04-13 11:27:27 -0400 (Sat, 13 Apr 2019).
| Package 957/1649 | Hostname | OS / Arch | INSTALL | BUILD | CHECK | BUILD BIN | ||||||
| mimager 1.6.0 Aaron Wolen 
 | malbec1 | Linux (Ubuntu 16.04.6 LTS) / x86_64 | OK | OK | OK |  | ||||||
| tokay1 | Windows Server 2012 R2 Standard / x64 | OK | OK | WARNINGS | [ OK ] |  | ||||||
| merida1 | OS X 10.11.6 El Capitan / x86_64 | OK | OK | OK | OK |  | 
| Package: mimager | 
| Version: 1.6.0 | 
| Command: rm -rf mimager.buildbin-libdir && mkdir mimager.buildbin-libdir && C:\Users\biocbuild\bbs-3.8-bioc\R\bin\R.exe CMD INSTALL --merge-multiarch --build --library=mimager.buildbin-libdir mimager_1.6.0.tar.gz | 
| StartedAt: 2019-04-13 07:39:09 -0400 (Sat, 13 Apr 2019) | 
| EndedAt: 2019-04-13 07:39:42 -0400 (Sat, 13 Apr 2019) | 
| EllapsedTime: 32.4 seconds | 
| RetCode: 0 | 
| Status: OK | 
| PackageFile: mimager_1.6.0.zip | 
| PackageFileSize: 737 KiB | 
##############################################################################
##############################################################################
###
### Running command:
###
###   rm -rf mimager.buildbin-libdir && mkdir mimager.buildbin-libdir && C:\Users\biocbuild\bbs-3.8-bioc\R\bin\R.exe CMD INSTALL --merge-multiarch --build --library=mimager.buildbin-libdir mimager_1.6.0.tar.gz
###
##############################################################################
##############################################################################
install for i386
* installing *source* package 'mimager' ...
** R
** inst
** byte-compile and prepare package for lazy loading
** help
*** installing help indices
  converting help for package 'mimager'
    finding HTML links ... done
    arank                                   html  
    arle                                    html  
Rd warning: C:/Users/biocbuild/bbs-3.8-bioc/tmpdir/Rtmpo1J0tE/R.INSTALL3b0015941ec9/mimager/man/arle.Rd:33: file link 'RLE' in package 'affyPLM' does not exist and so has been treated as a topic
    marray                                  html  
    mimage                                  html  
    mimager                                 html  
Rd warning: C:/Users/biocbuild/bbs-3.8-bioc/tmpdir/Rtmpo1J0tE/R.INSTALL3b0015941ec9/mimager/man/mimager.Rd:25: file link 'FeatureSet-class' in package 'oligoClasses' does not exist and so has been treated as a topic
** building package indices
** installing vignettes
** testing if installed package can be loaded
In R CMD INSTALL
install for x64
* installing *source* package 'mimager' ...
** testing if installed package can be loaded
* MD5 sums
packaged installation of 'mimager' as mimager_1.6.0.zip
* DONE (mimager)
In R CMD INSTALL
In R CMD INSTALL