| Back to Multiple platform build/check report for BioC 3.8 | 
 | 
This page was generated on 2019-04-13 11:21:09 -0400 (Sat, 13 Apr 2019).
| Package 934/1649 | Hostname | OS / Arch | INSTALL | BUILD | CHECK | BUILD BIN | ||||||
| methVisual 1.34.0 Arie Zackay 
 | malbec1 | Linux (Ubuntu 16.04.6 LTS) / x86_64 | OK | OK | WARNINGS |  | ||||||
| tokay1 | Windows Server 2012 R2 Standard / x64 | [ OK ] | OK | WARNINGS | OK |  | ||||||
| merida1 | OS X 10.11.6 El Capitan / x86_64 | OK | OK | WARNINGS | OK |  | 
| Package: methVisual | 
| Version: 1.34.0 | 
| Command: C:\cygwin\bin\curl.exe -O https://malbec1.bioconductor.org/BBS/3.8/bioc/src/contrib/methVisual_1.34.0.tar.gz && rm -rf methVisual.buildbin-libdir && mkdir methVisual.buildbin-libdir && C:\Users\biocbuild\bbs-3.8-bioc\R\bin\R.exe CMD INSTALL --merge-multiarch --build --library=methVisual.buildbin-libdir methVisual_1.34.0.tar.gz && C:\Users\biocbuild\bbs-3.8-bioc\R\bin\R.exe CMD INSTALL methVisual_1.34.0.zip && rm methVisual_1.34.0.tar.gz methVisual_1.34.0.zip | 
| StartedAt: 2019-04-12 19:12:40 -0400 (Fri, 12 Apr 2019) | 
| EndedAt: 2019-04-12 19:13:33 -0400 (Fri, 12 Apr 2019) | 
| EllapsedTime: 52.8 seconds | 
| RetCode: 0 | 
| Status: OK | 
##############################################################################
##############################################################################
###
### Running command:
###
###   C:\cygwin\bin\curl.exe -O https://malbec1.bioconductor.org/BBS/3.8/bioc/src/contrib/methVisual_1.34.0.tar.gz && rm -rf methVisual.buildbin-libdir && mkdir methVisual.buildbin-libdir && C:\Users\biocbuild\bbs-3.8-bioc\R\bin\R.exe CMD INSTALL --merge-multiarch --build --library=methVisual.buildbin-libdir methVisual_1.34.0.tar.gz && C:\Users\biocbuild\bbs-3.8-bioc\R\bin\R.exe CMD INSTALL methVisual_1.34.0.zip && rm methVisual_1.34.0.tar.gz methVisual_1.34.0.zip
###
##############################################################################
##############################################################################
  % Total    % Received % Xferd  Average Speed   Time    Time     Time  Current
                                 Dload  Upload   Total   Spent    Left  Speed
  0     0    0     0    0     0      0      0 --:--:-- --:--:-- --:--:--     0
100 23672  100 23672    0     0   601k      0 --:--:-- --:--:-- --:--:--  660k
install for i386
* installing *source* package 'methVisual' ...
** R
** data
** inst
** byte-compile and prepare package for lazy loading
Note: possible error in 'windows(n, lengthData, ': unused argument (rescale = "fixed") 
** help
*** installing help indices
  converting help for package 'methVisual'
    finding HTML links ... done
    Cooccurrence                            html  
    MethAlignNW                             html  
    MethDataInput                           html  
    MethLollipops                           html  
    MethylQC                                html  
    cgInAlign                               html  
    cgMethFinder                            html  
    coversionGenom                          html  
    findNonAligned                          html  
    heatMapMeth                             html  
    makeDataMethGFF                         html  
    makeLocalExpDir                         html  
    makeTabFilePath                         html  
    matrixSNP                               html  
    methCA                                  html  
    methData                                html  
    methFisherTest                          html  
    methWhitneyUTest                        html  
    plotAbsMethyl                           html  
    plotMatrixSNP                           html  
    readBisulfFASTA                         html  
    selectRefSeq                            html  
** building package indices
** installing vignettes
** testing if installed package can be loaded
In R CMD INSTALL
install for x64
* installing *source* package 'methVisual' ...
** testing if installed package can be loaded
* MD5 sums
packaged installation of 'methVisual' as methVisual_1.34.0.zip
* DONE (methVisual)
In R CMD INSTALL
In R CMD INSTALL
* installing to library 'C:/Users/biocbuild/bbs-3.8-bioc/R/library'
package 'methVisual' successfully unpacked and MD5 sums checked
In R CMD INSTALL