| Back to Multiple platform build/check report for BioC 3.8 | 
 | 
This page was generated on 2019-04-16 12:00:42 -0400 (Tue, 16 Apr 2019).
| Package 931/1649 | Hostname | OS / Arch | INSTALL | BUILD | CHECK | BUILD BIN | ||||||
| methInheritSim 1.4.1 Pascal Belleau 
 | malbec1 | Linux (Ubuntu 16.04.6 LTS) / x86_64 | OK | OK | OK |  | ||||||
| merida1 | OS X 10.11.6 El Capitan / x86_64 | OK | OK | [ OK ] | OK |  | 
| Package: methInheritSim | 
| Version: 1.4.1 | 
| Command: /Library/Frameworks/R.framework/Versions/Current/Resources/bin/R CMD check --install=check:methInheritSim.install-out.txt --library=/Library/Frameworks/R.framework/Versions/Current/Resources/library --no-vignettes --timings methInheritSim_1.4.1.tar.gz | 
| StartedAt: 2019-04-16 01:10:24 -0400 (Tue, 16 Apr 2019) | 
| EndedAt: 2019-04-16 01:15:22 -0400 (Tue, 16 Apr 2019) | 
| EllapsedTime: 298.4 seconds | 
| RetCode: 0 | 
| Status: OK | 
| CheckDir: methInheritSim.Rcheck | 
| Warnings: 0 | 
##############################################################################
##############################################################################
###
### Running command:
###
###   /Library/Frameworks/R.framework/Versions/Current/Resources/bin/R CMD check --install=check:methInheritSim.install-out.txt --library=/Library/Frameworks/R.framework/Versions/Current/Resources/library --no-vignettes --timings methInheritSim_1.4.1.tar.gz
###
##############################################################################
##############################################################################
* using log directory ‘/Users/biocbuild/bbs-3.8-bioc/meat/methInheritSim.Rcheck’
* using R version 3.5.3 (2019-03-11)
* using platform: x86_64-apple-darwin15.6.0 (64-bit)
* using session charset: UTF-8
* using option ‘--no-vignettes’
* checking for file ‘methInheritSim/DESCRIPTION’ ... OK
* checking extension type ... Package
* this is package ‘methInheritSim’ version ‘1.4.1’
* package encoding: UTF-8
* checking package namespace information ... OK
* checking package dependencies ... OK
* checking if this is a source package ... OK
* checking if there is a namespace ... OK
* checking for hidden files and directories ... NOTE
Found the following hidden files and directories:
  .travis.yml
These were most likely included in error. See section ‘Package
structure’ in the ‘Writing R Extensions’ manual.
* checking for portable file names ... OK
* checking for sufficient/correct file permissions ... OK
* checking whether package ‘methInheritSim’ can be installed ... OK
* checking installed package size ... OK
* checking package directory ... OK
* checking ‘build’ directory ... OK
* checking DESCRIPTION meta-information ... OK
* checking top-level files ... OK
* checking for left-over files ... OK
* checking index information ... OK
* checking package subdirectories ... OK
* checking R files for non-ASCII characters ... OK
* checking R files for syntax errors ... OK
* checking whether the package can be loaded ... OK
* checking whether the package can be loaded with stated dependencies ... OK
* checking whether the package can be unloaded cleanly ... OK
* checking whether the namespace can be loaded with stated dependencies ... OK
* checking whether the namespace can be unloaded cleanly ... OK
* checking dependencies in R code ... OK
* checking S3 generic/method consistency ... OK
* checking replacement functions ... OK
* checking foreign function calls ... OK
* checking R code for possible problems ... OK
* checking Rd files ... OK
* checking Rd metadata ... OK
* checking Rd cross-references ... OK
* checking for missing documentation entries ... OK
* checking for code/documentation mismatches ... OK
* checking Rd \usage sections ... OK
* checking Rd contents ... OK
* checking for unstated dependencies in examples ... OK
* checking contents of ‘data’ directory ... OK
* checking data for non-ASCII characters ... OK
* checking data for ASCII and uncompressed saves ... OK
* checking files in ‘vignettes’ ... OK
* checking examples ... OK
Examples with CPU or elapsed time > 5s
                         user system elapsed
samplesForChrSynthetic 13.118  0.132  13.410
runSim                  6.531  0.124   6.736
* checking for unstated dependencies in ‘tests’ ... OK
* checking tests ...
  Running ‘runTests.R’
 OK
* checking for unstated dependencies in vignettes ... OK
* checking package vignettes in ‘inst/doc’ ... OK
* checking running R code from vignettes ... SKIPPED
* checking re-building of vignette outputs ... SKIPPED
* checking PDF version of manual ... OK
* DONE
Status: 1 NOTE
See
  ‘/Users/biocbuild/bbs-3.8-bioc/meat/methInheritSim.Rcheck/00check.log’
for details.
methInheritSim.Rcheck/00install.out
############################################################################## ############################################################################## ### ### Running command: ### ### /Library/Frameworks/R.framework/Versions/Current/Resources/bin/R CMD INSTALL methInheritSim ### ############################################################################## ############################################################################## * installing to library ‘/Library/Frameworks/R.framework/Versions/3.5/Resources/library’ * installing *source* package ‘methInheritSim’ ... ** R ** data ** inst ** byte-compile and prepare package for lazy loading ** help *** installing help indices ** building package indices ** installing vignettes ** testing if installed package can be loaded * DONE (methInheritSim)
methInheritSim.Rcheck/tests/runTests.Rout
R version 3.5.3 (2019-03-11) -- "Great Truth"
Copyright (C) 2019 The R Foundation for Statistical Computing
Platform: x86_64-apple-darwin15.6.0 (64-bit)
R is free software and comes with ABSOLUTELY NO WARRANTY.
You are welcome to redistribute it under certain conditions.
Type 'license()' or 'licence()' for distribution details.
R is a collaborative project with many contributors.
Type 'contributors()' for more information and
'citation()' on how to cite R or R packages in publications.
Type 'demo()' for some demos, 'help()' for on-line help, or
'help.start()' for an HTML browser interface to help.
Type 'q()' to quit R.
> ## Run all tests presnt in the package
> BiocGenerics:::testPackage("methInheritSim")
Loading required package: stats4
Loading required package: BiocGenerics
Loading required package: parallel
Attaching package: 'BiocGenerics'
The following objects are masked from 'package:parallel':
    clusterApply, clusterApplyLB, clusterCall, clusterEvalQ,
    clusterExport, clusterMap, parApply, parCapply, parLapply,
    parLapplyLB, parRapply, parSapply, parSapplyLB
The following objects are masked from 'package:stats':
    IQR, mad, sd, var, xtabs
The following objects are masked from 'package:base':
    Filter, Find, Map, Position, Reduce, anyDuplicated, append,
    as.data.frame, basename, cbind, colMeans, colSums, colnames,
    dirname, do.call, duplicated, eval, evalq, get, grep, grepl,
    intersect, is.unsorted, lapply, lengths, mapply, match, mget,
    order, paste, pmax, pmax.int, pmin, pmin.int, rank, rbind,
    rowMeans, rowSums, rownames, sapply, setdiff, sort, table, tapply,
    union, unique, unsplit, which, which.max, which.min
Loading required package: S4Vectors
Attaching package: 'S4Vectors'
The following object is masked from 'package:base':
    expand.grid
Loading required package: IRanges
Loading required package: GenomeInfoDb
two groups detected:
 will calculate methylation difference as the difference of
treatment (group: 1) - control (group: 0)
two groups detected:
 will calculate methylation difference as the difference of
treatment (group: 1) - control (group: 0)
two groups detected:
 will calculate methylation difference as the difference of
treatment (group: 1) - control (group: 0)
two groups detected:
 will calculate methylation difference as the difference of
treatment (group: 1) - control (group: 0)
two groups detected:
 will calculate methylation difference as the difference of
treatment (group: 1) - control (group: 0)
two groups detected:
 will calculate methylation difference as the difference of
treatment (group: 1) - control (group: 0)
two groups detected:
 will calculate methylation difference as the difference of
treatment (group: 1) - control (group: 0)
two groups detected:
 will calculate methylation difference as the difference of
treatment (group: 1) - control (group: 0)
two groups detected:
 will calculate methylation difference as the difference of
treatment (group: 1) - control (group: 0)
two groups detected:
 will calculate methylation difference as the difference of
treatment (group: 1) - control (group: 0)
two groups detected:
 will calculate methylation difference as the difference of
treatment (group: 1) - control (group: 0)
RUNIT TEST PROTOCOL -- Tue Apr 16 01:15:17 2019 
*********************************************** 
Number of test functions: 104 
Number of errors: 0 
Number of failures: 0 
 
1 Test Suite : 
methInheritSim RUnit Tests - 104 test functions, 0 errors, 0 failures
Number of test functions: 104 
Number of errors: 0 
Number of failures: 0 
> 
> proc.time()
   user  system elapsed 
 38.652   8.385  35.090 
methInheritSim.Rcheck/methInheritSim-Ex.timings
| name | user | system | elapsed | |
| calculateNbDiffCase | 0.001 | 0.001 | 0.001 | |
| createSampleID | 0.001 | 0.000 | 0.002 | |
| dataSimExample | 0.016 | 0.005 | 0.022 | |
| estBetaAlpha | 0.001 | 0.000 | 0.001 | |
| estBetaBeta | 0 | 0 | 0 | |
| fixSeed | 0 | 0 | 0 | |
| getDiffCase | 0.001 | 0.000 | 0.002 | |
| getDiffMeth | 0.026 | 0.009 | 0.036 | |
| getSim | 1.450 | 0.026 | 1.482 | |
| getSyntheticChr | 0.209 | 0.044 | 0.257 | |
| runOnEachSynCHR | 2.602 | 0.185 | 2.882 | |
| runSim | 6.531 | 0.124 | 6.736 | |
| samplesForChrSynthetic | 13.118 | 0.132 | 13.410 | |
| saveData | 0 | 0 | 0 | |
| simEachGeneration | 0.638 | 0.009 | 0.658 | |
| simInheritance | 1.073 | 0.006 | 1.097 | |
| testIfAlreadyDone | 0 | 0 | 0 | |
| validateRunSimDoubleParameters | 0.000 | 0.001 | 0.000 | |
| validateRunSimIntegerParameters | 0.000 | 0.000 | 0.001 | |
| validateRunSimLogicalParameters | 0.041 | 0.009 | 0.049 | |
| validateRunSimOtherParameters | 0.044 | 0.007 | 0.052 | |
| validateRunSimParameters | 0.044 | 0.006 | 0.051 | |