| Back to Multiple platform build/check report for BioC 3.8 | 
 | 
This page was generated on 2019-04-16 12:00:37 -0400 (Tue, 16 Apr 2019).
| Package 928/1649 | Hostname | OS / Arch | INSTALL | BUILD | CHECK | BUILD BIN | ||||||
| metavizr 1.6.2 Hector Corrada Bravo 
 | malbec1 | Linux (Ubuntu 16.04.6 LTS) / x86_64 | OK | OK | OK |  | ||||||
| merida1 | OS X 10.11.6 El Capitan / x86_64 | OK | OK | OK | [ OK ] |  | 
| Package: metavizr | 
| Version: 1.6.2 | 
| Command: rm -rf metavizr.buildbin-libdir && mkdir metavizr.buildbin-libdir && /Users/biocbuild/BBS/utils/build-universal.sh metavizr_1.6.2.tar.gz /Library/Frameworks/R.framework/Versions/Current/Resources/bin/R metavizr.buildbin-libdir | 
| StartedAt: 2019-04-16 04:21:33 -0400 (Tue, 16 Apr 2019) | 
| EndedAt: 2019-04-16 04:22:19 -0400 (Tue, 16 Apr 2019) | 
| EllapsedTime: 46.1 seconds | 
| RetCode: 0 | 
| Status: OK | 
| PackageFile: metavizr_1.6.2.tgz | 
| PackageFileSize: 1.997 MiB | 
############################################################################## ############################################################################## ### ### Running command: ### ### rm -rf metavizr.buildbin-libdir && mkdir metavizr.buildbin-libdir && /Users/biocbuild/BBS/utils/build-universal.sh metavizr_1.6.2.tar.gz /Library/Frameworks/R.framework/Versions/Current/Resources/bin/R metavizr.buildbin-libdir ### ############################################################################## ############################################################################## >>>>>>> >>>>>>> INSTALLATION WITH 'R CMD INSTALL --preclean --no-multiarch --library=metavizr.buildbin-libdir metavizr_1.6.2.tar.gz' >>>>>>> * installing *source* package ‘metavizr’ ... ** R ** inst ** byte-compile and prepare package for lazy loading Warning: replacing previous import 'S4Vectors::merge' by 'git2r::merge' when loading 'epivizrStandalone' Warning: replacing previous import 'S4Vectors::head' by 'git2r::head' when loading 'epivizrStandalone' Warning: replacing previous import 'S4Vectors::as.data.frame' by 'git2r::as.data.frame' when loading 'epivizrStandalone' ** help *** installing help indices ** building package indices ** installing vignettes ** testing if installed package can be loaded Warning: replacing previous import 'S4Vectors::merge' by 'git2r::merge' when loading 'epivizrStandalone' Warning: replacing previous import 'S4Vectors::head' by 'git2r::head' when loading 'epivizrStandalone' Warning: replacing previous import 'S4Vectors::as.data.frame' by 'git2r::as.data.frame' when loading 'epivizrStandalone' * DONE (metavizr)