| Back to Multiple platform build/check report for BioC 3.8 |
|
This page was generated on 2019-04-16 11:55:00 -0400 (Tue, 16 Apr 2019).
| Package 923/1649 | Hostname | OS / Arch | INSTALL | BUILD | CHECK | BUILD BIN | ||||||
| metahdep 1.40.0 John R. Stevens
| malbec1 | Linux (Ubuntu 16.04.6 LTS) / x86_64 | OK | OK | WARNINGS | |||||||
| merida1 | OS X 10.11.6 El Capitan / x86_64 | OK | OK | WARNINGS | [ OK ] |
| Package: metahdep |
| Version: 1.40.0 |
| Command: rm -rf metahdep.buildbin-libdir && mkdir metahdep.buildbin-libdir && /Users/biocbuild/BBS/utils/build-universal.sh metahdep_1.40.0.tar.gz /Library/Frameworks/R.framework/Versions/Current/Resources/bin/R metahdep.buildbin-libdir |
| StartedAt: 2019-04-16 04:21:19 -0400 (Tue, 16 Apr 2019) |
| EndedAt: 2019-04-16 04:22:04 -0400 (Tue, 16 Apr 2019) |
| EllapsedTime: 44.7 seconds |
| RetCode: 0 |
| Status: OK |
| PackageFile: metahdep_1.40.0.tgz |
| PackageFileSize: 532.8 KiB |
##############################################################################
##############################################################################
###
### Running command:
###
### rm -rf metahdep.buildbin-libdir && mkdir metahdep.buildbin-libdir && /Users/biocbuild/BBS/utils/build-universal.sh metahdep_1.40.0.tar.gz /Library/Frameworks/R.framework/Versions/Current/Resources/bin/R metahdep.buildbin-libdir
###
##############################################################################
##############################################################################
>>>>>>>
>>>>>>> INSTALLATION WITH 'R CMD INSTALL --preclean --no-multiarch --library=metahdep.buildbin-libdir metahdep_1.40.0.tar.gz'
>>>>>>>
* installing *source* package ‘metahdep’ ...
** libs
clang -I"/Library/Frameworks/R.framework/Resources/include" -DNDEBUG -I/usr/local/include -fPIC -Wall -g -O2 -c metahdep.c -o metahdep.o
metahdep.c:471:79: warning: incompatible pointer to integer conversion passing 'const char *' to parameter of type 'char' [-Wint-conversion]
index = metan_binary_search_unique(name_list, sort_index, R_old_names, j, CHAR(STRING_ELT(R_old_chipsets, j)), i);
^˜˜˜˜˜˜˜˜˜˜˜˜˜˜˜˜˜˜˜˜˜˜˜˜˜˜˜˜˜˜˜˜˜˜
/Library/Frameworks/R.framework/Resources/include/Rinternals.h:478:18: note: expanded from macro 'CHAR'
#define CHAR(x) R_CHAR(x)
^˜˜˜˜˜˜˜˜
metahdep.c:372:103: note: passing argument to parameter 'chipset_name' here
SEXP metan_binary_search_unique(SEXP name_list, SEXP sort_index, SEXP gene_name, int gene_index, char chipset_name, int study_num)
^
1 warning generated.
clang -dynamiclib -Wl,-headerpad_max_install_names -undefined dynamic_lookup -single_module -multiply_defined suppress -L/Library/Frameworks/R.framework/Resources/lib -L/usr/local/lib -o metahdep.so metahdep.o -F/Library/Frameworks/R.framework/.. -framework R -Wl,-framework -Wl,CoreFoundation
installing to /Users/biocbuild/bbs-3.8-bioc/meat/metahdep.buildbin-libdir/metahdep/libs
** R
** data
** inst
** byte-compile and prepare package for lazy loading
** help
*** installing help indices
** building package indices
** installing vignettes
** testing if installed package can be loaded
* DONE (metahdep)
>>>>>>>
>>>>>>> FIXING LINKS FOR metahdep.buildbin-libdir/metahdep/libs//metahdep.so
>>>>>>>
install_name_tool -change "/usr/local/lib/libgcc_s.1.dylib" "/Library/Frameworks/R.framework/Versions/3.5/Resources/lib/libgcc_s.1.dylib" "metahdep.buildbin-libdir/metahdep/libs//metahdep.so"
install_name_tool -change "/usr/local/lib/libgfortran.3.dylib" "/Library/Frameworks/R.framework/Versions/3.5/Resources/lib/libgfortran.3.dylib" "metahdep.buildbin-libdir/metahdep/libs//metahdep.so"
install_name_tool -change "/usr/local/lib/libreadline.5.2.dylib" "/Library/Frameworks/R.framework/Versions/3.5/Resources/lib/libreadline.5.2.dylib" "metahdep.buildbin-libdir/metahdep/libs//metahdep.so"
install_name_tool -change "/usr/local/lib/libreadline.dylib" "/Library/Frameworks/R.framework/Versions/3.5/Resources/lib/libreadline.dylib" "metahdep.buildbin-libdir/metahdep/libs//metahdep.so"
install_name_tool -change "/usr/local/lib/libquadmath.0.dylib" "/Library/Frameworks/R.framework/Versions/3.5/Resources/lib/libquadmath.0.dylib" "metahdep.buildbin-libdir/metahdep/libs//metahdep.so"