| Back to Multiple platform build/check report for BioC 3.8 |
|
This page was generated on 2019-04-13 11:25:59 -0400 (Sat, 13 Apr 2019).
| Package 921/1649 | Hostname | OS / Arch | INSTALL | BUILD | CHECK | BUILD BIN | ||||||
| metagenomeFeatures 2.2.3 Nathan D. Olson
| malbec1 | Linux (Ubuntu 16.04.6 LTS) / x86_64 | OK | OK | OK | |||||||
| tokay1 | Windows Server 2012 R2 Standard / x64 | OK | OK | WARNINGS | [ OK ] | |||||||
| merida1 | OS X 10.11.6 El Capitan / x86_64 | OK | OK | OK | OK |
| Package: metagenomeFeatures |
| Version: 2.2.3 |
| Command: rm -rf metagenomeFeatures.buildbin-libdir && mkdir metagenomeFeatures.buildbin-libdir && C:\Users\biocbuild\bbs-3.8-bioc\R\bin\R.exe CMD INSTALL --merge-multiarch --build --library=metagenomeFeatures.buildbin-libdir metagenomeFeatures_2.2.3.tar.gz |
| StartedAt: 2019-04-13 07:37:52 -0400 (Sat, 13 Apr 2019) |
| EndedAt: 2019-04-13 07:38:09 -0400 (Sat, 13 Apr 2019) |
| EllapsedTime: 16.3 seconds |
| RetCode: 0 |
| Status: OK |
| PackageFile: metagenomeFeatures_2.2.3.zip |
| PackageFileSize: 4.222 MiB |
##############################################################################
##############################################################################
###
### Running command:
###
### rm -rf metagenomeFeatures.buildbin-libdir && mkdir metagenomeFeatures.buildbin-libdir && C:\Users\biocbuild\bbs-3.8-bioc\R\bin\R.exe CMD INSTALL --merge-multiarch --build --library=metagenomeFeatures.buildbin-libdir metagenomeFeatures_2.2.3.tar.gz
###
##############################################################################
##############################################################################
install for i386
* installing *source* package 'metagenomeFeatures' ...
** R
** data
*** moving datasets to lazyload DB
** inst
** byte-compile and prepare package for lazy loading
** help
*** installing help indices
converting help for package 'metagenomeFeatures'
finding HTML links ... done
MgDb-accessor html
MgDb-class html
MgDb-methods html
annotateFeatures-MgDb-method html
get_gg13.8_85MgDb html
make_mgdb_sqlite html
mgFeatures-accessors html
mgFeatures-class html
Rd warning: C:/Users/biocbuild/bbs-3.8-bioc/tmpdir/RtmpWiS25w/R.INSTALL2d304b6f75b1/metagenomeFeatures/man/mgFeatures-class.Rd:27: file link 'DataFrame' in package 'S4Vectors' does not exist and so has been treated as a topic
mgFeatures-methods html
mock_mgF html
mock_query_df html
newMgDb html
qiita_study_94_gg_ids html
reexports html
Rd warning: C:/Users/biocbuild/bbs-3.8-bioc/tmpdir/RtmpWiS25w/R.INSTALL2d304b6f75b1/metagenomeFeatures/man/reexports.Rd:14: file link '%>%' in package 'magrittr' does not exist and so has been treated as a topic
select-MgDb-method html
taxa_ html
** building package indices
** installing vignettes
** testing if installed package can be loaded
In R CMD INSTALL
install for x64
* installing *source* package 'metagenomeFeatures' ...
** testing if installed package can be loaded
* MD5 sums
packaged installation of 'metagenomeFeatures' as metagenomeFeatures_2.2.3.zip
* DONE (metagenomeFeatures)
In R CMD INSTALL
In R CMD INSTALL