| Back to Multiple platform build/check report for BioC 3.8 |
|
This page was generated on 2019-04-16 11:50:43 -0400 (Tue, 16 Apr 2019).
| Package 920/1649 | Hostname | OS / Arch | INSTALL | BUILD | CHECK | BUILD BIN | ||||||
| metagene 2.14.0 Charles Joly Beauparlant
| malbec1 | Linux (Ubuntu 16.04.6 LTS) / x86_64 | OK | [ OK ] | ERROR | |||||||
| merida1 | OS X 10.11.6 El Capitan / x86_64 | OK | OK | ERROR | OK |
| Package: metagene |
| Version: 2.14.0 |
| Command: /home/biocbuild/bbs-3.8-bioc/R/bin/R CMD build --keep-empty-dirs --no-resave-data metagene |
| StartedAt: 2019-04-15 19:49:22 -0400 (Mon, 15 Apr 2019) |
| EndedAt: 2019-04-15 19:52:04 -0400 (Mon, 15 Apr 2019) |
| EllapsedTime: 161.9 seconds |
| RetCode: 0 |
| Status: OK |
| PackageFile: metagene_2.14.0.tar.gz |
| PackageFileSize: 6.529 MiB |
##############################################################################
##############################################################################
###
### Running command:
###
### /home/biocbuild/bbs-3.8-bioc/R/bin/R CMD build --keep-empty-dirs --no-resave-data metagene
###
##############################################################################
##############################################################################
* checking for file ‘metagene/DESCRIPTION’ ... OK
* preparing ‘metagene’:
* checking DESCRIPTION meta-information ... OK
* installing the package to build vignettes
* creating vignettes ... OK
Warning: ‘inst/doc’ file
‘metagene_rnaseq.R’
ignored as vignettes have been rebuilt.
Run R CMD build with --no-build-vignettes to prevent rebuilding.
* checking for LF line-endings in source and make files and shell scripts
* checking for empty or unneeded directories
* looking to see if a ‘data/datalist’ file should be added
* building ‘metagene_2.14.0.tar.gz’