| Back to Multiple platform build/check report for BioC 3.8 |
|
This page was generated on 2019-04-16 11:54:47 -0400 (Tue, 16 Apr 2019).
| Package 901/1649 | Hostname | OS / Arch | INSTALL | BUILD | CHECK | BUILD BIN | ||||||
| mdqc 1.44.0 Gabriela Cohen-Freue
| malbec1 | Linux (Ubuntu 16.04.6 LTS) / x86_64 | OK | OK | OK | |||||||
| merida1 | OS X 10.11.6 El Capitan / x86_64 | OK | OK | OK | [ OK ] |
| Package: mdqc |
| Version: 1.44.0 |
| Command: rm -rf mdqc.buildbin-libdir && mkdir mdqc.buildbin-libdir && /Users/biocbuild/BBS/utils/build-universal.sh mdqc_1.44.0.tar.gz /Library/Frameworks/R.framework/Versions/Current/Resources/bin/R mdqc.buildbin-libdir |
| StartedAt: 2019-04-16 04:20:20 -0400 (Tue, 16 Apr 2019) |
| EndedAt: 2019-04-16 04:21:05 -0400 (Tue, 16 Apr 2019) |
| EllapsedTime: 45.1 seconds |
| RetCode: 0 |
| Status: OK |
| PackageFile: mdqc_1.44.0.tgz |
| PackageFileSize: 233.4 KiB |
############################################################################## ############################################################################## ### ### Running command: ### ### rm -rf mdqc.buildbin-libdir && mkdir mdqc.buildbin-libdir && /Users/biocbuild/BBS/utils/build-universal.sh mdqc_1.44.0.tar.gz /Library/Frameworks/R.framework/Versions/Current/Resources/bin/R mdqc.buildbin-libdir ### ############################################################################## ############################################################################## >>>>>>> >>>>>>> INSTALLATION WITH 'R CMD INSTALL --preclean --no-multiarch --library=mdqc.buildbin-libdir mdqc_1.44.0.tar.gz' >>>>>>> * installing *source* package ‘mdqc’ ... ** R ** data ** inst ** byte-compile and prepare package for lazy loading ** help *** installing help indices ** building package indices ** installing vignettes ** testing if installed package can be loaded * DONE (mdqc)