| Back to Multiple platform build/check report for BioC 3.8 |
|
This page was generated on 2019-04-13 11:29:13 -0400 (Sat, 13 Apr 2019).
| Package 900/1649 | Hostname | OS / Arch | INSTALL | BUILD | CHECK | BUILD BIN | ||||||
| mdp 1.2.1 Helder Nakaya
| malbec1 | Linux (Ubuntu 16.04.6 LTS) / x86_64 | OK | OK | OK | |||||||
| tokay1 | Windows Server 2012 R2 Standard / x64 | OK | OK | OK | [ OK ] | |||||||
| merida1 | OS X 10.11.6 El Capitan / x86_64 | OK | OK | OK | OK |
| Package: mdp |
| Version: 1.2.1 |
| Command: rm -rf mdp.buildbin-libdir && mkdir mdp.buildbin-libdir && C:\Users\biocbuild\bbs-3.8-bioc\R\bin\R.exe CMD INSTALL --merge-multiarch --build --library=mdp.buildbin-libdir mdp_1.2.1.tar.gz |
| StartedAt: 2019-04-13 07:37:15 -0400 (Sat, 13 Apr 2019) |
| EndedAt: 2019-04-13 07:37:27 -0400 (Sat, 13 Apr 2019) |
| EllapsedTime: 12.5 seconds |
| RetCode: 0 |
| Status: OK |
| PackageFile: mdp_1.2.1.zip |
| PackageFileSize: 3.801 MiB |
##############################################################################
##############################################################################
###
### Running command:
###
### rm -rf mdp.buildbin-libdir && mkdir mdp.buildbin-libdir && C:\Users\biocbuild\bbs-3.8-bioc\R\bin\R.exe CMD INSTALL --merge-multiarch --build --library=mdp.buildbin-libdir mdp_1.2.1.tar.gz
###
##############################################################################
##############################################################################
install for i386
* installing *source* package 'mdp' ...
** R
** data
*** moving datasets to lazyload DB
** inst
** byte-compile and prepare package for lazy loading
** help
*** installing help indices
converting help for package 'mdp'
finding HTML links ... done
compute_gene_score html
compute_perturbed_genes html
compute_sample_scores html
compute_zscore html
example_data html
example_pheno html
mdp html
pathway_summary html
sample_data html
sample_plot html
** building package indices
** installing vignettes
** testing if installed package can be loaded
In R CMD INSTALL
install for x64
* installing *source* package 'mdp' ...
** testing if installed package can be loaded
* MD5 sums
packaged installation of 'mdp' as mdp_1.2.1.zip
* DONE (mdp)
In R CMD INSTALL
In R CMD INSTALL