| Back to Multiple platform build/check report for BioC 3.8 |
|
This page was generated on 2019-04-07 11:42:14 -0400 (Sun, 07 Apr 2019).
| Package 866/1649 | Hostname | OS / Arch | INSTALL | BUILD | CHECK | BUILD BIN | ||||||
| maftools 1.8.0 Anand Mayakonda
| malbec1 | Linux (Ubuntu 16.04.6 LTS) / x86_64 | OK | OK | OK | |||||||
| tokay1 | Windows Server 2012 R2 Standard / x64 | OK | OK | OK | [ OK ] | |||||||
| merida1 | OS X 10.11.6 El Capitan / x86_64 | OK | OK | OK | OK |
| Package: maftools |
| Version: 1.8.0 |
| Command: rm -rf maftools.buildbin-libdir && mkdir maftools.buildbin-libdir && C:\Users\biocbuild\bbs-3.8-bioc\R\bin\R.exe CMD INSTALL --merge-multiarch --build --library=maftools.buildbin-libdir maftools_1.8.0.tar.gz |
| StartedAt: 2019-04-07 07:02:08 -0400 (Sun, 07 Apr 2019) |
| EndedAt: 2019-04-07 07:03:56 -0400 (Sun, 07 Apr 2019) |
| EllapsedTime: 107.5 seconds |
| RetCode: 0 |
| Status: OK |
| PackageFile: maftools_1.8.0.zip |
| PackageFileSize: 7.837 MiB |
##############################################################################
##############################################################################
###
### Running command:
###
### rm -rf maftools.buildbin-libdir && mkdir maftools.buildbin-libdir && C:\Users\biocbuild\bbs-3.8-bioc\R\bin\R.exe CMD INSTALL --merge-multiarch --build --library=maftools.buildbin-libdir maftools_1.8.0.tar.gz
###
##############################################################################
##############################################################################
install for i386
* installing *source* package 'maftools' ...
** R
** inst
** byte-compile and prepare package for lazy loading
** help
*** installing help indices
converting help for package 'maftools'
finding HTML links ... done
GISTIC-class html
MAF-class html
OncogenicPathways html
PlotOncogenicPathways html
annovarToMaf html
clinicalEnrichment html
coOncoplot html
drugInteractions html
extractSignatures html
finding level-2 HTML links ... done
forestPlot html
geneCloud html
genesToBarcodes html
genotypeMatrix html
getClinicalData html
getCytobandSummary html
getFields html
getGeneSummary html
getSampleSummary html
gisticBubblePlot html
gisticChromPlot html
gisticOncoPlot html
icgcSimpleMutationToMAF html
inferHeterogeneity html
lollipopPlot html
lollipopPlot2 html
mafCompare html
mafSummary html
mafSurvival html
math.score html
merge_mafs html
mutCountMatrix html
oncodrive html
oncoplot html
oncostrip html
oncotate html
pancanComparison html
pfamDomains html
plotApobecDiff html
plotCBSsegments html
plotClusters html
plotEnrichmentResults html
plotOncodrive html
plotSignatures html
plotTiTv html
plotVaf html
plotmafSummary html
prepareMutSig html
rainfallPlot html
read.maf html
readGistic html
signatureEnrichment html
somaticInteractions html
subsetMaf html
tcgaCompare html
titv html
trinucleotideMatrix html
write.GisticSummary html
write.mafSummary html
** building package indices
** installing vignettes
** testing if installed package can be loaded
In R CMD INSTALL
install for x64
* installing *source* package 'maftools' ...
** testing if installed package can be loaded
* MD5 sums
packaged installation of 'maftools' as maftools_1.8.0.zip
* DONE (maftools)
In R CMD INSTALL
In R CMD INSTALL