| Back to Multiple platform build/check report for BioC 3.8 |
|
This page was generated on 2019-04-13 11:19:32 -0400 (Sat, 13 Apr 2019).
| Package 861/1649 | Hostname | OS / Arch | INSTALL | BUILD | CHECK | BUILD BIN | ||||||
| macat 1.56.0 Joern Toedling
| malbec1 | Linux (Ubuntu 16.04.6 LTS) / x86_64 | OK | OK | WARNINGS | |||||||
| tokay1 | Windows Server 2012 R2 Standard / x64 | OK | OK | WARNINGS | [ OK ] | |||||||
| merida1 | OS X 10.11.6 El Capitan / x86_64 | OK | OK | WARNINGS | OK |
| Package: macat |
| Version: 1.56.0 |
| Command: rm -rf macat.buildbin-libdir && mkdir macat.buildbin-libdir && C:\Users\biocbuild\bbs-3.8-bioc\R\bin\R.exe CMD INSTALL --merge-multiarch --build --library=macat.buildbin-libdir macat_1.56.0.tar.gz |
| StartedAt: 2019-04-13 07:35:56 -0400 (Sat, 13 Apr 2019) |
| EndedAt: 2019-04-13 07:36:20 -0400 (Sat, 13 Apr 2019) |
| EllapsedTime: 23.9 seconds |
| RetCode: 0 |
| Status: OK |
| PackageFile: macat_1.56.0.zip |
| PackageFileSize: 987.3 KiB |
##############################################################################
##############################################################################
###
### Running command:
###
### rm -rf macat.buildbin-libdir && mkdir macat.buildbin-libdir && C:\Users\biocbuild\bbs-3.8-bioc\R\bin\R.exe CMD INSTALL --merge-multiarch --build --library=macat.buildbin-libdir macat_1.56.0.tar.gz
###
##############################################################################
##############################################################################
install for i386
* installing *source* package 'macat' ...
** R
** data
** demo
** inst
** byte-compile and prepare package for lazy loading
** help
Warning: C:/Users/biocbuild/bbs-3.8-bioc/tmpdir/RtmpaGuuJu/R.INSTALL15604d811aa4/macat/man/loaddatapkg.Rd:24: unexpected '}'
*** installing help indices
converting help for package 'macat'
finding HTML links ... done
buildMACAT html
compute_sliding html
discreteKernelize html
discretize html
discretizeAll html
discretize_tscores html
evalScoring html
evaluateParameters html
get_results html
html html
kernelize html
kernelizeAll html
kernelizeToPython html
kernels html
loaddatapkg html
macat-internal html
plot_MACATevalScoring html
preprocessedLoader html
pythondata html
scoring html
stjd html
** building package indices
** installing vignettes
** testing if installed package can be loaded
In R CMD INSTALL
install for x64
* installing *source* package 'macat' ...
** testing if installed package can be loaded
* MD5 sums
packaged installation of 'macat' as macat_1.56.0.zip
* DONE (macat)
In R CMD INSTALL
In R CMD INSTALL