| Back to Multiple platform build/check report for BioC 3.8 | 
 | 
This page was generated on 2019-04-16 11:56:45 -0400 (Tue, 16 Apr 2019).
| Package 851/1649 | Hostname | OS / Arch | INSTALL | BUILD | CHECK | BUILD BIN | ||||||
| lpNet 2.14.0 Lars Kaderali 
 | malbec1 | Linux (Ubuntu 16.04.6 LTS) / x86_64 | OK | OK | OK |  | ||||||
| merida1 | OS X 10.11.6 El Capitan / x86_64 | OK | OK | OK | [ OK ] |  | 
| Package: lpNet | 
| Version: 2.14.0 | 
| Command: rm -rf lpNet.buildbin-libdir && mkdir lpNet.buildbin-libdir && /Users/biocbuild/BBS/utils/build-universal.sh lpNet_2.14.0.tar.gz /Library/Frameworks/R.framework/Versions/Current/Resources/bin/R lpNet.buildbin-libdir | 
| StartedAt: 2019-04-16 04:18:05 -0400 (Tue, 16 Apr 2019) | 
| EndedAt: 2019-04-16 04:18:51 -0400 (Tue, 16 Apr 2019) | 
| EllapsedTime: 45.8 seconds | 
| RetCode: 0 | 
| Status: OK | 
| PackageFile: lpNet_2.14.0.tgz | 
| PackageFileSize: 302.7 KiB | 
############################################################################## ############################################################################## ### ### Running command: ### ### rm -rf lpNet.buildbin-libdir && mkdir lpNet.buildbin-libdir && /Users/biocbuild/BBS/utils/build-universal.sh lpNet_2.14.0.tar.gz /Library/Frameworks/R.framework/Versions/Current/Resources/bin/R lpNet.buildbin-libdir ### ############################################################################## ############################################################################## >>>>>>> >>>>>>> INSTALLATION WITH 'R CMD INSTALL --preclean --no-multiarch --library=lpNet.buildbin-libdir lpNet_2.14.0.tar.gz' >>>>>>> * installing *source* package ‘lpNet’ ... ** R ** inst ** byte-compile and prepare package for lazy loading ** help *** installing help indices ** building package indices ** installing vignettes ** testing if installed package can be loaded * DONE (lpNet)