| Back to Multiple platform build/check report for BioC 3.8 |
|
This page was generated on 2018-09-29 10:29:52 -0400 (Sat, 29 Sep 2018).
| Package 803/1611 | Hostname | OS / Arch | INSTALL | BUILD | CHECK | BUILD BIN | ||||||
| kmknn 0.99.16 Aaron Lun
| malbec1 | Linux (Ubuntu 16.04.1 LTS) / x86_64 | OK | OK | OK | |||||||
| tokay1 | Windows Server 2012 R2 Standard / x64 | OK | [ OK ] | OK | OK | |||||||
| merida1 | OS X 10.11.6 El Capitan / x86_64 | OK | OK | OK | OK |
| Package: kmknn |
| Version: 0.99.16 |
| Command: chmod a+r kmknn -R && C:\Users\biocbuild\bbs-3.8-bioc\R\bin\R.exe CMD build --keep-empty-dirs --no-resave-data kmknn |
| StartedAt: 2018-09-28 23:47:22 -0400 (Fri, 28 Sep 2018) |
| EndedAt: 2018-09-28 23:48:46 -0400 (Fri, 28 Sep 2018) |
| EllapsedTime: 83.9 seconds |
| RetCode: 0 |
| Status: OK |
| PackageFile: kmknn_0.99.16.tar.gz |
| PackageFileSize: 302 KiB |
############################################################################## ############################################################################## ### ### Running command: ### ### chmod a+r kmknn -R && C:\Users\biocbuild\bbs-3.8-bioc\R\bin\R.exe CMD build --keep-empty-dirs --no-resave-data kmknn ### ############################################################################## ############################################################################## * checking for file 'kmknn/DESCRIPTION' ... OK * preparing 'kmknn': * checking DESCRIPTION meta-information ... OK * cleaning src * installing the package to build vignettes * creating vignettes ... OK * cleaning src * checking for LF line-endings in source and make files and shell scripts * checking for empty or unneeded directories * building 'kmknn_0.99.16.tar.gz'