| Back to Multiple platform build/check report for BioC 3.8 |
|
This page was generated on 2019-04-13 11:24:35 -0400 (Sat, 13 Apr 2019).
| Package 815/1649 | Hostname | OS / Arch | INSTALL | BUILD | CHECK | BUILD BIN | ||||||
| kebabs 1.16.0 Ulrich Bodenhofer
| malbec1 | Linux (Ubuntu 16.04.6 LTS) / x86_64 | OK | OK | OK | |||||||
| tokay1 | Windows Server 2012 R2 Standard / x64 | OK | OK | OK | [ OK ] | |||||||
| merida1 | OS X 10.11.6 El Capitan / x86_64 | OK | OK | OK | OK |
| Package: kebabs |
| Version: 1.16.0 |
| Command: rm -rf kebabs.buildbin-libdir && mkdir kebabs.buildbin-libdir && C:\Users\biocbuild\bbs-3.8-bioc\R\bin\R.exe CMD INSTALL --merge-multiarch --build --library=kebabs.buildbin-libdir kebabs_1.16.0.tar.gz |
| StartedAt: 2019-04-13 07:33:51 -0400 (Sat, 13 Apr 2019) |
| EndedAt: 2019-04-13 07:37:02 -0400 (Sat, 13 Apr 2019) |
| EllapsedTime: 190.9 seconds |
| RetCode: 0 |
| Status: OK |
| PackageFile: kebabs_1.16.0.zip |
| PackageFileSize: 4.456 MiB |
##############################################################################
##############################################################################
###
### Running command:
###
### rm -rf kebabs.buildbin-libdir && mkdir kebabs.buildbin-libdir && C:\Users\biocbuild\bbs-3.8-bioc\R\bin\R.exe CMD INSTALL --merge-multiarch --build --library=kebabs.buildbin-libdir kebabs_1.16.0.tar.gz
###
##############################################################################
##############################################################################
install for i386
* installing *source* package 'kebabs' ...
** libs
C:/Rtools/mingw_32/bin/gcc -I"C:/Users/BIOCBU˜1/BBS-3˜1.8-B/R/include" -DNDEBUG -I"C:/Users/biocbuild/bbs-3.8-bioc/R/library/IRanges/include" -I"C:/Users/biocbuild/bbs-3.8-bioc/R/library/XVector/include" -I"C:/Users/biocbuild/bbs-3.8-bioc/R/library/Biostrings/include" -I"C:/Users/biocbuild/bbs-3.8-bioc/R/library/Rcpp/include" -I"C:/Users/biocbuild/bbs-3.8-bioc/R/library/S4Vectors/include" -I"C:/extsoft/include" -O3 -Wall -std=gnu99 -mtune=generic -c Biostrings_stubs.c -o Biostrings_stubs.o
C:/Rtools/mingw_32/bin/gcc -I"C:/Users/BIOCBU˜1/BBS-3˜1.8-B/R/include" -DNDEBUG -I"C:/Users/biocbuild/bbs-3.8-bioc/R/library/IRanges/include" -I"C:/Users/biocbuild/bbs-3.8-bioc/R/library/XVector/include" -I"C:/Users/biocbuild/bbs-3.8-bioc/R/library/Biostrings/include" -I"C:/Users/biocbuild/bbs-3.8-bioc/R/library/Rcpp/include" -I"C:/Users/biocbuild/bbs-3.8-bioc/R/library/S4Vectors/include" -I"C:/extsoft/include" -O3 -Wall -std=gnu99 -mtune=generic -c ByteStringVector.c -o ByteStringVector.o
C:/Rtools/mingw_32/bin/g++ -I"C:/Users/BIOCBU˜1/BBS-3˜1.8-B/R/include" -DNDEBUG -I"C:/Users/biocbuild/bbs-3.8-bioc/R/library/IRanges/include" -I"C:/Users/biocbuild/bbs-3.8-bioc/R/library/XVector/include" -I"C:/Users/biocbuild/bbs-3.8-bioc/R/library/Biostrings/include" -I"C:/Users/biocbuild/bbs-3.8-bioc/R/library/Rcpp/include" -I"C:/Users/biocbuild/bbs-3.8-bioc/R/library/S4Vectors/include" -I"C:/extsoft/include" -O2 -Wall -mtune=generic -c ExplicitRepC.cpp -o ExplicitRepC.o
C:/Rtools/mingw_32/bin/g++ -I"C:/Users/BIOCBU˜1/BBS-3˜1.8-B/R/include" -DNDEBUG -I"C:/Users/biocbuild/bbs-3.8-bioc/R/library/IRanges/include" -I"C:/Users/biocbuild/bbs-3.8-bioc/R/library/XVector/include" -I"C:/Users/biocbuild/bbs-3.8-bioc/R/library/Biostrings/include" -I"C:/Users/biocbuild/bbs-3.8-bioc/R/library/Rcpp/include" -I"C:/Users/biocbuild/bbs-3.8-bioc/R/library/S4Vectors/include" -I"C:/extsoft/include" -O2 -Wall -mtune=generic -c FeatureWeightsPosDepC.cpp -o FeatureWeightsPosDepC.o
C:/Rtools/mingw_32/bin/g++ -I"C:/Users/BIOCBU˜1/BBS-3˜1.8-B/R/include" -DNDEBUG -I"C:/Users/biocbuild/bbs-3.8-bioc/R/library/IRanges/include" -I"C:/Users/biocbuild/bbs-3.8-bioc/R/library/XVector/include" -I"C:/Users/biocbuild/bbs-3.8-bioc/R/library/Biostrings/include" -I"C:/Users/biocbuild/bbs-3.8-bioc/R/library/Rcpp/include" -I"C:/Users/biocbuild/bbs-3.8-bioc/R/library/S4Vectors/include" -I"C:/extsoft/include" -O2 -Wall -mtune=generic -c GappyPairC.cpp -o GappyPairC.o
C:/Rtools/mingw_32/bin/gcc -I"C:/Users/BIOCBU˜1/BBS-3˜1.8-B/R/include" -DNDEBUG -I"C:/Users/biocbuild/bbs-3.8-bioc/R/library/IRanges/include" -I"C:/Users/biocbuild/bbs-3.8-bioc/R/library/XVector/include" -I"C:/Users/biocbuild/bbs-3.8-bioc/R/library/Biostrings/include" -I"C:/Users/biocbuild/bbs-3.8-bioc/R/library/Rcpp/include" -I"C:/Users/biocbuild/bbs-3.8-bioc/R/library/S4Vectors/include" -I"C:/extsoft/include" -O3 -Wall -std=gnu99 -mtune=generic -c IRanges_stubs.c -o IRanges_stubs.o
C:/Rtools/mingw_32/bin/g++ -I"C:/Users/BIOCBU˜1/BBS-3˜1.8-B/R/include" -DNDEBUG -I"C:/Users/biocbuild/bbs-3.8-bioc/R/library/IRanges/include" -I"C:/Users/biocbuild/bbs-3.8-bioc/R/library/XVector/include" -I"C:/Users/biocbuild/bbs-3.8-bioc/R/library/Biostrings/include" -I"C:/Users/biocbuild/bbs-3.8-bioc/R/library/Rcpp/include" -I"C:/Users/biocbuild/bbs-3.8-bioc/R/library/S4Vectors/include" -I"C:/extsoft/include" -O2 -Wall -mtune=generic -c KernelUtils.cpp -o KernelUtils.o
C:/Rtools/mingw_32/bin/g++ -I"C:/Users/BIOCBU˜1/BBS-3˜1.8-B/R/include" -DNDEBUG -I"C:/Users/biocbuild/bbs-3.8-bioc/R/library/IRanges/include" -I"C:/Users/biocbuild/bbs-3.8-bioc/R/library/XVector/include" -I"C:/Users/biocbuild/bbs-3.8-bioc/R/library/Biostrings/include" -I"C:/Users/biocbuild/bbs-3.8-bioc/R/library/Rcpp/include" -I"C:/Users/biocbuild/bbs-3.8-bioc/R/library/S4Vectors/include" -I"C:/extsoft/include" -O2 -Wall -mtune=generic -c MismatchC.cpp -o MismatchC.o
MismatchC.cpp: In function 'SEXPREC* getMismatchKernelMatrix(Rcpp::NumericMatrix, ByteStringVector, ByteStringVector, int, int, Rcpp::IntegerVector, Rcpp::IntegerVector, bool, int, bool, bool, int, int, bool, bool, int, alphaInfo*)':
MismatchC.cpp:432:41: warning: 'currValSqrt' may be used uninitialized in this function [-Wmaybe-uninitialized]
km(i,j) = kernelVal / currValSqrt;
^
C:/Rtools/mingw_32/bin/g++ -I"C:/Users/BIOCBU˜1/BBS-3˜1.8-B/R/include" -DNDEBUG -I"C:/Users/biocbuild/bbs-3.8-bioc/R/library/IRanges/include" -I"C:/Users/biocbuild/bbs-3.8-bioc/R/library/XVector/include" -I"C:/Users/biocbuild/bbs-3.8-bioc/R/library/Biostrings/include" -I"C:/Users/biocbuild/bbs-3.8-bioc/R/library/Rcpp/include" -I"C:/Users/biocbuild/bbs-3.8-bioc/R/library/S4Vectors/include" -I"C:/extsoft/include" -O2 -Wall -mtune=generic -c MotifC.cpp -o MotifC.o
C:/Rtools/mingw_32/bin/g++ -I"C:/Users/BIOCBU˜1/BBS-3˜1.8-B/R/include" -DNDEBUG -I"C:/Users/biocbuild/bbs-3.8-bioc/R/library/IRanges/include" -I"C:/Users/biocbuild/bbs-3.8-bioc/R/library/XVector/include" -I"C:/Users/biocbuild/bbs-3.8-bioc/R/library/Biostrings/include" -I"C:/Users/biocbuild/bbs-3.8-bioc/R/library/Rcpp/include" -I"C:/Users/biocbuild/bbs-3.8-bioc/R/library/S4Vectors/include" -I"C:/extsoft/include" -O2 -Wall -mtune=generic -c PredictionC.cpp -o PredictionC.o
C:/Rtools/mingw_32/bin/g++ -I"C:/Users/BIOCBU˜1/BBS-3˜1.8-B/R/include" -DNDEBUG -I"C:/Users/biocbuild/bbs-3.8-bioc/R/library/IRanges/include" -I"C:/Users/biocbuild/bbs-3.8-bioc/R/library/XVector/include" -I"C:/Users/biocbuild/bbs-3.8-bioc/R/library/Biostrings/include" -I"C:/Users/biocbuild/bbs-3.8-bioc/R/library/Rcpp/include" -I"C:/Users/biocbuild/bbs-3.8-bioc/R/library/S4Vectors/include" -I"C:/extsoft/include" -O2 -Wall -mtune=generic -c PredictionProfileC.cpp -o PredictionProfileC.o
C:/Rtools/mingw_32/bin/g++ -I"C:/Users/BIOCBU˜1/BBS-3˜1.8-B/R/include" -DNDEBUG -I"C:/Users/biocbuild/bbs-3.8-bioc/R/library/IRanges/include" -I"C:/Users/biocbuild/bbs-3.8-bioc/R/library/XVector/include" -I"C:/Users/biocbuild/bbs-3.8-bioc/R/library/Biostrings/include" -I"C:/Users/biocbuild/bbs-3.8-bioc/R/library/Rcpp/include" -I"C:/Users/biocbuild/bbs-3.8-bioc/R/library/S4Vectors/include" -I"C:/extsoft/include" -O2 -Wall -mtune=generic -c R_init_kebabs.cpp -o R_init_kebabs.o
C:/Rtools/mingw_32/bin/gcc -I"C:/Users/BIOCBU˜1/BBS-3˜1.8-B/R/include" -DNDEBUG -I"C:/Users/biocbuild/bbs-3.8-bioc/R/library/IRanges/include" -I"C:/Users/biocbuild/bbs-3.8-bioc/R/library/XVector/include" -I"C:/Users/biocbuild/bbs-3.8-bioc/R/library/Biostrings/include" -I"C:/Users/biocbuild/bbs-3.8-bioc/R/library/Rcpp/include" -I"C:/Users/biocbuild/bbs-3.8-bioc/R/library/S4Vectors/include" -I"C:/extsoft/include" -O3 -Wall -std=gnu99 -mtune=generic -c Rsvm.c -o Rsvm.o
C:/Rtools/mingw_32/bin/g++ -I"C:/Users/BIOCBU˜1/BBS-3˜1.8-B/R/include" -DNDEBUG -I"C:/Users/biocbuild/bbs-3.8-bioc/R/library/IRanges/include" -I"C:/Users/biocbuild/bbs-3.8-bioc/R/library/XVector/include" -I"C:/Users/biocbuild/bbs-3.8-bioc/R/library/Biostrings/include" -I"C:/Users/biocbuild/bbs-3.8-bioc/R/library/Rcpp/include" -I"C:/Users/biocbuild/bbs-3.8-bioc/R/library/S4Vectors/include" -I"C:/extsoft/include" -O2 -Wall -mtune=generic -c SparseMatrixHash.cpp -o SparseMatrixHash.o
C:/Rtools/mingw_32/bin/g++ -I"C:/Users/BIOCBU˜1/BBS-3˜1.8-B/R/include" -DNDEBUG -I"C:/Users/biocbuild/bbs-3.8-bioc/R/library/IRanges/include" -I"C:/Users/biocbuild/bbs-3.8-bioc/R/library/XVector/include" -I"C:/Users/biocbuild/bbs-3.8-bioc/R/library/Biostrings/include" -I"C:/Users/biocbuild/bbs-3.8-bioc/R/library/Rcpp/include" -I"C:/Users/biocbuild/bbs-3.8-bioc/R/library/S4Vectors/include" -I"C:/extsoft/include" -O2 -Wall -mtune=generic -c SpectrumC.cpp -o SpectrumC.o
C:/Rtools/mingw_32/bin/g++ -I"C:/Users/BIOCBU˜1/BBS-3˜1.8-B/R/include" -DNDEBUG -I"C:/Users/biocbuild/bbs-3.8-bioc/R/library/IRanges/include" -I"C:/Users/biocbuild/bbs-3.8-bioc/R/library/XVector/include" -I"C:/Users/biocbuild/bbs-3.8-bioc/R/library/Biostrings/include" -I"C:/Users/biocbuild/bbs-3.8-bioc/R/library/Rcpp/include" -I"C:/Users/biocbuild/bbs-3.8-bioc/R/library/S4Vectors/include" -I"C:/extsoft/include" -O2 -Wall -mtune=generic -c SymmetricPairC.cpp -o SymmetricPairC.o
C:/Rtools/mingw_32/bin/g++ -I"C:/Users/BIOCBU˜1/BBS-3˜1.8-B/R/include" -DNDEBUG -I"C:/Users/biocbuild/bbs-3.8-bioc/R/library/IRanges/include" -I"C:/Users/biocbuild/bbs-3.8-bioc/R/library/XVector/include" -I"C:/Users/biocbuild/bbs-3.8-bioc/R/library/Biostrings/include" -I"C:/Users/biocbuild/bbs-3.8-bioc/R/library/Rcpp/include" -I"C:/Users/biocbuild/bbs-3.8-bioc/R/library/S4Vectors/include" -I"C:/extsoft/include" -O2 -Wall -mtune=generic -c Utils.cpp -o Utils.o
C:/Rtools/mingw_32/bin/gcc -I"C:/Users/BIOCBU˜1/BBS-3˜1.8-B/R/include" -DNDEBUG -I"C:/Users/biocbuild/bbs-3.8-bioc/R/library/IRanges/include" -I"C:/Users/biocbuild/bbs-3.8-bioc/R/library/XVector/include" -I"C:/Users/biocbuild/bbs-3.8-bioc/R/library/Biostrings/include" -I"C:/Users/biocbuild/bbs-3.8-bioc/R/library/Rcpp/include" -I"C:/Users/biocbuild/bbs-3.8-bioc/R/library/S4Vectors/include" -I"C:/extsoft/include" -O3 -Wall -std=gnu99 -mtune=generic -c XVector_stubs.c -o XVector_stubs.o
C:/Rtools/mingw_32/bin/g++ -I"C:/Users/BIOCBU˜1/BBS-3˜1.8-B/R/include" -DNDEBUG -I"C:/Users/biocbuild/bbs-3.8-bioc/R/library/IRanges/include" -I"C:/Users/biocbuild/bbs-3.8-bioc/R/library/XVector/include" -I"C:/Users/biocbuild/bbs-3.8-bioc/R/library/Biostrings/include" -I"C:/Users/biocbuild/bbs-3.8-bioc/R/library/Rcpp/include" -I"C:/Users/biocbuild/bbs-3.8-bioc/R/library/S4Vectors/include" -I"C:/extsoft/include" -O2 -Wall -mtune=generic -c svm.cpp -o svm.o
C:/Rtools/mingw_32/bin/g++ -shared -s -static-libgcc -o kebabs.dll tmp.def Biostrings_stubs.o ByteStringVector.o ExplicitRepC.o FeatureWeightsPosDepC.o GappyPairC.o IRanges_stubs.o KernelUtils.o MismatchC.o MotifC.o PredictionC.o PredictionProfileC.o R_init_kebabs.o Rsvm.o SparseMatrixHash.o SpectrumC.o SymmetricPairC.o Utils.o XVector_stubs.o svm.o -LC:/extsoft/lib/i386 -LC:/extsoft/lib -LC:/Users/BIOCBU˜1/BBS-3˜1.8-B/R/bin/i386 -lR
installing to C:/Users/biocbuild/bbs-3.8-bioc/meat/kebabs.buildbin-libdir/kebabs/libs/i386
** R
** data
** inst
** byte-compile and prepare package for lazy loading
** help
*** installing help indices
converting help for package 'kebabs'
finding HTML links ... done
BioVector-class html
finding level-2 HTML links ... done
BioVector html
ControlInformation-class html
CrossValidationResult-class html
CrossValidationResultAccessors html
ExplicitRepresentation-class html
ExplicitRepresentationAccessors html
GappyPairKernel-class html
KBModel-class html
KBModelAccessors html
KernelMatrix-class html
KernelMatrixAccessors html
LinearKernel html
MismatchKernel-class html
ModelSelectionResult-class html
ModelSelectionResultAccessors html
MotifKernel-class html
PredictionProfile-class html
PredictionProfileAccessors html
ROCData-class html
ROCDataAccessors html
SVMAccess html
SVMInformation-class html
SequenceKernel-class html
SpectrumKernel-class html
SymmetricPairKernel-class html
annotationSpecificKernel html
computeROCandAUC html
evaluatePrediction html
explicitRepresentation html
featureWeights html
gappyPairKernel html
genRandBioSeqs html
getPredProfMixture-methods html
getPredictionProfile-methods html
heatmap-methods html
kbsvm-methods html
kebabsCollectInfo html
kebabsData html
kebabsOverview html
mismatchKernel html
motifKernel html
performCrossValidation-methods html
performGridSearch html
performModelSelection html
plot-methods html
positionDependentKernel html
predict-methods html
sequenceKernel html
show-methods html
spectrumKernel html
symmetricPairKernel html
** building package indices
** installing vignettes
** testing if installed package can be loaded
In R CMD INSTALL
install for x64
* installing *source* package 'kebabs' ...
** libs
C:/Rtools/mingw_64/bin/gcc -I"C:/Users/BIOCBU˜1/BBS-3˜1.8-B/R/include" -DNDEBUG -I"C:/Users/biocbuild/bbs-3.8-bioc/R/library/IRanges/include" -I"C:/Users/biocbuild/bbs-3.8-bioc/R/library/XVector/include" -I"C:/Users/biocbuild/bbs-3.8-bioc/R/library/Biostrings/include" -I"C:/Users/biocbuild/bbs-3.8-bioc/R/library/Rcpp/include" -I"C:/Users/biocbuild/bbs-3.8-bioc/R/library/S4Vectors/include" -I"C:/extsoft/include" -O2 -Wall -std=gnu99 -mtune=generic -c Biostrings_stubs.c -o Biostrings_stubs.o
C:/Rtools/mingw_64/bin/gcc -I"C:/Users/BIOCBU˜1/BBS-3˜1.8-B/R/include" -DNDEBUG -I"C:/Users/biocbuild/bbs-3.8-bioc/R/library/IRanges/include" -I"C:/Users/biocbuild/bbs-3.8-bioc/R/library/XVector/include" -I"C:/Users/biocbuild/bbs-3.8-bioc/R/library/Biostrings/include" -I"C:/Users/biocbuild/bbs-3.8-bioc/R/library/Rcpp/include" -I"C:/Users/biocbuild/bbs-3.8-bioc/R/library/S4Vectors/include" -I"C:/extsoft/include" -O2 -Wall -std=gnu99 -mtune=generic -c ByteStringVector.c -o ByteStringVector.o
C:/Rtools/mingw_64/bin/g++ -I"C:/Users/BIOCBU˜1/BBS-3˜1.8-B/R/include" -DNDEBUG -I"C:/Users/biocbuild/bbs-3.8-bioc/R/library/IRanges/include" -I"C:/Users/biocbuild/bbs-3.8-bioc/R/library/XVector/include" -I"C:/Users/biocbuild/bbs-3.8-bioc/R/library/Biostrings/include" -I"C:/Users/biocbuild/bbs-3.8-bioc/R/library/Rcpp/include" -I"C:/Users/biocbuild/bbs-3.8-bioc/R/library/S4Vectors/include" -I"C:/extsoft/include" -O2 -Wall -mtune=generic -c ExplicitRepC.cpp -o ExplicitRepC.o
C:/Rtools/mingw_64/bin/g++ -I"C:/Users/BIOCBU˜1/BBS-3˜1.8-B/R/include" -DNDEBUG -I"C:/Users/biocbuild/bbs-3.8-bioc/R/library/IRanges/include" -I"C:/Users/biocbuild/bbs-3.8-bioc/R/library/XVector/include" -I"C:/Users/biocbuild/bbs-3.8-bioc/R/library/Biostrings/include" -I"C:/Users/biocbuild/bbs-3.8-bioc/R/library/Rcpp/include" -I"C:/Users/biocbuild/bbs-3.8-bioc/R/library/S4Vectors/include" -I"C:/extsoft/include" -O2 -Wall -mtune=generic -c FeatureWeightsPosDepC.cpp -o FeatureWeightsPosDepC.o
C:/Rtools/mingw_64/bin/g++ -I"C:/Users/BIOCBU˜1/BBS-3˜1.8-B/R/include" -DNDEBUG -I"C:/Users/biocbuild/bbs-3.8-bioc/R/library/IRanges/include" -I"C:/Users/biocbuild/bbs-3.8-bioc/R/library/XVector/include" -I"C:/Users/biocbuild/bbs-3.8-bioc/R/library/Biostrings/include" -I"C:/Users/biocbuild/bbs-3.8-bioc/R/library/Rcpp/include" -I"C:/Users/biocbuild/bbs-3.8-bioc/R/library/S4Vectors/include" -I"C:/extsoft/include" -O2 -Wall -mtune=generic -c GappyPairC.cpp -o GappyPairC.o
C:/Rtools/mingw_64/bin/gcc -I"C:/Users/BIOCBU˜1/BBS-3˜1.8-B/R/include" -DNDEBUG -I"C:/Users/biocbuild/bbs-3.8-bioc/R/library/IRanges/include" -I"C:/Users/biocbuild/bbs-3.8-bioc/R/library/XVector/include" -I"C:/Users/biocbuild/bbs-3.8-bioc/R/library/Biostrings/include" -I"C:/Users/biocbuild/bbs-3.8-bioc/R/library/Rcpp/include" -I"C:/Users/biocbuild/bbs-3.8-bioc/R/library/S4Vectors/include" -I"C:/extsoft/include" -O2 -Wall -std=gnu99 -mtune=generic -c IRanges_stubs.c -o IRanges_stubs.o
C:/Rtools/mingw_64/bin/g++ -I"C:/Users/BIOCBU˜1/BBS-3˜1.8-B/R/include" -DNDEBUG -I"C:/Users/biocbuild/bbs-3.8-bioc/R/library/IRanges/include" -I"C:/Users/biocbuild/bbs-3.8-bioc/R/library/XVector/include" -I"C:/Users/biocbuild/bbs-3.8-bioc/R/library/Biostrings/include" -I"C:/Users/biocbuild/bbs-3.8-bioc/R/library/Rcpp/include" -I"C:/Users/biocbuild/bbs-3.8-bioc/R/library/S4Vectors/include" -I"C:/extsoft/include" -O2 -Wall -mtune=generic -c KernelUtils.cpp -o KernelUtils.o
C:/Rtools/mingw_64/bin/g++ -I"C:/Users/BIOCBU˜1/BBS-3˜1.8-B/R/include" -DNDEBUG -I"C:/Users/biocbuild/bbs-3.8-bioc/R/library/IRanges/include" -I"C:/Users/biocbuild/bbs-3.8-bioc/R/library/XVector/include" -I"C:/Users/biocbuild/bbs-3.8-bioc/R/library/Biostrings/include" -I"C:/Users/biocbuild/bbs-3.8-bioc/R/library/Rcpp/include" -I"C:/Users/biocbuild/bbs-3.8-bioc/R/library/S4Vectors/include" -I"C:/extsoft/include" -O2 -Wall -mtune=generic -c MismatchC.cpp -o MismatchC.o
MismatchC.cpp: In function 'SEXPREC* getMismatchKernelMatrix(Rcpp::NumericMatrix, ByteStringVector, ByteStringVector, int, int, Rcpp::IntegerVector, Rcpp::IntegerVector, bool, int, bool, bool, int, int, bool, bool, int, alphaInfo*)':
MismatchC.cpp:432:41: warning: 'currValSqrt' may be used uninitialized in this function [-Wmaybe-uninitialized]
km(i,j) = kernelVal / currValSqrt;
^
C:/Rtools/mingw_64/bin/g++ -I"C:/Users/BIOCBU˜1/BBS-3˜1.8-B/R/include" -DNDEBUG -I"C:/Users/biocbuild/bbs-3.8-bioc/R/library/IRanges/include" -I"C:/Users/biocbuild/bbs-3.8-bioc/R/library/XVector/include" -I"C:/Users/biocbuild/bbs-3.8-bioc/R/library/Biostrings/include" -I"C:/Users/biocbuild/bbs-3.8-bioc/R/library/Rcpp/include" -I"C:/Users/biocbuild/bbs-3.8-bioc/R/library/S4Vectors/include" -I"C:/extsoft/include" -O2 -Wall -mtune=generic -c MotifC.cpp -o MotifC.o
C:/Rtools/mingw_64/bin/g++ -I"C:/Users/BIOCBU˜1/BBS-3˜1.8-B/R/include" -DNDEBUG -I"C:/Users/biocbuild/bbs-3.8-bioc/R/library/IRanges/include" -I"C:/Users/biocbuild/bbs-3.8-bioc/R/library/XVector/include" -I"C:/Users/biocbuild/bbs-3.8-bioc/R/library/Biostrings/include" -I"C:/Users/biocbuild/bbs-3.8-bioc/R/library/Rcpp/include" -I"C:/Users/biocbuild/bbs-3.8-bioc/R/library/S4Vectors/include" -I"C:/extsoft/include" -O2 -Wall -mtune=generic -c PredictionC.cpp -o PredictionC.o
C:/Rtools/mingw_64/bin/g++ -I"C:/Users/BIOCBU˜1/BBS-3˜1.8-B/R/include" -DNDEBUG -I"C:/Users/biocbuild/bbs-3.8-bioc/R/library/IRanges/include" -I"C:/Users/biocbuild/bbs-3.8-bioc/R/library/XVector/include" -I"C:/Users/biocbuild/bbs-3.8-bioc/R/library/Biostrings/include" -I"C:/Users/biocbuild/bbs-3.8-bioc/R/library/Rcpp/include" -I"C:/Users/biocbuild/bbs-3.8-bioc/R/library/S4Vectors/include" -I"C:/extsoft/include" -O2 -Wall -mtune=generic -c PredictionProfileC.cpp -o PredictionProfileC.o
C:/Rtools/mingw_64/bin/g++ -I"C:/Users/BIOCBU˜1/BBS-3˜1.8-B/R/include" -DNDEBUG -I"C:/Users/biocbuild/bbs-3.8-bioc/R/library/IRanges/include" -I"C:/Users/biocbuild/bbs-3.8-bioc/R/library/XVector/include" -I"C:/Users/biocbuild/bbs-3.8-bioc/R/library/Biostrings/include" -I"C:/Users/biocbuild/bbs-3.8-bioc/R/library/Rcpp/include" -I"C:/Users/biocbuild/bbs-3.8-bioc/R/library/S4Vectors/include" -I"C:/extsoft/include" -O2 -Wall -mtune=generic -c R_init_kebabs.cpp -o R_init_kebabs.o
C:/Rtools/mingw_64/bin/gcc -I"C:/Users/BIOCBU˜1/BBS-3˜1.8-B/R/include" -DNDEBUG -I"C:/Users/biocbuild/bbs-3.8-bioc/R/library/IRanges/include" -I"C:/Users/biocbuild/bbs-3.8-bioc/R/library/XVector/include" -I"C:/Users/biocbuild/bbs-3.8-bioc/R/library/Biostrings/include" -I"C:/Users/biocbuild/bbs-3.8-bioc/R/library/Rcpp/include" -I"C:/Users/biocbuild/bbs-3.8-bioc/R/library/S4Vectors/include" -I"C:/extsoft/include" -O2 -Wall -std=gnu99 -mtune=generic -c Rsvm.c -o Rsvm.o
C:/Rtools/mingw_64/bin/g++ -I"C:/Users/BIOCBU˜1/BBS-3˜1.8-B/R/include" -DNDEBUG -I"C:/Users/biocbuild/bbs-3.8-bioc/R/library/IRanges/include" -I"C:/Users/biocbuild/bbs-3.8-bioc/R/library/XVector/include" -I"C:/Users/biocbuild/bbs-3.8-bioc/R/library/Biostrings/include" -I"C:/Users/biocbuild/bbs-3.8-bioc/R/library/Rcpp/include" -I"C:/Users/biocbuild/bbs-3.8-bioc/R/library/S4Vectors/include" -I"C:/extsoft/include" -O2 -Wall -mtune=generic -c SparseMatrixHash.cpp -o SparseMatrixHash.o
C:/Rtools/mingw_64/bin/g++ -I"C:/Users/BIOCBU˜1/BBS-3˜1.8-B/R/include" -DNDEBUG -I"C:/Users/biocbuild/bbs-3.8-bioc/R/library/IRanges/include" -I"C:/Users/biocbuild/bbs-3.8-bioc/R/library/XVector/include" -I"C:/Users/biocbuild/bbs-3.8-bioc/R/library/Biostrings/include" -I"C:/Users/biocbuild/bbs-3.8-bioc/R/library/Rcpp/include" -I"C:/Users/biocbuild/bbs-3.8-bioc/R/library/S4Vectors/include" -I"C:/extsoft/include" -O2 -Wall -mtune=generic -c SpectrumC.cpp -o SpectrumC.o
C:/Rtools/mingw_64/bin/g++ -I"C:/Users/BIOCBU˜1/BBS-3˜1.8-B/R/include" -DNDEBUG -I"C:/Users/biocbuild/bbs-3.8-bioc/R/library/IRanges/include" -I"C:/Users/biocbuild/bbs-3.8-bioc/R/library/XVector/include" -I"C:/Users/biocbuild/bbs-3.8-bioc/R/library/Biostrings/include" -I"C:/Users/biocbuild/bbs-3.8-bioc/R/library/Rcpp/include" -I"C:/Users/biocbuild/bbs-3.8-bioc/R/library/S4Vectors/include" -I"C:/extsoft/include" -O2 -Wall -mtune=generic -c SymmetricPairC.cpp -o SymmetricPairC.o
C:/Rtools/mingw_64/bin/g++ -I"C:/Users/BIOCBU˜1/BBS-3˜1.8-B/R/include" -DNDEBUG -I"C:/Users/biocbuild/bbs-3.8-bioc/R/library/IRanges/include" -I"C:/Users/biocbuild/bbs-3.8-bioc/R/library/XVector/include" -I"C:/Users/biocbuild/bbs-3.8-bioc/R/library/Biostrings/include" -I"C:/Users/biocbuild/bbs-3.8-bioc/R/library/Rcpp/include" -I"C:/Users/biocbuild/bbs-3.8-bioc/R/library/S4Vectors/include" -I"C:/extsoft/include" -O2 -Wall -mtune=generic -c Utils.cpp -o Utils.o
C:/Rtools/mingw_64/bin/gcc -I"C:/Users/BIOCBU˜1/BBS-3˜1.8-B/R/include" -DNDEBUG -I"C:/Users/biocbuild/bbs-3.8-bioc/R/library/IRanges/include" -I"C:/Users/biocbuild/bbs-3.8-bioc/R/library/XVector/include" -I"C:/Users/biocbuild/bbs-3.8-bioc/R/library/Biostrings/include" -I"C:/Users/biocbuild/bbs-3.8-bioc/R/library/Rcpp/include" -I"C:/Users/biocbuild/bbs-3.8-bioc/R/library/S4Vectors/include" -I"C:/extsoft/include" -O2 -Wall -std=gnu99 -mtune=generic -c XVector_stubs.c -o XVector_stubs.o
C:/Rtools/mingw_64/bin/g++ -I"C:/Users/BIOCBU˜1/BBS-3˜1.8-B/R/include" -DNDEBUG -I"C:/Users/biocbuild/bbs-3.8-bioc/R/library/IRanges/include" -I"C:/Users/biocbuild/bbs-3.8-bioc/R/library/XVector/include" -I"C:/Users/biocbuild/bbs-3.8-bioc/R/library/Biostrings/include" -I"C:/Users/biocbuild/bbs-3.8-bioc/R/library/Rcpp/include" -I"C:/Users/biocbuild/bbs-3.8-bioc/R/library/S4Vectors/include" -I"C:/extsoft/include" -O2 -Wall -mtune=generic -c svm.cpp -o svm.o
C:/Rtools/mingw_64/bin/g++ -shared -s -static-libgcc -o kebabs.dll tmp.def Biostrings_stubs.o ByteStringVector.o ExplicitRepC.o FeatureWeightsPosDepC.o GappyPairC.o IRanges_stubs.o KernelUtils.o MismatchC.o MotifC.o PredictionC.o PredictionProfileC.o R_init_kebabs.o Rsvm.o SparseMatrixHash.o SpectrumC.o SymmetricPairC.o Utils.o XVector_stubs.o svm.o -LC:/extsoft/lib/x64 -LC:/extsoft/lib -LC:/Users/BIOCBU˜1/BBS-3˜1.8-B/R/bin/x64 -lR
installing to C:/Users/biocbuild/bbs-3.8-bioc/meat/kebabs.buildbin-libdir/kebabs/libs/x64
** testing if installed package can be loaded
* MD5 sums
packaged installation of 'kebabs' as kebabs_1.16.0.zip
* DONE (kebabs)
In R CMD INSTALL
In R CMD INSTALL