| Back to Multiple platform build/check report for BioC 3.8 |
|
This page was generated on 2019-04-13 11:21:55 -0400 (Sat, 13 Apr 2019).
| Package 797/1649 | Hostname | OS / Arch | INSTALL | BUILD | CHECK | BUILD BIN | ||||||
| isobar 1.28.1 Florian P Breitwieser
| malbec1 | Linux (Ubuntu 16.04.6 LTS) / x86_64 | OK | OK | WARNINGS | |||||||
| tokay1 | Windows Server 2012 R2 Standard / x64 | OK | [ OK ] | WARNINGS | OK | |||||||
| merida1 | OS X 10.11.6 El Capitan / x86_64 | OK | OK | WARNINGS | OK |
| Package: isobar |
| Version: 1.28.1 |
| Command: chmod a+r isobar -R && C:\Users\biocbuild\bbs-3.8-bioc\R\bin\R.exe CMD build --keep-empty-dirs --no-resave-data isobar |
| StartedAt: 2019-04-12 21:25:57 -0400 (Fri, 12 Apr 2019) |
| EndedAt: 2019-04-12 21:27:27 -0400 (Fri, 12 Apr 2019) |
| EllapsedTime: 89.7 seconds |
| RetCode: 0 |
| Status: OK |
| PackageFile: isobar_1.28.1.tar.gz |
| PackageFileSize: 2.863 MiB |
##############################################################################
##############################################################################
###
### Running command:
###
### chmod a+r isobar -R && C:\Users\biocbuild\bbs-3.8-bioc\R\bin\R.exe CMD build --keep-empty-dirs --no-resave-data isobar
###
##############################################################################
##############################################################################
* checking for file 'isobar/DESCRIPTION' ... OK
* preparing 'isobar':
* checking DESCRIPTION meta-information ... OK
* installing the package to build vignettes
* creating vignettes ... OK
Warning: 'inst/doc' files
'isobar-devel.R', 'isobar-ptm.R', 'isobar-usecases.R'
ignored as vignettes have been rebuilt.
Run R CMD build with --no-build-vignettes to prevent rebuilding.
* checking for LF line-endings in source and make files and shell scripts
* checking for empty or unneeded directories
* looking to see if a 'data/datalist' file should be added
* building 'isobar_1.28.1.tar.gz'