| Back to Multiple platform build/check report for BioC 3.8 | 
 | 
This page was generated on 2019-04-16 11:57:15 -0400 (Tue, 16 Apr 2019).
| Package 782/1649 | Hostname | OS / Arch | INSTALL | BUILD | CHECK | BUILD BIN | ||||||
| interactiveDisplay 1.20.0 Shawn Balcome 
 | malbec1 | Linux (Ubuntu 16.04.6 LTS) / x86_64 | OK | OK | WARNINGS |  | ||||||
| merida1 | OS X 10.11.6 El Capitan / x86_64 | OK | OK | WARNINGS | [ OK ] |  | 
| Package: interactiveDisplay | 
| Version: 1.20.0 | 
| Command: rm -rf interactiveDisplay.buildbin-libdir && mkdir interactiveDisplay.buildbin-libdir && /Users/biocbuild/BBS/utils/build-universal.sh interactiveDisplay_1.20.0.tar.gz /Library/Frameworks/R.framework/Versions/Current/Resources/bin/R interactiveDisplay.buildbin-libdir | 
| StartedAt: 2019-04-16 04:14:58 -0400 (Tue, 16 Apr 2019) | 
| EndedAt: 2019-04-16 04:15:42 -0400 (Tue, 16 Apr 2019) | 
| EllapsedTime: 43.7 seconds | 
| RetCode: 0 | 
| Status: OK | 
| PackageFile: interactiveDisplay_1.20.0.tgz | 
| PackageFileSize: 2.489 MiB | 
############################################################################## ############################################################################## ### ### Running command: ### ### rm -rf interactiveDisplay.buildbin-libdir && mkdir interactiveDisplay.buildbin-libdir && /Users/biocbuild/BBS/utils/build-universal.sh interactiveDisplay_1.20.0.tar.gz /Library/Frameworks/R.framework/Versions/Current/Resources/bin/R interactiveDisplay.buildbin-libdir ### ############################################################################## ############################################################################## >>>>>>> >>>>>>> INSTALLATION WITH 'R CMD INSTALL --preclean --no-multiarch --library=interactiveDisplay.buildbin-libdir interactiveDisplay_1.20.0.tar.gz' >>>>>>> * installing *source* package ‘interactiveDisplay’ ... ** R ** data ** inst ** byte-compile and prepare package for lazy loading in method for ‘display’ with signature ‘object="GRanges"’: no definition for class “GRanges” in method for ‘display’ with signature ‘object="GRangesList"’: no definition for class “GRangesList” in method for ‘display’ with signature ‘object="RangedSummarizedExperiment"’: no definition for class “RangedSummarizedExperiment” in method for ‘display’ with signature ‘object="MRexperiment"’: no definition for class “MRexperiment” ** help *** installing help indices ** building package indices ** installing vignettes ** testing if installed package can be loaded * DONE (interactiveDisplay)