| Back to Multiple platform build/check report for BioC 3.8 | 
 | 
This page was generated on 2019-04-13 11:23:02 -0400 (Sat, 13 Apr 2019).
| Package 780/1649 | Hostname | OS / Arch | INSTALL | BUILD | CHECK | BUILD BIN | ||||||
| intansv 1.22.0 Wen Yao 
 | malbec1 | Linux (Ubuntu 16.04.6 LTS) / x86_64 | OK | OK | OK |  | ||||||
| tokay1 | Windows Server 2012 R2 Standard / x64 | OK | OK | OK | [ OK ] |  | ||||||
| merida1 | OS X 10.11.6 El Capitan / x86_64 | OK | OK | OK | OK |  | 
| Package: intansv | 
| Version: 1.22.0 | 
| Command: rm -rf intansv.buildbin-libdir && mkdir intansv.buildbin-libdir && C:\Users\biocbuild\bbs-3.8-bioc\R\bin\R.exe CMD INSTALL --merge-multiarch --build --library=intansv.buildbin-libdir intansv_1.22.0.tar.gz | 
| StartedAt: 2019-04-13 07:32:07 -0400 (Sat, 13 Apr 2019) | 
| EndedAt: 2019-04-13 07:33:03 -0400 (Sat, 13 Apr 2019) | 
| EllapsedTime: 56.0 seconds | 
| RetCode: 0 | 
| Status: OK | 
| PackageFile: intansv_1.22.0.zip | 
| PackageFileSize: 1.555 MiB | 
##############################################################################
##############################################################################
###
### Running command:
###
###   rm -rf intansv.buildbin-libdir && mkdir intansv.buildbin-libdir && C:\Users\biocbuild\bbs-3.8-bioc\R\bin\R.exe CMD INSTALL --merge-multiarch --build --library=intansv.buildbin-libdir intansv_1.22.0.tar.gz
###
##############################################################################
##############################################################################
install for i386
* installing *source* package 'intansv' ...
** R
** inst
** byte-compile and prepare package for lazy loading
** help
*** installing help indices
  converting help for package 'intansv'
    finding HTML links ... done
    methodsMerge                            html  
    plotChromosome                          html  
    plotRegion                              html  
    readBreakDancer                         html  
    readCnvnator                            html  
    readDelly                               html  
    readLumpy                               html  
    readPindel                              html  
    readSoftSearch                          html  
    readSvseq                               html  
    svAnnotation                            html  
** building package indices
** installing vignettes
** testing if installed package can be loaded
In R CMD INSTALL
install for x64
* installing *source* package 'intansv' ...
** testing if installed package can be loaded
* MD5 sums
packaged installation of 'intansv' as intansv_1.22.0.zip
* DONE (intansv)
In R CMD INSTALL
In R CMD INSTALL