| Back to Multiple platform build/check report for BioC 3.8 |
|
This page was generated on 2019-04-16 11:59:15 -0400 (Tue, 16 Apr 2019).
| Package 748/1649 | Hostname | OS / Arch | INSTALL | BUILD | CHECK | BUILD BIN | ||||||
| iCARE 1.10.3 Bill Wheeler
| malbec1 | Linux (Ubuntu 16.04.6 LTS) / x86_64 | OK | OK | OK | |||||||
| merida1 | OS X 10.11.6 El Capitan / x86_64 | OK | [ OK ] | OK | OK |
| Package: iCARE |
| Version: 1.10.3 |
| Command: /Library/Frameworks/R.framework/Versions/Current/Resources/bin/R CMD build --keep-empty-dirs --no-resave-data iCARE |
| StartedAt: 2019-04-15 20:40:36 -0400 (Mon, 15 Apr 2019) |
| EndedAt: 2019-04-15 20:42:03 -0400 (Mon, 15 Apr 2019) |
| EllapsedTime: 87.0 seconds |
| RetCode: 0 |
| Status: OK |
| PackageFile: iCARE_1.10.3.tar.gz |
| PackageFileSize: 453.4 KiB |
##############################################################################
##############################################################################
###
### Running command:
###
### /Library/Frameworks/R.framework/Versions/Current/Resources/bin/R CMD build --keep-empty-dirs --no-resave-data iCARE
###
##############################################################################
##############################################################################
* checking for file ‘iCARE/DESCRIPTION’ ... OK
* preparing ‘iCARE’:
* checking DESCRIPTION meta-information ... OK
* cleaning src
* installing the package to build vignettes
* creating vignettes ... OK
Warning: ‘inst/doc’ file
‘vignette_model_validation.R’
ignored as vignettes have been rebuilt.
Run R CMD build with --no-build-vignettes to prevent rebuilding.
* cleaning src
* checking for LF line-endings in source and make files and shell scripts
* checking for empty or unneeded directories
* looking to see if a ‘data/datalist’ file should be added
* building ‘iCARE_1.10.3.tar.gz’