| Back to Multiple platform build/check report for BioC 3.8 |
|
This page was generated on 2019-04-13 11:25:05 -0400 (Sat, 13 Apr 2019).
| Package 698/1649 | Hostname | OS / Arch | INSTALL | BUILD | CHECK | BUILD BIN | ||||||
| gtrellis 1.14.0 Zuguang Gu
| malbec1 | Linux (Ubuntu 16.04.6 LTS) / x86_64 | OK | OK | OK | |||||||
| tokay1 | Windows Server 2012 R2 Standard / x64 | OK | OK | WARNINGS | [ OK ] | |||||||
| merida1 | OS X 10.11.6 El Capitan / x86_64 | OK | OK | OK | OK |
| Package: gtrellis |
| Version: 1.14.0 |
| Command: rm -rf gtrellis.buildbin-libdir && mkdir gtrellis.buildbin-libdir && C:\Users\biocbuild\bbs-3.8-bioc\R\bin\R.exe CMD INSTALL --merge-multiarch --build --library=gtrellis.buildbin-libdir gtrellis_1.14.0.tar.gz |
| StartedAt: 2019-04-13 07:23:46 -0400 (Sat, 13 Apr 2019) |
| EndedAt: 2019-04-13 07:25:28 -0400 (Sat, 13 Apr 2019) |
| EllapsedTime: 102.0 seconds |
| RetCode: 0 |
| Status: OK |
| PackageFile: gtrellis_1.14.0.zip |
| PackageFileSize: 1.486 MiB |
##############################################################################
##############################################################################
###
### Running command:
###
### rm -rf gtrellis.buildbin-libdir && mkdir gtrellis.buildbin-libdir && C:\Users\biocbuild\bbs-3.8-bioc\R\bin\R.exe CMD INSTALL --merge-multiarch --build --library=gtrellis.buildbin-libdir gtrellis_1.14.0.tar.gz
###
##############################################################################
##############################################################################
install for i386
* installing *source* package 'gtrellis' ...
** R
** inst
** byte-compile and prepare package for lazy loading
** help
*** installing help indices
converting help for package 'gtrellis'
finding HTML links ... done
add_heatmap_track html
Rd warning: C:/Users/biocbuild/bbs-3.8-bioc/tmpdir/RtmpcP4Y4k/R.INSTALL44403f0568c0/gtrellis/man/add_heatmap_track.rd:14: file link 'GRanges' in package 'GenomicRanges' does not exist and so has been treated as a topic
add_ideogram_track html
add_lines_track html
Rd warning: C:/Users/biocbuild/bbs-3.8-bioc/tmpdir/RtmpcP4Y4k/R.INSTALL44403f0568c0/gtrellis/man/add_lines_track.rd:14: file link 'GRanges' in package 'GenomicRanges' does not exist and so has been treated as a topic
add_points_track html
Rd warning: C:/Users/biocbuild/bbs-3.8-bioc/tmpdir/RtmpcP4Y4k/R.INSTALL44403f0568c0/gtrellis/man/add_points_track.rd:14: file link 'GRanges' in package 'GenomicRanges' does not exist and so has been treated as a topic
add_rect_track html
Rd warning: C:/Users/biocbuild/bbs-3.8-bioc/tmpdir/RtmpcP4Y4k/R.INSTALL44403f0568c0/gtrellis/man/add_rect_track.rd:14: file link 'GRanges' in package 'GenomicRanges' does not exist and so has been treated as a topic
add_segments_track html
Rd warning: C:/Users/biocbuild/bbs-3.8-bioc/tmpdir/RtmpcP4Y4k/R.INSTALL44403f0568c0/gtrellis/man/add_segments_track.rd:14: file link 'GRanges' in package 'GenomicRanges' does not exist and so has been treated as a topic
add_track html
current_track html
get_cell_meta_data html
gtrellis_layout html
Rd warning: C:/Users/biocbuild/bbs-3.8-bioc/tmpdir/RtmpcP4Y4k/R.INSTALL44403f0568c0/gtrellis/man/gtrellis_layout.rd:44: file link 'I' in package 'base' does not exist and so has been treated as a topic
Rd warning: C:/Users/biocbuild/bbs-3.8-bioc/tmpdir/RtmpcP4Y4k/R.INSTALL44403f0568c0/gtrellis/man/gtrellis_layout.rd:57: file link 'grob' in package 'grid' does not exist and so has been treated as a topic
gtrellis_show_index html
** building package indices
** installing vignettes
** testing if installed package can be loaded
In R CMD INSTALL
install for x64
* installing *source* package 'gtrellis' ...
** testing if installed package can be loaded
* MD5 sums
packaged installation of 'gtrellis' as gtrellis_1.14.0.zip
* DONE (gtrellis)
In R CMD INSTALL
In R CMD INSTALL