| Back to Multiple platform build/check report for BioC 3.8 |
|
This page was generated on 2019-04-16 11:53:16 -0400 (Tue, 16 Apr 2019).
| Package 694/1649 | Hostname | OS / Arch | INSTALL | BUILD | CHECK | BUILD BIN | ||||||
| gsean 1.2.1 Dongmin Jung
| malbec1 | Linux (Ubuntu 16.04.6 LTS) / x86_64 | OK | OK | [ OK ] | |||||||
| merida1 | OS X 10.11.6 El Capitan / x86_64 | OK | OK | OK | OK |
| Package: gsean |
| Version: 1.2.1 |
| Command: /home/biocbuild/bbs-3.8-bioc/R/bin/R CMD check --install=check:gsean.install-out.txt --library=/home/biocbuild/bbs-3.8-bioc/R/library --no-vignettes --timings gsean_1.2.1.tar.gz |
| StartedAt: 2019-04-16 00:30:28 -0400 (Tue, 16 Apr 2019) |
| EndedAt: 2019-04-16 00:33:03 -0400 (Tue, 16 Apr 2019) |
| EllapsedTime: 155.7 seconds |
| RetCode: 0 |
| Status: OK |
| CheckDir: gsean.Rcheck |
| Warnings: 0 |
##############################################################################
##############################################################################
###
### Running command:
###
### /home/biocbuild/bbs-3.8-bioc/R/bin/R CMD check --install=check:gsean.install-out.txt --library=/home/biocbuild/bbs-3.8-bioc/R/library --no-vignettes --timings gsean_1.2.1.tar.gz
###
##############################################################################
##############################################################################
* using log directory ‘/home/biocbuild/bbs-3.8-bioc/meat/gsean.Rcheck’
* using R version 3.5.3 (2019-03-11)
* using platform: x86_64-pc-linux-gnu (64-bit)
* using session charset: UTF-8
* using option ‘--no-vignettes’
* checking for file ‘gsean/DESCRIPTION’ ... OK
* checking extension type ... Package
* this is package ‘gsean’ version ‘1.2.1’
* checking package namespace information ... OK
* checking package dependencies ... OK
* checking if this is a source package ... OK
* checking if there is a namespace ... OK
* checking for hidden files and directories ... OK
* checking for portable file names ... OK
* checking for sufficient/correct file permissions ... OK
* checking whether package ‘gsean’ can be installed ... OK
* checking installed package size ... OK
* checking package directory ... OK
* checking ‘build’ directory ... OK
* checking DESCRIPTION meta-information ... OK
* checking top-level files ... OK
* checking for left-over files ... OK
* checking index information ... OK
* checking package subdirectories ... OK
* checking R files for non-ASCII characters ... OK
* checking R files for syntax errors ... OK
* checking whether the package can be loaded ... OK
* checking whether the package can be loaded with stated dependencies ... OK
* checking whether the package can be unloaded cleanly ... OK
* checking whether the namespace can be loaded with stated dependencies ... OK
* checking whether the namespace can be unloaded cleanly ... OK
* checking dependencies in R code ... OK
* checking S3 generic/method consistency ... OK
* checking replacement functions ... OK
* checking foreign function calls ... OK
* checking R code for possible problems ... NOTE
centrality_gsea: no visible global function definition for ‘na.omit’
centrality_gsea: no visible global function definition for ‘quantile’
exprs2adj: no visible global function definition for ‘quantile’
label_prop_gsea: no visible global function definition for ‘na.omit’
Undefined global functions or variables:
na.omit quantile
Consider adding
importFrom("stats", "na.omit", "quantile")
to your NAMESPACE file.
* checking Rd files ... OK
* checking Rd metadata ... OK
* checking Rd cross-references ... OK
* checking for missing documentation entries ... OK
* checking for code/documentation mismatches ... OK
* checking Rd \usage sections ... OK
* checking Rd contents ... OK
* checking for unstated dependencies in examples ... OK
* checking contents of ‘data’ directory ... OK
* checking data for non-ASCII characters ... OK
* checking data for ASCII and uncompressed saves ... OK
* checking files in ‘vignettes’ ... OK
* checking examples ... OK
* checking for unstated dependencies in vignettes ... OK
* checking package vignettes in ‘inst/doc’ ... OK
* checking running R code from vignettes ... SKIPPED
* checking re-building of vignette outputs ... SKIPPED
* checking PDF version of manual ... OK
* DONE
Status: 1 NOTE
See
‘/home/biocbuild/bbs-3.8-bioc/meat/gsean.Rcheck/00check.log’
for details.
gsean.Rcheck/00install.out
############################################################################## ############################################################################## ### ### Running command: ### ### /home/biocbuild/bbs-3.8-bioc/R/bin/R CMD INSTALL gsean ### ############################################################################## ############################################################################## * installing to library ‘/home/biocbuild/bbs-3.8-bioc/R/library’ * installing *source* package ‘gsean’ ... ** R ** data ** byte-compile and prepare package for lazy loading ** help *** installing help indices ** building package indices ** installing vignettes ** testing if installed package can be loaded * DONE (gsean)
gsean.Rcheck/gsean-Ex.timings
| name | user | system | elapsed | |
| GO_dme | 0.240 | 0.004 | 0.247 | |
| KEGG_hsa | 0.016 | 0.000 | 0.020 | |
| centrality_gsea | 0.708 | 0.108 | 0.672 | |
| exprs2adj | 3.840 | 0.536 | 4.473 | |
| gsean | 0.476 | 0.008 | 0.250 | |
| label_prop_gsea | 0.836 | 0.004 | 0.598 | |