| Back to Multiple platform build/check report for BioC 3.8 |
|
This page was generated on 2019-04-16 11:49:33 -0400 (Tue, 16 Apr 2019).
| Package 675/1649 | Hostname | OS / Arch | INSTALL | BUILD | CHECK | BUILD BIN | ||||||
| gprege 1.26.0 Alfredo Kalaitzis
| malbec1 | Linux (Ubuntu 16.04.6 LTS) / x86_64 | OK | [ OK ] | OK | |||||||
| merida1 | OS X 10.11.6 El Capitan / x86_64 | OK | OK | OK | OK |
| Package: gprege |
| Version: 1.26.0 |
| Command: /home/biocbuild/bbs-3.8-bioc/R/bin/R CMD build --keep-empty-dirs --no-resave-data gprege |
| StartedAt: 2019-04-15 19:17:24 -0400 (Mon, 15 Apr 2019) |
| EndedAt: 2019-04-15 19:17:49 -0400 (Mon, 15 Apr 2019) |
| EllapsedTime: 24.8 seconds |
| RetCode: 0 |
| Status: OK |
| PackageFile: gprege_1.26.0.tar.gz |
| PackageFileSize: 3.203 MiB |
##############################################################################
##############################################################################
###
### Running command:
###
### /home/biocbuild/bbs-3.8-bioc/R/bin/R CMD build --keep-empty-dirs --no-resave-data gprege
###
##############################################################################
##############################################################################
* checking for file ‘gprege/DESCRIPTION’ ... OK
* preparing ‘gprege’:
* checking DESCRIPTION meta-information ... OK
* installing the package to build vignettes
* creating vignettes ... OK
Warning: ‘inst/doc’ file
‘gprege_quick.Rnw’
ignored as vignettes have been rebuilt.
Run R CMD build with --no-build-vignettes to prevent rebuilding.
* checking for LF line-endings in source and make files and shell scripts
* checking for empty or unneeded directories
* looking to see if a ‘data/datalist’ file should be added
* building ‘gprege_1.26.0.tar.gz’