| Back to Multiple platform build/check report for BioC 3.8 | 
 | 
This page was generated on 2019-04-16 11:48:54 -0400 (Tue, 16 Apr 2019).
| Package 666/1649 | Hostname | OS / Arch | INSTALL | BUILD | CHECK | BUILD BIN | ||||||
| goseq 1.34.1 Nadia Davidson 
 | malbec1 | Linux (Ubuntu 16.04.6 LTS) / x86_64 | OK | OK | [ OK ] |  | ||||||
| merida1 | OS X 10.11.6 El Capitan / x86_64 | OK | OK | OK | OK |  | 
| Package: goseq | 
| Version: 1.34.1 | 
| Command: /home/biocbuild/bbs-3.8-bioc/R/bin/R CMD check --install=check:goseq.install-out.txt --library=/home/biocbuild/bbs-3.8-bioc/R/library --no-vignettes --timings goseq_1.34.1.tar.gz | 
| StartedAt: 2019-04-16 00:21:59 -0400 (Tue, 16 Apr 2019) | 
| EndedAt: 2019-04-16 00:27:11 -0400 (Tue, 16 Apr 2019) | 
| EllapsedTime: 312.9 seconds | 
| RetCode: 0 | 
| Status: OK | 
| CheckDir: goseq.Rcheck | 
| Warnings: 0 | 
##############################################################################
##############################################################################
###
### Running command:
###
###   /home/biocbuild/bbs-3.8-bioc/R/bin/R CMD check --install=check:goseq.install-out.txt --library=/home/biocbuild/bbs-3.8-bioc/R/library --no-vignettes --timings goseq_1.34.1.tar.gz
###
##############################################################################
##############################################################################
* using log directory ‘/home/biocbuild/bbs-3.8-bioc/meat/goseq.Rcheck’
* using R version 3.5.3 (2019-03-11)
* using platform: x86_64-pc-linux-gnu (64-bit)
* using session charset: UTF-8
* using option ‘--no-vignettes’
* checking for file ‘goseq/DESCRIPTION’ ... OK
* this is package ‘goseq’ version ‘1.34.1’
* checking package namespace information ... OK
* checking package dependencies ... OK
* checking if this is a source package ... OK
* checking if there is a namespace ... OK
* checking for hidden files and directories ... OK
* checking for portable file names ... OK
* checking for sufficient/correct file permissions ... OK
* checking whether package ‘goseq’ can be installed ... OK
* checking installed package size ... OK
* checking package directory ... OK
* checking ‘build’ directory ... OK
* checking DESCRIPTION meta-information ... NOTE
Malformed Description field: should contain one or more complete sentences.
* checking top-level files ... OK
* checking for left-over files ... OK
* checking index information ... OK
* checking package subdirectories ... OK
* checking R files for non-ASCII characters ... OK
* checking R files for syntax errors ... OK
* checking whether the package can be loaded ... OK
* checking whether the package can be loaded with stated dependencies ... OK
* checking whether the package can be unloaded cleanly ... OK
* checking whether the namespace can be loaded with stated dependencies ... OK
* checking whether the namespace can be unloaded cleanly ... OK
* checking dependencies in R code ... NOTE
'library' or 'require' call to ‘rtracklayer’ in package code.
  Please use :: or requireNamespace() instead.
  See section 'Suggested packages' in the 'Writing R Extensions' manual.
* checking S3 generic/method consistency ... OK
* checking replacement functions ... OK
* checking foreign function calls ... OK
* checking R code for possible problems ... NOTE
getgo: no visible global function definition for ‘toTable’
getlength: no visible global function definition for
  ‘installed.packages’
getlength: no visible global function definition for ‘tail’
getlength: no visible global function definition for ‘toTable’
getlength: no visible global function definition for
  ‘transcriptLengths’
getlength: no visible global function definition for ‘browserSession’
getlength: no visible global function definition for ‘genome<-’
getlength: no visible global function definition for ‘ucscTableQuery’
getlength: no visible global function definition for ‘getTable’
makespline: no visible global function definition for ‘show’
supportedOrganisms: no visible global function definition for
  ‘ucscGenomes’
Undefined global functions or variables:
  browserSession genome<- getTable installed.packages show tail toTable
  transcriptLengths ucscGenomes ucscTableQuery
Consider adding
  importFrom("methods", "show")
  importFrom("utils", "installed.packages", "tail")
to your NAMESPACE file (and ensure that your DESCRIPTION Imports field
contains 'methods').
* checking Rd files ... OK
* checking Rd metadata ... OK
* checking Rd cross-references ... OK
* checking for missing documentation entries ... OK
* checking for code/documentation mismatches ... OK
* checking Rd \usage sections ... OK
* checking Rd contents ... OK
* checking for unstated dependencies in examples ... OK
* checking contents of ‘data’ directory ... OK
* checking data for non-ASCII characters ... OK
* checking data for ASCII and uncompressed saves ... OK
* checking files in ‘vignettes’ ... OK
* checking examples ... OK
Examples with CPU or elapsed time > 5s
            user system elapsed
goseq     47.152  0.428  47.722
getgo     16.924  0.544  17.504
nullp      8.304  0.152  10.203
getlength  6.900  0.232   8.644
plotPWF    6.904  0.164   7.112
* checking for unstated dependencies in vignettes ... OK
* checking package vignettes in ‘inst/doc’ ... OK
* checking running R code from vignettes ... SKIPPED
* checking re-building of vignette outputs ... SKIPPED
* checking PDF version of manual ... OK
* DONE
Status: 3 NOTEs
See
  ‘/home/biocbuild/bbs-3.8-bioc/meat/goseq.Rcheck/00check.log’
for details.
goseq.Rcheck/00install.out
############################################################################## ############################################################################## ### ### Running command: ### ### /home/biocbuild/bbs-3.8-bioc/R/bin/R CMD INSTALL goseq ### ############################################################################## ############################################################################## * installing to library ‘/home/biocbuild/bbs-3.8-bioc/R/library’ * installing *source* package ‘goseq’ ... ** R ** data ** inst ** byte-compile and prepare package for lazy loading ** help *** installing help indices ** building package indices ** installing vignettes ** testing if installed package can be loaded * DONE (goseq)
goseq.Rcheck/goseq-Ex.timings
| name | user | system | elapsed | |
| genes | 0.032 | 0.000 | 0.029 | |
| getgo | 16.924 | 0.544 | 17.504 | |
| getlength | 6.900 | 0.232 | 8.644 | |
| goseq | 47.152 | 0.428 | 47.722 | |
| makespline | 0.068 | 0.000 | 0.067 | |
| nullp | 8.304 | 0.152 | 10.203 | |
| plotPWF | 6.904 | 0.164 | 7.112 | |
| supportedOrganisms | 0.604 | 0.000 | 4.125 | |