| Back to Multiple platform build/check report for BioC 3.8 | 
 | 
This page was generated on 2019-04-13 11:19:10 -0400 (Sat, 13 Apr 2019).
| Package 603/1649 | Hostname | OS / Arch | INSTALL | BUILD | CHECK | BUILD BIN | ||||||
| geneplotter 1.60.0 Bioconductor Package Maintainer 
 | malbec1 | Linux (Ubuntu 16.04.6 LTS) / x86_64 | OK | OK | OK |  | ||||||
| tokay1 | Windows Server 2012 R2 Standard / x64 | OK | OK | OK | [ OK ] |  | ||||||
| merida1 | OS X 10.11.6 El Capitan / x86_64 | OK | OK | OK | OK |  | 
| Package: geneplotter | 
| Version: 1.60.0 | 
| Command: rm -rf geneplotter.buildbin-libdir && mkdir geneplotter.buildbin-libdir && C:\Users\biocbuild\bbs-3.8-bioc\R\bin\R.exe CMD INSTALL --merge-multiarch --build --library=geneplotter.buildbin-libdir geneplotter_1.60.0.tar.gz | 
| StartedAt: 2019-04-13 07:18:07 -0400 (Sat, 13 Apr 2019) | 
| EndedAt: 2019-04-13 07:18:24 -0400 (Sat, 13 Apr 2019) | 
| EllapsedTime: 16.9 seconds | 
| RetCode: 0 | 
| Status: OK | 
| PackageFile: geneplotter_1.60.0.zip | 
| PackageFileSize: 1.509 MiB | 
##############################################################################
##############################################################################
###
### Running command:
###
###   rm -rf geneplotter.buildbin-libdir && mkdir geneplotter.buildbin-libdir && C:\Users\biocbuild\bbs-3.8-bioc\R\bin\R.exe CMD INSTALL --merge-multiarch --build --library=geneplotter.buildbin-libdir geneplotter_1.60.0.tar.gz
###
##############################################################################
##############################################################################
install for i386
* installing *source* package 'geneplotter' ...
** R
** data
** inst
** byte-compile and prepare package for lazy loading
** help
*** installing help indices
  converting help for package 'geneplotter'
    finding HTML links ... done
    GetColor                                html  
    Makesense                               html  
    alongChrom                              html  
    amplicon.plot                           html  
    cColor                                  html  
    cPlot                                   html  
    cScale                                  html  
    eset133a                                html  
    groupedHeatmap                          html  
    histStack                               html  
    imageMap                                html  
    make.chromOrd                           html  
    multiecdf                               html  
    openHtmlPage                            html  
    plotChr                                 html  
    plotExpressionGraph                     html  
    plotMA                                  html  
    savepng                                 html  
** building package indices
** installing vignettes
** testing if installed package can be loaded
In R CMD INSTALL
install for x64
* installing *source* package 'geneplotter' ...
** testing if installed package can be loaded
* MD5 sums
packaged installation of 'geneplotter' as geneplotter_1.60.0.zip
* DONE (geneplotter)
In R CMD INSTALL
In R CMD INSTALL