| Back to Multiple platform build/check report for BioC 3.8 | 
 | 
This page was generated on 2019-04-16 12:00:11 -0400 (Tue, 16 Apr 2019).
| Package 576/1649 | Hostname | OS / Arch | INSTALL | BUILD | CHECK | BUILD BIN | ||||||
| gcapc 1.6.0 Mingxiang Teng 
 | malbec1 | Linux (Ubuntu 16.04.6 LTS) / x86_64 | OK | OK | OK |  | ||||||
| merida1 | OS X 10.11.6 El Capitan / x86_64 | OK | OK | OK | [ OK ] |  | 
| Package: gcapc | 
| Version: 1.6.0 | 
| Command: rm -rf gcapc.buildbin-libdir && mkdir gcapc.buildbin-libdir && /Users/biocbuild/BBS/utils/build-universal.sh gcapc_1.6.0.tar.gz /Library/Frameworks/R.framework/Versions/Current/Resources/bin/R gcapc.buildbin-libdir | 
| StartedAt: 2019-04-16 04:05:28 -0400 (Tue, 16 Apr 2019) | 
| EndedAt: 2019-04-16 04:06:12 -0400 (Tue, 16 Apr 2019) | 
| EllapsedTime: 44.2 seconds | 
| RetCode: 0 | 
| Status: OK | 
| PackageFile: gcapc_1.6.0.tgz | 
| PackageFileSize: 3.925 MiB | 
############################################################################## ############################################################################## ### ### Running command: ### ### rm -rf gcapc.buildbin-libdir && mkdir gcapc.buildbin-libdir && /Users/biocbuild/BBS/utils/build-universal.sh gcapc_1.6.0.tar.gz /Library/Frameworks/R.framework/Versions/Current/Resources/bin/R gcapc.buildbin-libdir ### ############################################################################## ############################################################################## >>>>>>> >>>>>>> INSTALLATION WITH 'R CMD INSTALL --preclean --no-multiarch --library=gcapc.buildbin-libdir gcapc_1.6.0.tar.gz' >>>>>>> * installing *source* package ‘gcapc’ ... ** R ** inst ** byte-compile and prepare package for lazy loading ** help *** installing help indices ** building package indices ** installing vignettes ** testing if installed package can be loaded * DONE (gcapc)