| Back to Multiple platform build/check report for BioC 3.8 |
|
This page was generated on 2019-04-16 11:54:28 -0400 (Tue, 16 Apr 2019).
| Package 569/1649 | Hostname | OS / Arch | INSTALL | BUILD | CHECK | BUILD BIN | ||||||
| gaggle 1.50.0 Christopher Bare
| malbec1 | Linux (Ubuntu 16.04.6 LTS) / x86_64 | OK | OK | OK | |||||||
| merida1 | OS X 10.11.6 El Capitan / x86_64 | [ OK ] | OK | OK | OK |
| Package: gaggle |
| Version: 1.50.0 |
| Command: /Library/Frameworks/R.framework/Versions/Current/Resources/bin/R CMD INSTALL gaggle |
| StartedAt: 2019-04-15 18:05:54 -0400 (Mon, 15 Apr 2019) |
| EndedAt: 2019-04-15 18:06:27 -0400 (Mon, 15 Apr 2019) |
| EllapsedTime: 33.2 seconds |
| RetCode: 0 |
| Status: OK |
##############################################################################
##############################################################################
###
### Running command:
###
### /Library/Frameworks/R.framework/Versions/Current/Resources/bin/R CMD INSTALL gaggle
###
##############################################################################
##############################################################################
* installing to library ‘/Library/Frameworks/R.framework/Versions/3.5/Resources/library’
* installing *source* package ‘gaggle’ ...
** R
** inst
** byte-compile and prepare package for lazy loading
** help
*** installing help indices
** building package indices
** installing vignettes
** testing if installed package can be loaded
onLoad -- libname: /Library/Frameworks/R.framework/Versions/3.5/Resources/library pkgname: gaggle
path to jar: /Library/Frameworks/R.framework/Versions/3.5/Resources/library/gaggle/jars/gaggleRShell.jar
script: gaggle.R $Revision: 4499 $ $Date: 2010-08-10 17:15:03 -0700 (Tue, 10 Aug 2010) $
os version: Mac OS X
jvm version: 1.8.0_111
You are using the wrong version of Java.
Please see http://gaggle.systemsbiology.org/docs/html/java
* DONE (gaggle)