| Back to Multiple platform build/check report for BioC 3.8 | 
 | 
This page was generated on 2019-04-16 11:58:13 -0400 (Tue, 16 Apr 2019).
| Package 677/1649 | Hostname | OS / Arch | INSTALL | BUILD | CHECK | BUILD BIN | ||||||
| gQTLstats 1.14.1 VJ Carey 
 | malbec1 | Linux (Ubuntu 16.04.6 LTS) / x86_64 | OK | OK | OK |  | ||||||
| merida1 | OS X 10.11.6 El Capitan / x86_64 | OK | OK | OK | [ OK ] |  | 
| Package: gQTLstats | 
| Version: 1.14.1 | 
| Command: rm -rf gQTLstats.buildbin-libdir && mkdir gQTLstats.buildbin-libdir && /Users/biocbuild/BBS/utils/build-universal.sh gQTLstats_1.14.1.tar.gz /Library/Frameworks/R.framework/Versions/Current/Resources/bin/R gQTLstats.buildbin-libdir | 
| StartedAt: 2019-04-16 04:10:07 -0400 (Tue, 16 Apr 2019) | 
| EndedAt: 2019-04-16 04:10:45 -0400 (Tue, 16 Apr 2019) | 
| EllapsedTime: 38.4 seconds | 
| RetCode: 0 | 
| Status: OK | 
| PackageFile: gQTLstats_1.14.1.tgz | 
| PackageFileSize: 63.98 MiB | 
############################################################################## ############################################################################## ### ### Running command: ### ### rm -rf gQTLstats.buildbin-libdir && mkdir gQTLstats.buildbin-libdir && /Users/biocbuild/BBS/utils/build-universal.sh gQTLstats_1.14.1.tar.gz /Library/Frameworks/R.framework/Versions/Current/Resources/bin/R gQTLstats.buildbin-libdir ### ############################################################################## ############################################################################## >>>>>>> >>>>>>> INSTALLATION WITH 'R CMD INSTALL --preclean --no-multiarch --library=gQTLstats.buildbin-libdir gQTLstats_1.14.1.tar.gz' >>>>>>> * installing *source* package ‘gQTLstats’ ... ** R ** data ** inst ** byte-compile and prepare package for lazy loading ** help *** installing help indices ** building package indices ** installing vignettes ** testing if installed package can be loaded * DONE (gQTLstats)