| Back to Multiple platform build/check report for BioC 3.8 |
|
This page was generated on 2019-04-13 11:27:04 -0400 (Sat, 13 Apr 2019).
| Package 580/1649 | Hostname | OS / Arch | INSTALL | BUILD | CHECK | BUILD BIN | ||||||
| gCrisprTools 1.10.1 Peter Haverty
| malbec1 | Linux (Ubuntu 16.04.6 LTS) / x86_64 | OK | OK | OK | |||||||
| tokay1 | Windows Server 2012 R2 Standard / x64 | OK | OK | WARNINGS | [ OK ] | |||||||
| merida1 | OS X 10.11.6 El Capitan / x86_64 | OK | OK | OK | OK |
| Package: gCrisprTools |
| Version: 1.10.1 |
| Command: rm -rf gCrisprTools.buildbin-libdir && mkdir gCrisprTools.buildbin-libdir && C:\Users\biocbuild\bbs-3.8-bioc\R\bin\R.exe CMD INSTALL --merge-multiarch --build --library=gCrisprTools.buildbin-libdir gCrisprTools_1.10.1.tar.gz |
| StartedAt: 2019-04-13 07:17:20 -0400 (Sat, 13 Apr 2019) |
| EndedAt: 2019-04-13 07:17:52 -0400 (Sat, 13 Apr 2019) |
| EllapsedTime: 32.2 seconds |
| RetCode: 0 |
| Status: OK |
| PackageFile: gCrisprTools_1.10.1.zip |
| PackageFileSize: 8.098 MiB |
##############################################################################
##############################################################################
###
### Running command:
###
### rm -rf gCrisprTools.buildbin-libdir && mkdir gCrisprTools.buildbin-libdir && C:\Users\biocbuild\bbs-3.8-bioc\R\bin\R.exe CMD INSTALL --merge-multiarch --build --library=gCrisprTools.buildbin-libdir gCrisprTools_1.10.1.tar.gz
###
##############################################################################
##############################################################################
install for i386
* installing *source* package 'gCrisprTools' ...
** R
** data
** inst
** byte-compile and prepare package for lazy loading
** help
*** installing help indices
converting help for package 'gCrisprTools'
finding HTML links ... done
aln html
ann html
appendDateAndExt html
ct.DirectionalTests html
ct.GCbias html
ct.PRC html
ct.PantherPathwayEnrichment html
ct.ROC html
ct.RRAaPvals html
ct.RRAalpha html
ct.RRAalphaBatch html
ct.alignmentChart html
ct.alphaBeta html
ct.applyAlpha html
ct.drawColorLegend html
ct.drawFlat html
ct.ecdf html
ct.exprsColor html
ct.filterReads html
ct.gRNARankByReplicate html
ct.generateResults html
ct.getPanther html
Rd warning: C:/Users/biocbuild/bbs-3.8-bioc/tmpdir/Rtmpm2V6tp/R.INSTALL2bdc6f0b7d64/gCrisprTools/man/ct.getPanther.Rd:16: file link 'PANTHER.db' in package 'PANTHER.db' does not exist and so has been treated as a topic
ct.guideCDF html
ct.inputCheck html
ct.makeContrastReport html
ct.makeQCReport html
ct.makeReport html
ct.makeRhoNull html
ct.normalizeBySlope html
ct.normalizeGuides html
ct.normalizeMedians html
ct.normalizeNTC html
ct.normalizeSpline html
ct.numcores html
ct.prepareAnnotation html
ct.preprocessFit html
ct.rawCountDensities html
ct.resultCheck html
ct.stackGuides html
ct.targetSetEnrichment html
ct.topTargets html
ct.viewControls html
ct.viewGuides html
dir.writable html
es html
essential.genes html
fit html
gCrisprTools-package html
initOutDir html
renderReport html
resultsDF html
** building package indices
** installing vignettes
** testing if installed package can be loaded
In R CMD INSTALL
install for x64
* installing *source* package 'gCrisprTools' ...
** testing if installed package can be loaded
* MD5 sums
packaged installation of 'gCrisprTools' as gCrisprTools_1.10.1.zip
* DONE (gCrisprTools)
In R CMD INSTALL
In R CMD INSTALL