| Back to Multiple platform build/check report for BioC 3.8 | 
 | 
This page was generated on 2019-04-16 11:55:09 -0400 (Tue, 16 Apr 2019).
| Package 561/1649 | Hostname | OS / Arch | INSTALL | BUILD | CHECK | BUILD BIN | ||||||
| frmaTools 1.34.0 Matthew N. McCall 
 | malbec1 | Linux (Ubuntu 16.04.6 LTS) / x86_64 | OK | OK | OK |  | ||||||
| merida1 | OS X 10.11.6 El Capitan / x86_64 | OK | OK | OK | [ OK ] |  | 
| Package: frmaTools | 
| Version: 1.34.0 | 
| Command: rm -rf frmaTools.buildbin-libdir && mkdir frmaTools.buildbin-libdir && /Users/biocbuild/BBS/utils/build-universal.sh frmaTools_1.34.0.tar.gz /Library/Frameworks/R.framework/Versions/Current/Resources/bin/R frmaTools.buildbin-libdir | 
| StartedAt: 2019-04-16 04:04:46 -0400 (Tue, 16 Apr 2019) | 
| EndedAt: 2019-04-16 04:05:28 -0400 (Tue, 16 Apr 2019) | 
| EllapsedTime: 42.1 seconds | 
| RetCode: 0 | 
| Status: OK | 
| PackageFile: frmaTools_1.34.0.tgz | 
| PackageFileSize: 129.1 KiB | 
############################################################################## ############################################################################## ### ### Running command: ### ### rm -rf frmaTools.buildbin-libdir && mkdir frmaTools.buildbin-libdir && /Users/biocbuild/BBS/utils/build-universal.sh frmaTools_1.34.0.tar.gz /Library/Frameworks/R.framework/Versions/Current/Resources/bin/R frmaTools.buildbin-libdir ### ############################################################################## ############################################################################## >>>>>>> >>>>>>> INSTALLATION WITH 'R CMD INSTALL --preclean --no-multiarch --library=frmaTools.buildbin-libdir frmaTools_1.34.0.tar.gz' >>>>>>> * installing *source* package ‘frmaTools’ ... ** R ** inst ** byte-compile and prepare package for lazy loading ** help *** installing help indices ** building package indices ** installing vignettes ** testing if installed package can be loaded * DONE (frmaTools)