| Back to Multiple platform build/check report for BioC 3.8 | 
 | 
This page was generated on 2019-04-16 11:57:45 -0400 (Tue, 16 Apr 2019).
| Package 533/1649 | Hostname | OS / Arch | INSTALL | BUILD | CHECK | BUILD BIN | ||||||
| flowDensity 1.16.1 Mehrnoush Malek 
 | malbec1 | Linux (Ubuntu 16.04.6 LTS) / x86_64 | OK | OK | WARNINGS |  | ||||||
| merida1 | OS X 10.11.6 El Capitan / x86_64 | OK | OK | WARNINGS | [ OK ] |  | 
| Package: flowDensity | 
| Version: 1.16.1 | 
| Command: rm -rf flowDensity.buildbin-libdir && mkdir flowDensity.buildbin-libdir && /Users/biocbuild/BBS/utils/build-universal.sh flowDensity_1.16.1.tar.gz /Library/Frameworks/R.framework/Versions/Current/Resources/bin/R flowDensity.buildbin-libdir | 
| StartedAt: 2019-04-16 04:03:22 -0400 (Tue, 16 Apr 2019) | 
| EndedAt: 2019-04-16 04:03:59 -0400 (Tue, 16 Apr 2019) | 
| EllapsedTime: 37.1 seconds | 
| RetCode: 0 | 
| Status: OK | 
| PackageFile: flowDensity_1.16.1.tgz | 
| PackageFileSize: 7.198 MiB | 
############################################################################## ############################################################################## ### ### Running command: ### ### rm -rf flowDensity.buildbin-libdir && mkdir flowDensity.buildbin-libdir && /Users/biocbuild/BBS/utils/build-universal.sh flowDensity_1.16.1.tar.gz /Library/Frameworks/R.framework/Versions/Current/Resources/bin/R flowDensity.buildbin-libdir ### ############################################################################## ############################################################################## >>>>>>> >>>>>>> INSTALLATION WITH 'R CMD INSTALL --preclean --no-multiarch --library=flowDensity.buildbin-libdir flowDensity_1.16.1.tar.gz' >>>>>>> * installing *source* package ‘flowDensity’ ... ** R ** inst ** byte-compile and prepare package for lazy loading Warning: replacing previous import ‘flowCore::plot’ by ‘graphics::plot’ when loading ‘flowDensity’ ** help *** installing help indices ** building package indices ** installing vignettes ** testing if installed package can be loaded Warning: replacing previous import ‘flowCore::plot’ by ‘graphics::plot’ when loading ‘flowDensity’ * DONE (flowDensity)