| Back to Multiple platform build/check report for BioC 3.8 |
|
This page was generated on 2019-04-13 11:20:39 -0400 (Sat, 13 Apr 2019).
| Package 530/1649 | Hostname | OS / Arch | INSTALL | BUILD | CHECK | BUILD BIN | ||||||
| flowClust 3.20.1 Greg Finak
| malbec1 | Linux (Ubuntu 16.04.6 LTS) / x86_64 | OK | OK | OK | |||||||
| tokay1 | Windows Server 2012 R2 Standard / x64 | OK | [ OK ] | WARNINGS | OK | |||||||
| merida1 | OS X 10.11.6 El Capitan / x86_64 | OK | OK | WARNINGS | OK |
| Package: flowClust |
| Version: 3.20.1 |
| Command: chmod a+r flowClust -R && C:\Users\biocbuild\bbs-3.8-bioc\R\bin\R.exe CMD build --keep-empty-dirs --no-resave-data flowClust |
| StartedAt: 2019-04-12 20:57:54 -0400 (Fri, 12 Apr 2019) |
| EndedAt: 2019-04-12 20:58:22 -0400 (Fri, 12 Apr 2019) |
| EllapsedTime: 27.7 seconds |
| RetCode: 0 |
| Status: OK |
| PackageFile: flowClust_3.20.1.tar.gz |
| PackageFileSize: 1.785 MiB |
############################################################################## ############################################################################## ### ### Running command: ### ### chmod a+r flowClust -R && C:\Users\biocbuild\bbs-3.8-bioc\R\bin\R.exe CMD build --keep-empty-dirs --no-resave-data flowClust ### ############################################################################## ############################################################################## * checking for file 'flowClust/DESCRIPTION' ... OK * preparing 'flowClust': * checking DESCRIPTION meta-information ... OK * cleaning src * installing the package to build vignettes * creating vignettes ... OK * cleaning src * checking for LF line-endings in source and make files and shell scripts * checking for empty or unneeded directories * looking to see if a 'data/datalist' file should be added * building 'flowClust_3.20.1.tar.gz' Warning: file 'flowClust/cleanup' did not have execute permissions: corrected Warning: file 'flowClust/configure' did not have execute permissions: corrected