| Back to Multiple platform build/check report for BioC 3.8 |
|
This page was generated on 2019-04-16 11:58:07 -0400 (Tue, 16 Apr 2019).
| Package 502/1649 | Hostname | OS / Arch | INSTALL | BUILD | CHECK | BUILD BIN | ||||||
David Mosen-Ansorena
| malbec1 | Linux (Ubuntu 16.04.6 LTS) / x86_64 | ERROR | ERROR | skipped | |||||||
| merida1 | OS X 10.11.6 El Capitan / x86_64 | ERROR | [ ERROR ] | skipped | skipped |
| Package: facopy |
| Version: 1.16.0 |
| Command: /Library/Frameworks/R.framework/Versions/Current/Resources/bin/R CMD build --keep-empty-dirs --no-resave-data facopy |
| StartedAt: 2019-04-15 20:12:38 -0400 (Mon, 15 Apr 2019) |
| EndedAt: 2019-04-15 20:12:58 -0400 (Mon, 15 Apr 2019) |
| EllapsedTime: 20.3 seconds |
| RetCode: 1 |
| Status: ERROR |
| PackageFile: None |
| PackageFileSize: NA |
##############################################################################
##############################################################################
###
### Running command:
###
### /Library/Frameworks/R.framework/Versions/Current/Resources/bin/R CMD build --keep-empty-dirs --no-resave-data facopy
###
##############################################################################
##############################################################################
* checking for file ‘facopy/DESCRIPTION’ ... OK
* preparing ‘facopy’:
* checking DESCRIPTION meta-information ... OK
* installing the package to build vignettes
-----------------------------------
* installing *source* package ‘facopy’ ...
** R
** data
** inst
** byte-compile and prepare package for lazy loading
Error : object ‘setting.graph.attributes’ is not exported by 'namespace:DOSE'
ERROR: lazy loading failed for package ‘facopy’
* removing ‘/private/tmp/Rtmpef1alG/Rinstf2235705291/facopy’
-----------------------------------
ERROR: package installation failed